{"text_format":"1","workbook":"xlsx","n_sheets":9,"sheets":["キャラメイク","特技シート","キャラクターシート","アタッチメント管理","物理攻撃系奥義","魔法攻撃系奥義","回復・補助系奥義","ブランクキャラクターシート","ブランク特技シート"],"not_rendered":{"charts":0,"images":3,"macros":1,"external_links":0,"defined_names":4,"comments":2,"pivot_tables":0},"unopened":[],"bounds":{"document_bytes":16777216,"sheet_cells":100000,"rows_first":2000,"rows_last":500,"rows_between":2000,"halvings":0,"cell_chars":16384,"cell_head_chars":4096},"cells_cut":0,"cells_raw":0,"read":"whole","date_system":"1900"}

{"sheet":"キャラメイク","index":0,"n_rows":84,"n_cols":46,"rows_kept":84,"cut":false,"hidden":false,"merged":[[22,0,22,1],[81,7,81,10],[82,7,82,10],[83,7,83,10],[64,7,64,10],[65,7,65,10],[66,7,66,10],[67,7,67,10],[68,7,68,10],[69,7,69,10],[70,7,70,10],[71,7,71,10],[72,7,72,10],[73,7,73,10],[74,7,74,10],[75,7,75,10],[76,7,76,10],[77,7,77,10],[78,7,78,10],[79,7,79,10],[80,7,80,10],[68,5,68,6],[64,2,64,3],[65,2,65,3],[66,2,66,3],[67,2,67,3],[64,5,64,6],[76,13,76,20],[77,13,77,20],[78,13,78,20],[71,13,71,20],[72,13,72,20],[73,13,73,20],[74,13,74,20],[75,13,75,20],[66,13,66,20],[67,13,67,20],[68,13,68,20],[69,13,69,20],[70,13,70,20],[60,13,60,20],[61,13,61,20],[63,13,63,20],[64,13,64,20],[65,13,65,20],[55,13,55,20],[56,13,56,20],[57,13,57,20],[58,13,58,20],[59,13,59,20],[50,13,50,20],[51,13,51,20],[52,13,52,20],[53,13,53,20],[54,13,54,20],[44,13,44,18],[46,13,46,20],[47,13,47,20],[48,13,48,20],[49,13,49,20],[1,38,1,40],[28,17,28,19],[29,17,29,19],[30,17,30,19],[39,13,39,18],[40,13,40,18],[41,13,41,18],[42,13,42,18],[43,13,43,18],[35,13,35,18],[36,13,36,18],[37,13,37,18],[38,13,38,18],[1,20,1,26],[2,27,12,27],[24,26,25,26],[1,14,1,19],[6,14,6,16],[6,17,6,19],[13,20,13,25],[24,21,25,21],[24,22,25,22],[24,23,25,23],[2,20,11,26],[2,14,2,19],[3,14,3,19],[4,14,4,16],[5,14,5,16],[4,17,4,19],[5,17,5,19],[24,24,25,24],[32,0,34,0],[28,0,31,0],[24,14,25,14],[32,2,32,11],[33,2,33,11],[34,2,34,11],[27,2,27,11],[28,2,28,11],[29,2,29,11],[30,2,30,11],[31,2,31,11],[27,13,27,16],[28,13,28,15],[29,13,29,15],[14,6,14,8],[15,6,15,8],[16,6,16,8],[24,25,25,25],[31,22,31,23],[32,22,32,23],[33,22,33,23],[29,22,29,23],[30,22,30,23],[31,17,31,18],[32,17,32,18],[33,17,33,18],[27,17,27,20],[17,6,17,8],[18,6,18,8],[21,6,21,8],[23,6,23,8],[24,20,25,20],[24,17,25,17],[24,18,25,18],[24,19,25,19],[24,15,25,15],[19,6,19,8],[20,6,20,8],[22,6,22,8],[24,5,25,8],[24,16,25,16],[38,1,38,11],[39,1,39,11],[40,1,40,11],[41,1,41,11],[42,1,42,11],[43,1,43,11],[55,1,55,11],[56,1,56,11],[57,1,57,11],[58,1,58,11],[59,1,59,11],[60,1,60,11],[61,1,61,11],[44,1,44,11],[45,1,45,11],[46,1,46,11],[47,1,47,11],[48,1,48,11],[51,1,51,11],[52,1,52,11],[53,1,53,11],[54,1,54,11]]}
[null,null,null,null,null,null,null,null,null,null,null,null,null,null,null,null,null,null,null,null,null,null,null,null,null,null,null,null,null,"クラスデータ",null,null,null,null,null,null,null,null,null,null,null,null,"有利な特異点リスト"]
["キャラクター名","所長",null,null,null,null,"体力","敏捷","感覚","知力","意志",null,null,null,"どどんとふ連携",null,null,null,null,null,"その他欄自動入力枠",null,null,null,null,null,null,"その他欄自由入力枠",null,"クラス","種族","体力","敏捷","感覚","知力","意志","有利な特異点","不利な特異点","ボーナス特技",null,null,null,"名称","効果",null,"武器種"]
["プレイヤー名",null,null,null,null,"初期能力値",{"$f":"IF($B$5=\"\",0,VLOOKUP($B$5,$AD$3:$AJ$46,3,FALSE))","v":7},{"$f":"IF($B$5=\"\",0,VLOOKUP($B$5,$AD$3:$AJ$46,4,FALSE))","v":13},{"$f":"IF($B$5=\"\",0,VLOOKUP($B$5,$AD$3:$AJ$46,5,FALSE))","v":12},{"$f":"IF($B$5=\"\",0,VLOOKUP($B$5,$AD$3:$AJ$46,6,FALSE))","v":10},{"$f":"IF($B$5=\"\",0,VLOOKUP($B$5,$AD$3:$AJ$46,7,FALSE))","v":8},"残り",null,null,"どどんとふURL",null,null,null,null,null,{"$f":"\"キャラクター名：\"&B2&CHAR(10)&\"体力：\"&G6&\" 敏捷：\"&H6&\" 感覚：\"&I6&\" 知力：\"&J6&\" 意志：\"&K6&CHAR(10)&\"ドッジ：\"&O25&\" パリイ：\"&P25&\" シールド：\"&Q25&\" 抵抗：\"&R25&CHAR(10)&\"防護点/打撃：\"&U25&\"/斬撃：\"&V25&\"/刺突：\"&W25&\"/火炎：\"&X25&\"/冷気：\"&Y25&\"/電撃：\"&Z25","v":"キャラクター名：所長\n体力：10 敏捷：15 感覚：15 知力：10 意志：10\nドッジ：15 パリイ：13 シールド：- 抵抗：10\n防護点/打撃：13/斬撃：11/刺突：9/火炎：11/冷気：11/電撃：8"},null,null,null,null,null,null,null,null,"ウォリアー","人間",10,10,10,10,10,"-","-","武器修練：○○","パリイ","-",null,"真実を知る者","ﾓﾝｽﾀｰ情報の検索などを行える。特異点2枠分。",null,"ナイフ"]
[null,null,null,null,null,"ボーナスポイント",3,2,3,0,2,{"$f":"10-SUM($G$4:$K$4)","v":0},null,null,null,null,null,null,null,null,null,null,null,null,null,null,null,null,null,"ガーディアン","人間",10,10,10,10,10,"-","-","パリイ","シールド","-",null,"真実を追う者","ﾓﾝｽﾀｰ情報の検索可。特技【ﾊｯｷﾝｸﾞ】習得可。",null,"剣"]
["メインクラス","アルテミス","Lv",8,null,"その他",null,null,null,null,null,null,null,null,"RoomNo.",null,null,null,null,null,null,null,null,null,null,null,null,null,null,"ローグ","人間",10,10,10,10,10,"-","-","ドッジ","盗賊の心得","-",null,"人たらし","交渉を行う際の[意志]判定+3。重複可。",null,"槍"]
["サブクラス",null,"Lv",null,null,"合計",{"$f":"SUM(G3:G5)","v":10},{"$f":"SUM(H3:H5)","v":15},{"$f":"SUM(I3:I5)","v":15},{"$f":"SUM(J3:J5)","v":10},{"$f":"SUM(K3:K5)","v":10},null,null,null,"パスワード",null,null,null,null,null,null,null,null,null,null,null,null,null,null,"ハンター","人間",10,10,10,10,10,"-","-","野伏の歩み","盗賊の心得","-",null,"お金持ち","ｷｬﾗ作成時、追加で「3000+CLx1000」GP獲得。CL上昇時、1000GP獲得。",null,"斧"]
["マスタークラス",null,"Lv",null,null,null,null,null,null,null,null,null,null,null,"コマ名称",null,null,null,null,null,null,null,null,null,null,null,null,null,null,"ソーサルギア","人間",10,10,10,10,10,"-","-","魔法修練","魔導工学のススメ","-",null,"猫の目","僅かな明かりでも不自由なく行動可能。",null,"鈍器"]
[null,null,"CL",{"$f":"SUM(D5:D7)","v":8},null,null,null,null,null,null,null,null,null,null,false,null,null,false,null,null,null,null,null,null,null,null,null,null,null,"ドライブギア","人間",10,10,10,10,10,"-","-","バイタリティ","スタミナ","-",null,"背中の目","後方での出来事に気づき、不意打ちも受けない。",null,"鞭"]
[null,null,null,null,null,null,"HP","FP","命中","回避","抵抗","移動","先制",null,false,null,null,null,null,null,null,null,null,null,null,null,null,null,null,"サスライ","人間",10,10,10,10,10,"-","-","ドッジ","パリイ","-",null,"鷹の目","視覚に関する[感覚]判定+4。重複可。",null,"弓"]
["種族",{"$f":"IF($B$5=\"\",\"\",VLOOKUP($B$5,AD3:AJ46,2,FALSE))","v":"亜人"},null,null,null,"副能力値",{"$f":"($G$6+$K$6+$D$8)*2","v":56},{"$f":"$G$6+$D$8","v":18},{"$f":"$H$6","v":15},{"$f":"$I$6","v":15},{"$f":"$K$6","v":10},{"$f":"$H$6-5","v":10},{"$f":"$I$6","v":15},null,null,null,null,null,null,null,null,null,null,null,null,null,null,null,null,"ニンジャ","人間",10,10,10,10,10,"-","-","野伏の歩み","盗賊の心得","-",null,"狐の耳","聴覚に関する[感覚]判定+4。重複可。",null,"格闘"]
["性別","♀（？）",null,null,null,"特技",{"$f":"特技シート!AK70","v":0},{"$f":"特技シート!AL70","v":4},{"$f":"特技シート!AM70","v":0},{"$f":"特技シート!AN70","v":0},{"$f":"特技シート!AO70","v":0},{"$f":"特技シート!AP70","v":0},{"$f":"特技シート!AQ70","v":0},null,null,null,null,null,null,null,null,null,null,null,null,null,null,null,null,"タオシー","人間",10,10,10,10,10,"-","-","賢人の知恵","詩人の交渉術","-",null,"犬の鼻","味覚・嗅覚に関する[感覚]判定+4。重複可。",null,"刀"]
[null,null,null,null,null,"その他",null,null,null,null,null,null,null,null,null,null,null,null,null,null,null,null,null,null,null,null,null,null,null,"アカシャアーツ","人間",10,10,10,10,10,"-","-","バイタリティ","スタミナ","-",null,"肉の鎧","全ての防護点+2。重複可。",null,"銃"]
["GP",13100,null,null,null,"合計",{"$f":"SUM(G10:G12)","v":56},22,15,15,10,{"$f":"IF(SUM(L10:L12)<0,0,SUM(L10:L12))","v":10},15,null,null,null,null,null,null,null,null,null,null,null,null,null,null,null,null,"ケイヴウォーカー","人間",10,10,10,10,10,"-","-","スタミナ","魔導工学のススメ","-",null,"軟体動物","登攀や縄抜けなどの[敏捷]判定+4。投げ・落下ﾀﾞﾒｰｼﾞ半減。"]
["ｱﾀｯﾁﾒﾝﾄ割引券",null,null,null,null,null,null,null,null,null,null,null,null,null,null,null,null,null,null,null,"防護点",null,null,null,null,null,null,null,null,"カラクリギア","人間",10,10,10,10,10,"-","-","魔導工学のススメ","魔導工学のススメ","-",null,"ビビッド反射","[回避]+1。重複可。"]
[null,null,null,null,null,"装備","名称",null,null,"必体","攻撃","属性","射程","命中","ﾄﾞｯｼﾞ","ﾊﾟﾘｲ","ｼｰﾙﾄﾞ","抵抗","移動","先制","打撃","斬撃","刺突","火炎","冷気","電撃","Ft","備考",null,"アルケミスト","人間",10,10,10,10,10,"-","-","賢人の知恵","賢人の知恵","-",null,"ミヤモトスタイル","両手利き。利き腕以外でも武器使用可能。"]
[null,null,null,null,null,"副能力値",null,null,null,{"$f":"$G$6","v":10},{"$f":"$G$6","v":10},null,null,{"$f":"$I$13","v":15},{"$f":"$J$13","v":15},{"$f":"$J$13","v":15},15,{"$f":"$K$13","v":10},{"$f":"$L$13","v":10},{"$f":"$M$13","v":15},null,null,null,null,null,null,{"$f":"IF(D8<50,INT(D8/5)+1,10)","v":2},null,null,"デスペラード","人間",10,10,10,10,10,"-","-","ドッジ","魔導工学のススメ",null,null,"虫の知らせ","危機が迫った際、GMは「嫌な予感がする」と告げる。"]
[null,null,null,null,null,"武器","アルテミスショット",null,null,null,5,"打刺",20,2,null,-2,null,null,null,null,null,null,null,null,null,null,null,null,null,"パティシエ","人間",10,10,10,10,10,"-","-","魔法の料理人","魔法の料理人","-",null,"非凡な直感","複数の選択肢から正解を知る。CT:ｼﾅﾘｵ。重複可。"]
[null,null,null,null,null,"盾",null,null,null,null,null,null,null,null,null,null,null,null,null,null,null,null,null,null,null,null,null,null,null,"マーチャント","人間",10,10,10,10,10,"-","-","武器防具職人","装飾品職人","アタッチメント職人",null,"自然と生きる","動物・昆虫・植物などの関わる[知力]判定+4。"]
[null,null,null,null,null,"鎧","ヘビーレザーアーマー",null,null,10,null,null,null,null,null,null,null,null,null,null,8,6,4,6,6,6,null,null,null,"ドラコニアン","亜人",12,9,10,12,12,"灼熱の鱗","排他主義","-","-","-",null,"天体時計","屋外で正確な時間と方角を知り、道に迷わない。"]
[null,null,null,null,null,"装飾品1",null,null,null,null,null,null,null,null,null,null,null,null,null,null,null,null,null,null,null,null,null,null,null,"リザード","亜人",12,10,9,8,11,"水中行動","冷血動物","武器修練：○○","バイタリティ","-",null,"精緻な記憶","GMに対して今までの出来事を問うことができる。"]
[null,null,null,null,null,"装飾品2",null,null,null,null,null,null,null,null,null,null,null,null,null,null,null,null,null,null,null,null,null,null,null,"ワイズマン","亜人",10,8,8,13,11,"甲羅の防御","重心不安定","賢人の知恵","賢人の知恵","-",null,"韋駄天","[移動]+1。重複可。"]
[null,null,null,null,null,"ペット",null,null,null,null,null,null,null,null,null,null,null,null,null,null,null,null,null,null,null,null,null,null,null,"フラウ","亜人",5,12,13,10,10,"自然と生きる","花の命","野伏の歩み","ドッジ","-",null,"万能耐性","[抵抗]+1。重複可。"]
["大事なもの",null,null,null,null,"特技",null,null,null,null,{"$f":"特技シート!AR70","v":0},{"$f":"IF(特技シート!AT70=\"\",\"\",特技シート!AT70)","v":""},{"$f":"特技シート!AU70","v":0},{"$f":"特技シート!AS70","v":3},{"$f":"特技シート!AV70","v":0},{"$f":"特技シート!AW70","v":0},{"$f":"特技シート!AX70","v":0},{"$f":"特技シート!AY70","v":0},{"$f":"特技シート!AZ70","v":0},{"$f":"特技シート!BA70","v":0},{"$f":"特技シート!BB70","v":3},{"$f":"特技シート!BC70","v":3},{"$f":"特技シート!BD70","v":3},{"$f":"特技シート!BE70","v":3},{"$f":"特技シート!BF70","v":3},{"$f":"特技シート!BG70","v":0},{"$f":"特技シート!BH70","v":0},null,null,"シルヴァテイル","亜人",9,12,12,9,8,"猫の目","昼行灯","野伏の歩み","盗賊の心得","-",null,"甲羅の防御","「全力防御」時、「甲羅に閉じこもる」可。[回避]不可、全防護点+10。"]
["管理カード","冒険かばん",null,null,null,"その他",null,null,null,null,null,null,null,null,null,null,null,null,null,null,2,2,2,2,2,2,null,null,null,"グラント","亜人",12,9,7,10,12,"肉の鎧","宝石の核","スタミナ","武器修練：○○","-",null,"灼熱の鱗","「火炎」属性ダメージを受けない。"]
[null,null,null,null,null,"合計",null,null,null,"武器",{"$f":"SUM(K16:K17,K19:K24)","v":15},{"$f":"IF($L$17=\"\",\"\",$L$17)","v":"打刺"},{"$f":"SUM(M17,M19:M24)","v":20},{"$f":"SUM(N16:N17,N19:N24)","v":20},{"$f":"SUM(O16:O24)","v":15},{"$f":"SUM(P16:P24)","v":13},{"$f":"IF(G18=\"\",\"-\",SUM(Q16:Q24))","v":"-"},10,10,15,13,11,9,11,11,8,2,null,null,"ストームコーザー","亜人",8,12,12,8,10,"飛行移動","宿敵：魔族","ドッジ","パリイ","-",null,"水中行動","水中ﾍﾟﾅﾙﾃｨ無効。【水縛符】【ﾜﾀﾞﾂﾐの唸り】無効。水泳の【敏捷】判定CRT。"]
[null,null,null,null,null,null,null,null,null,{"$f":"F18","v":"盾"},{"$f":"IF(G18=\"\",\"-\",SUM(K16,K18:K24))","v":"-"},{"$f":"IF($L$18=\"\",\"\",$L$18)","v":""},{"$f":"IF(G18=\"\",\"-\",SUM(M18:M24))","v":"-"},{"$f":"IF(G18=\"\",\"-\",SUM(N16,N18:N24))","v":"-"},null,null,null,null,null,null,null,null,null,null,null,null,null,null,null,"ホムンクルス","亜人",10,8,7,7,18,"居眠り禁止","アンデッドボディ","バイタリティ","バイタリティ","-",null,"飛行移動","「移動妨害」を受けず、「ﾀｰﾝ開始時」に「☆転倒」自動復帰。屋内、水中では効果なし。"]
[null,null,null,null,null,null,null,null,null,null,null,null,null,null,null,null,null,null,null,null,null,null,null,null,null,null,null,null,null,"ナインテイル","亜人",8,11,12,11,8,"狐の耳","トラウマ：犬","スタミナ","魔法修練","-",null,"居眠り禁止","[HP]、[FP]0以下で「気絶」しない。[HP]がﾏｲﾅｽ[HP最大値]以下で「気絶」。"]
["特異点","名称","効果",null,null,null,null,null,null,null,null,null,null,"特技必要体力修正",null,null,null,"特技命中修正",null,null,null,"その他",null,null,null,null,null,null,null,"マイティハウンド","亜人",13,11,9,7,10,"犬の鼻","モノクロビジョン","バイタリティ","野伏の歩み","-",null,"武芸百般","[命中]と「パリイ」に+1のﾎﾞｰﾅｽ。"]
["有利な特異点",{"$f":"IF($B$5=\"\",\"-\",VLOOKUP($B$5,$AD$3:$AL$46,8,FALSE))","v":"飛行移動"},{"$f":"IF(OR(B29=\"\",B29=\"-\"),\"\",VLOOKUP(B29,$AQ$3:$AR$34,2,FALSE))","v":"「移動妨害」を受けず、「ﾀｰﾝ開始時」に「☆転倒」自動復帰。屋内、水中では効果なし。"},null,null,null,null,null,null,null,null,null,null,"ウェポンナレッジ",null,null,{"$f":"IF(ISERROR(VLOOKUP(N29,特技シート!B10:I69,7,FALSE)),0,VLOOKUP(N29,特技シート!B10:I69,7,FALSE)*2)","v":0},"ウェポンマスター",null,null,{"$f":"IF(ISERROR(VLOOKUP(R29,特技シート!$B$10:$I$69,7,FALSE)),0,VLOOKUP(R29,特技シート!$B$10:$I$69,7,FALSE)*2)","v":0},null,null,null,null,null,null,null,null,"デモニカ","亜人",10,10,10,10,10,"-","-","野伏の歩み","癒しの手","-",null,"4本腕","4本の腕を持ち、全てが利き腕。(「ﾐﾔﾓﾄｽﾀｲﾙ」の内容を含む)"]
[null,"天体時計",{"$f":"IF(B30=\"\",\"\",VLOOKUP(B30,$AQ$3:$AR$34,2,FALSE))","v":"屋外で正確な時間と方角を知り、道に迷わない。"},null,null,null,null,null,null,null,null,null,null,"アーマーナレッジ",null,null,{"$f":"IF(ISERROR(VLOOKUP(N30,特技シート!B11:I70,7,FALSE)),0,VLOOKUP(N30,特技シート!B11:I70,7,FALSE)*2)","v":0},"シールドマスター",null,null,{"$f":"IF(ISERROR(VLOOKUP(R30,特技シート!$B$10:$I$69,7,FALSE)),0,VLOOKUP(R30,特技シート!$B$10:$I$69,7,FALSE)*2)","v":0},null,"盾命中",null,{"$f":"IF(OR(N26=\"-\",F18=\"武器2\"),\"-\",SUM(N26,U30:V30))","v":"-"},null,null,null,null,"ダイナスト","亜人",13,9,11,7,10,"虫の知らせ","飛んで火にいる","武器修練：○○","パリイ","-",null,"アストラルボディ/有利","「分類：ｱﾝﾃﾞｯﾄﾞ」として扱う。「打撃」「斬撃」「刺突」防護点+20。"]
[null,"肉の鎧",{"$f":"IF(B31=\"\",\"\",VLOOKUP(B31,$AQ$3:$AR$34,2,FALSE))","v":"全ての防護点+2。重複可。"},null,null,null,null,null,null,null,null,null,null,null,null,null,null,"魔法修練",null,null,{"$f":"IF(ISERROR(VLOOKUP(R31,特技シート!$B$10:$I$69,7,FALSE)),0,VLOOKUP(R31,特技シート!$B$10:$I$69,7,FALSE)*2+COUNTIF(特技シート!$B$10:$G$69,\"魔法練達\")*4)","v":0},null,"魔法命中",null,{"$f":"SUM(I13,U31:V31)","v":15},null,null,null,null,"パピリオス","亜人",7,10,12,12,9,"虫の知らせ","飛んで火にいる","魔法修練","賢人の知恵","-",null,"火炎防御","「火炎」属性防護点+10。"]
[null,null,{"$f":"IF(B32=\"\",\"\",VLOOKUP(B32,$AQ$3:$AR$34,2,FALSE))","v":""},null,null,null,null,null,null,null,null,null,null,null,null,null,null,"武器修練：",null,null,{"$f":"IF(ISERROR(VLOOKUP(CONCATENATE(R32,T32),特技シート!$B$10:$I$69,7,FALSE)),0,VLOOKUP(CONCATENATE(R32,T32),特技シート!$B$10:$I$69,7,FALSE)*2+COUNTIF(特技シート!$B$10:$G$69,CONCATENATE(\"武器練達：\",T32))*4)","v":0},null,"武器1命中",null,{"$f":"SUM($N$25,$U$29:$V$29,U32:V32)","v":20},null,null,null,null,"タラント","亜人",8,11,12,8,11,"虫の知らせ","飛んで火にいる","盗賊の心得","野伏の歩み","-",null,"呪われた不死","分類「ｷﾞｱ」「ｱﾝﾃﾞｯﾄﾞ」として扱う。死亡してもﾛｽﾄしない。捕食された場合はﾛｽﾄ。"]
["不利な特異点",{"$f":"IF($B$5=\"\",\"-\",VLOOKUP($B$5,$AD$3:$AL$46,9,FALSE))","v":"バッテリー切れ"},{"$f":"IF(OR(B33=\"\",B33=\"-\"),\"\",VLOOKUP(B33,$AQ$38:$AR$80,2,FALSE))","v":"「★気絶」するとｼﾅﾘｵ終了まであらゆる判定と[移動]-3。"},null,null,null,null,null,null,null,null,null,null,null,null,null,null,"武器修練：",null,null,{"$f":"IF(ISERROR(VLOOKUP(CONCATENATE(R33,T33),特技シート!$B$10:$I$69,7,FALSE)),0,VLOOKUP(CONCATENATE(R33,T33),特技シート!$B$10:$I$69,7,FALSE)*2+COUNTIF(特技シート!$B$10:$G$69,CONCATENATE(\"武器練達：\",T33))*4)","v":0},null,"武器2命中",null,{"$f":"IF(F18=\"盾\",SUM($N$25,$U$29:$V29,$U$33:$V$33)-$N$17,SUM($N$26,$U$29:$V$29,$U$33:$V$33))","v":18},null,null,null,null,"シェイフィ","亜人",11,8,11,9,11,"警戒睡眠","トラウマ：孤独","野伏の歩み","詩人の交渉術","-",null,"警戒睡眠","BS「☆眠り」への[抵抗]+4。非戦闘時、好きなﾀｲﾐﾝｸﾞで起きれる。"]
[null,"好奇心は猫を殺す",{"$f":"IF(B34=\"\",\"\",VLOOKUP(B34,$AQ$38:$AR$80,2,FALSE))","v":"気になるものがあると好奇心自制不可。([意志]判定可)"},null,null,null,null,null,null,null,null,null,null,null,null,null,null,"武器修練：",null,null,{"$f":"IF(ISERROR(VLOOKUP(CONCATENATE(R34,T34),特技シート!$B$10:$I$69,7,FALSE)),0,VLOOKUP(CONCATENATE(R34,T34),特技シート!$B$10:$I$69,7,FALSE)*2+COUNTIF(特技シート!$B$10:$G$69,CONCATENATE(\"武器練達：\",T34))*4)","v":0},null,"武器3命中",null,{"$f":"SUM($N$25,$U$29:$V$29,$U$34:$V$34)-$N$17","v":18},null,null,null,null,"アルテミス","亜人",7,13,12,10,8,"飛行移動","バッテリー切れ","武器修練：銃","シューター","-",null,"野生の闘士","[抵抗]判定自動成功。"]
[null,null,{"$f":"IF(B35=\"\",\"\",VLOOKUP(B35,$AQ$38:$AR$80,2,FALSE))","v":""},null,null,null,null,null,null,null,null,null,null,"どどんとふ用チャットパレット生成用",null,null,null,null,null,null,null,null,null,null,null,null,null,null,null,"ブラックナイト","魔族",11,10,9,8,12,"武芸百般","公明正大","バイタリティ","武器修練：○○","-"]
["※「重複可」は2回まで",null,null,null,null,null,null,null,null,null,null,null,null,"チャットパレット1(自動入力)",null,null,null,null,null,"Cri","Fmb","出力",null,null,null,null,null,null,null,"ヴァルキリー","魔族",10,11,11,9,9,"飛行移動","嫌な奴","ドッジ","武器修練：○○","-",null,"不利な特異点リスト"]
["※「[意志]判定可」は[意志]での判定に成功すると抑えることが可能。",null,null,null,null,null,null,null,null,null,null,null,null,{"$f":"CONCATENATE(\"3FW\",IF(T37=\"\",\"\",\"@\"&T37),IF(U37=\"\",\"\",\"#\"&U37),\"<=\",Y32,\" 武器\",T32,\"命中\")","v":"3FW<=20 武器命中"},null,null,null,null,null,null,null,"○",null,null,null,null,null,null,null,"ヤシャ","魔族",9,11,10,8,10,"4本腕","脳みそ筋肉","ドッジ","武器修練：○○","-",null,"名称","効果"]
[null,null,null,null,null,null,null,null,null,null,null,null,null,{"$f":"CONCATENATE(\"3FW\",IF(T38=\"\",\"\",\"@\"&T38),IF(U38=\"\",\"\",\"#\"&U38),\"<=\",Y33,\" 武器\",T33,\"命中\")","v":"3FW<=18 武器命中"},null,null,null,null,null,null,null,"×",null,null,null,null,null,null,null,"サーバント","魔族",8,10,11,12,9,"-","-","魔法修練","詩人の交渉術","-",null,"嫌な奴","交渉を行う判定-3。重複可。"]
["所持品","効果",null,null,null,null,null,null,null,null,null,null,null,{"$f":"CONCATENATE(\"3FW\",IF(T39=\"\",\"\",\"@\"&T39),IF(U39=\"\",\"\",\"#\"&U39),\"<=\",Y34,\" 武器\",T34,\"命中\")","v":"3FW<=18 武器命中"},null,null,null,null,null,null,null,"×",null,null,null,null,null,null,null,"スターゲイザー","魔族",8,10,12,12,8,"精緻な記憶","敵前逃亡","シューター","賢人の知恵","-",null,"借金地獄","ｼﾅﾘｵ終了ごとに1000GPを支払う。重複可。"]
[null,null,null,null,null,null,null,null,null,null,null,null,null,{"$f":"IF(Y30=\"-\",\"\",CONCATENATE(\"3FW\",IF(T40=\"\",\"\",\"@\"&T40),IF(U40=\"\",\"\",\"#\"&U40),\"<=\",Y30,\" 盾命中\"))","v":""},null,null,null,null,null,null,null,{"$f":"IF(N40=\"\",\"×\",\"○\")","v":"×"},null,null,null,null,null,null,null,"オウルセージ","魔族",7,10,13,13,7,"飛行移動","武器盾装備不可","賢人の知恵","賢人の知恵","-",null,"逃亡中","絶対に喋ることのできない秘密を持っている。"]
[null,null,null,null,null,null,null,null,null,null,null,null,null,{"$f":"CONCATENATE(\"3FW\",IF(T41=\"\",\"\",\"@\"&T41),IF(U41=\"\",\"\",\"#\"&U41),\"<=\",Y31,\" 魔法命中\")","v":"3FW<=15 魔法命中"},null,null,null,null,null,null,null,"×",null,null,null,null,null,null,null,"ゴースト","魔族",9,11,11,11,8,"アストラルボディ/有利","アストラルボディ/不利","パリイ","シールド","-",null,"片足に矢","片足が不自由。[移動]と[回避]-2。"]
[null,null,null,null,null,null,null,null,null,null,null,null,null,{"$f":"CONCATENATE(\"3FW\",IF(T42=\"\",\"\",\"@\"&T42),IF(U42=\"\",\"\",\"#\"&U42),\"<=\",O25,\" ドッジ\")","v":"3FW<=15 ドッジ"},null,null,null,null,null,null,null,"○",null,null,null,null,null,null,null,"マッドクラウン","魔族",8,12,12,10,8,"非凡な直感","ギャンブル狂","パリイ","盗賊の極意","-",null,"動かない片腕","片腕が不自由。その腕を用いた判定-4。両手持ち使用不可。"]
[null,null,null,null,null,null,null,null,null,null,null,null,null,{"$f":"CONCATENATE(\"3FW\",IF(T43=\"\",\"\",\"@\"&T43),IF(U43=\"\",\"\",\"#\"&U43),\"<=\",P25,\" パリイ\")","v":"3FW<=13 パリイ"},null,null,null,null,null,null,null,"○",null,null,null,null,null,null,null,"セルキー","魔族",10,11,11,9,9,"水中行動","英雄色を好む","スタミナ","野伏の歩み","-",null,"洒落た眼帯","片目が見えず、[命中]と[回避]-2、視覚に関する[感覚]判定-2。"]
[null,null,null,null,null,null,null,null,null,null,null,null,null,{"$f":"IF(Q25=\"-\",\"\",CONCATENATE(\"3FW\",IF(T44=\"\",\"\",\"@\"&T44),IF(U44=\"\",\"\",\"#\"&U44),\"<=\",Q25,\" シールド\"))","v":""},null,null,null,null,null,null,null,{"$f":"IF(N44=\"\",\"×\",\"○\")","v":"×"},null,null,null,null,null,null,null,"マナート","魔族",10,11,10,10,9,"火炎防御","処刑執行人","バイタリティ","ドッジ","-",null,"モノクロビジョン","色盲。視覚に関する[感覚]判定に-3。"]
[null,null,null,null,null,null,null,null,null,null,null,null,null,{"$f":"CONCATENATE(\"3FW\",IF(T45=\"\",\"\",\"@\"&T45),IF(U45=\"\",\"\",\"#\"&U45),\"<=\",R25,\" 抵抗\")","v":"3FW<=10 抵抗"},null,null,null,null,null,null,null,"○",null,null,null,null,null,null,null,"リッチ","魔族",8,9,10,15,8,"呪われた不死","崩れる体","魔法修練","魔導工学のススメ","-",null,"縫われた口","一切喋ることができない。特異点2枠分。"]
[null,null,null,null,null,null,null,null,null,null,null,null,null,null,null,null,null,null,null,null,null,null,null,null,null,null,null,null,null,"ベルセルク","魔族",13,9,8,5,13,"野生の闘士","脳みそもっと筋肉","バイタリティ","スタミナ","-",null,"静かな世界","全く耳が聞こえない。[感覚]-2。特異点2枠分。"]
[null,null,null,null,null,null,null,null,null,null,null,null,null,"チャットパレット3(自由入力)",null,null,null,null,null,null,null,"出力",null,null,null,null,null,null,null,null,null,null,null,null,null,null,null,null,null,null,null,null,"無味乾燥","全く味や匂いを感じることができない。"]
[null,null,null,null,null,null,null,null,null,null,null,null,null,null,null,null,null,null,null,null,null,"×",null,null,null,null,null,null,null,"マスタークラス",null,null,null,null,null,null,null,null,null,null,null,null,"好奇心は猫を殺す","気になるものがあると好奇心自制不可。([意志]判定可)"]
[null,null,null,null,null,null,null,null,null,null,null,null,null,null,null,null,null,null,null,null,null,"×",null,null,null,null,null,null,null,"クラス",null,null,null,null,null,null,null,null,null,null,null,null,"処刑執行人","敵対した相手を必ず殺そうとする。([意志]判定可)"]
[null,null,null,null,null,null,null,null,null,null,null,null,null,null,null,null,null,null,null,null,null,"×",null,null,null,null,null,null,null,"センチュリオン",null,null,null,null,null,null,null,null,null,null,null,null,"敵前逃亡","殺意を向けられると逃亡する。([意志]判定可)"]
["アカシックホイール積載品",null,"※キャラクターシートには反映されません",null,null,null,null,null,null,null,null,null,null,null,null,null,null,null,null,null,null,"×",null,null,null,null,null,null,null,"エグゼキューター",null,null,null,null,null,null,null,null,null,null,null,null,"脳みそ筋肉","自らの実力を過信して戦いをしたがる。([意志]判定可)"]
["所持品","効果",null,null,null,null,null,null,null,null,null,null,null,null,null,null,null,null,null,null,null,"×",null,null,null,null,null,null,null,"マスターナイト",null,null,null,null,null,null,null,null,null,null,null,null,"排他主義","他種族との交渉時、判定-4。亜人のみ獲得可能。"]
[null,null,null,null,null,null,null,null,null,null,null,null,null,null,null,null,null,null,null,null,null,"×",null,null,null,null,null,null,null,"アクセルギア",null,null,null,null,null,null,null,null,null,null,null,null,"トラウマ","特定のものを突きつけられるとあらゆる判定-3。"]
[null,null,null,null,null,null,null,null,null,null,null,null,null,null,null,null,null,null,null,null,null,"×",null,null,null,null,null,null,null,"トレジャーハンター",null,null,null,null,null,null,null,null,null,null,null,null,"オオカミ少年","息をするように嘘をつく。([意志]判定可)"]
[null,null,null,null,null,null,null,null,null,null,null,null,null,null,null,null,null,null,null,null,null,"×",null,null,null,null,null,null,null,"アークメイジ",null,null,null,null,null,null,null,null,null,null,null,null,"乱痴気騒ぎ","騒ぐことが大好きで限度を知らない。([意志]判定可)"]
[null,null,null,null,null,null,null,null,null,null,null,null,null,null,null,null,null,null,null,null,null,"×",null,null,null,null,null,null,null,"サバイバー",null,null,null,null,null,null,null,null,null,null,null,null,"英雄色を好む","好みの異性の言うことであれば何でも従う。([意志]判定可)"]
[null,null,null,null,null,null,null,null,null,null,null,null,null,null,null,null,null,null,null,null,null,"×",null,null,null,null,null,null,null,"フォーチュンテラー",null,null,null,null,null,null,null,null,null,null,null,null,"金の亡者","金こそ全てであり、すぐに目が眩む。([意志]判定可)"]
[null,null,null,null,null,null,null,null,null,null,null,null,null,null,null,null,null,null,null,null,null,"×",null,null,null,null,null,null,null,"ドミネーター",null,null,null,null,null,null,null,null,null,null,null,null,"公明正大","人をわずかに疑うこともできない。([意志]判定可)"]
[null,null,null,null,null,null,null,null,null,null,null,null,null,null,null,null,null,null,null,null,null,"×",null,null,null,null,null,null,null,"エンチャンター",null,null,null,null,null,null,null,null,null,null,null,null,"偉大な誓い","自らに制約を課して行きており、誓いは自発的に破れない。"]
[null,null,null,null,null,null,null,null,null,null,null,null,null,null,null,null,null,null,null,null,null,"×",null,null,null,null,null,null,null,null,null,null,null,null,null,null,null,null,null,null,null,null,"ドンキホーテ","何らかのひどい妄想に取り憑かれている。"]
[null,null,null,null,null,null,null,null,null,null,null,null,null,null,null,null,null,null,null,null,null,"×",null,null,null,null,null,null,null,null,null,null,null,null,null,null,null,null,null,null,null,null,"致命的にドジ","自身の判定失敗時にFtの使用、ﾘﾛｰﾙ不可。特異点2枠分。"]
[null,null,null,null,null,null,null,null,null,null,null,null,null,null,null,null,null,null,null,null,null,"×",null,null,null,null,null,null,null,null,null,null,null,null,null,null,null,null,null,null,null,null,"超絶ギア音痴","「～ｷﾞｱ」ｸﾗｽ選択不可。GA効果なし。【魔導工学のｽｽﾒ】【ｱﾀｯﾁﾒﾝﾄ職人】習得不可。特異点2枠分。"]
[null,null,null,null,null,null,null,null,null,null,null,null,null,null,null,null,null,null,null,null,null,null,null,null,null,null,null,null,null,null,null,null,null,null,null,null,null,null,null,null,null,null,"へなちょこ耐性","[抵抗]-2。重複可。"]
[null,"致傷力計算補助","※基本値に他の特技の致傷力を指定すれば複数の特技の合計も計算可能です。",null,null,null,null,null,null,null,null,null,null,"チャットパレット4(自由入力)",null,null,null,null,null,null,null,"出力",null,null,null,null,null,null,null,null,null,null,null,null,null,null,null,null,null,null,null,null,"おちびさん","身長が種族平均より極めて低い。[体力]-2。"]
[null,"武器致傷力","武器攻撃力",null,"基本値","致傷力",null,"メモ",null,null,null,"出力",null,null,null,null,null,null,null,null,null,"×",null,null,null,null,null,null,null,null,null,null,null,null,null,null,null,null,null,null,null,null,"昼行灯","夜行性。昼の間に退屈なことはできない。([意志]判定可)"]
[null,"武器1",{"$f":"K17","v":5},null,{"$f":"K25-K17","v":10},{"$f":"K25","v":15},"+3D6",null,null,null,null,"○",null,null,null,null,null,null,null,null,null,"×",null,null,null,null,null,null,null,null,null,null,null,null,null,null,null,null,null,null,null,null,"花の命","日光を浴びて水分を取らなければ1日ごとに最大[HP]-5。"]
[null,"武器2",null,null,null,{"$f":"SUM(C67:E67)","v":0},"+3D6",null,null,null,null,"×",null,null,null,null,null,null,null,null,null,"×",null,null,null,null,null,null,null,null,null,null,null,null,null,null,null,null,null,null,null,null,"トラウマ：犬","犬がいる状態では、あらゆる判定-3。"]
[null,"武器3",null,null,null,{"$f":"SUM(C68:E68)","v":0},"+3D6",null,null,null,null,"×",null,null,null,null,null,null,null,null,null,"×",null,null,null,null,null,null,null,null,null,null,null,null,null,null,null,null,null,null,null,null,"トラウマ：孤独","孤独な状態では、あらゆる判定-3。"]
[null,"特技名","SLv","係数","基本値","致傷力",null,"メモ",null,null,null,"出力",null,null,null,null,null,null,null,null,null,"×",null,null,null,null,null,null,null,null,null,null,null,null,null,null,null,null,null,null,null,null,"重心不安定","「転倒」回復に[敏捷]判定が必要。「甲羅に閉じこもる」でも復帰可。"]
[null,null,{"$f":"IF(ISERROR(VLOOKUP(B70,特技シート!$B$10:$I$69,7,FALSE)),0,VLOOKUP(B70,特技シート!$B$10:$I$69,7,FALSE))","v":0},null,null,{"$f":"$C70*$D70+$E70","v":0},"+3D6",null,null,null,null,"×",null,null,null,null,null,null,null,null,null,"×",null,null,null,null,null,null,null,null,null,null,null,null,null,null,null,null,null,null,null,null,"冷血動物","「冷気」属性ﾀﾞﾒｰｼﾞを受けると戦闘終了まで[回避]-2。"]
[null,null,{"$f":"IF(ISERROR(VLOOKUP(B71,特技シート!$B$10:$I$69,7,FALSE)),0,VLOOKUP(B71,特技シート!$B$10:$I$69,7,FALSE))","v":0},null,null,{"$f":"$C71*$D71+$E71","v":0},"+3D6",null,null,null,null,"×",null,null,null,null,null,null,null,null,null,"×",null,null,null,null,null,null,null,null,null,null,null,null,null,null,null,null,null,null,null,null,"宝石の核","[命中]判定を行う攻撃に[回避]を行わなかった場合、防護点0として扱う。"]
[null,null,{"$f":"IF(ISERROR(VLOOKUP(B72,特技シート!$B$10:$I$69,7,FALSE)),0,VLOOKUP(B72,特技シート!$B$10:$I$69,7,FALSE))","v":0},null,null,0,"+3D6",null,null,null,null,"×",null,null,null,null,null,null,null,null,null,"×",null,null,null,null,null,null,null,null,null,null,null,null,null,null,null,null,null,null,null,null,"宿敵：魔族","魔物・魔族限定の「処刑執行人」。逃亡不可。([意志]判定可)"]
[null,null,{"$f":"IF(ISERROR(VLOOKUP(B73,特技シート!$B$10:$I$69,7,FALSE)),0,VLOOKUP(B73,特技シート!$B$10:$I$69,7,FALSE))","v":0},null,null,0,"+3D6",null,null,null,null,"×",null,null,null,null,null,null,null,null,null,"×",null,null,null,null,null,null,null,null,null,null,null,null,null,null,null,null,null,null,null,null,"アンデッドボディ","「分類：ｱﾝﾃﾞｯﾄﾞ」として扱う。「火炎」属性防護点は常時0扱い。"]
[null,null,{"$f":"IF(ISERROR(VLOOKUP(B74,特技シート!$B$10:$I$69,7,FALSE)),0,VLOOKUP(B74,特技シート!$B$10:$I$69,7,FALSE))","v":0},null,null,0,"+3D6",null,null,null,null,"×",null,null,null,null,null,null,null,null,null,"×",null,null,null,null,null,null,null,null,null,null,null,null,null,null,null,null,null,null,null,null,"飛んで火にいる","近くに強い明かりや炎がある場合、あらゆる判定-3。"]
[null,null,{"$f":"IF(ISERROR(VLOOKUP(B75,特技シート!$B$10:$I$69,7,FALSE)),0,VLOOKUP(B75,特技シート!$B$10:$I$69,7,FALSE))","v":0},null,null,0,"+3D6",null,null,null,null,"×",null,null,null,null,null,null,null,null,null,"×",null,null,null,null,null,null,null,null,null,null,null,null,null,null,null,null,null,null,null,null,"バッテリー切れ","「★気絶」するとｼﾅﾘｵ終了まであらゆる判定と[移動]-3。"]
[null,null,{"$f":"IF(ISERROR(VLOOKUP(B76,特技シート!$B$10:$I$69,7,FALSE)),0,VLOOKUP(B76,特技シート!$B$10:$I$69,7,FALSE))","v":0},null,null,0,"+3D6",null,null,null,null,"×",null,null,null,null,null,null,null,null,null,"×",null,null,null,null,null,null,null,null,null,null,null,null,null,null,null,null,null,null,null,null,"武器盾装備不可","「ｵｳﾙｾｰｼﾞの羽ﾍﾟﾝ」以外の武器盾を装備できない。"]
[null,null,{"$f":"IF(ISERROR(VLOOKUP(B77,特技シート!$B$10:$I$69,7,FALSE)),0,VLOOKUP(B77,特技シート!$B$10:$I$69,7,FALSE))","v":0},null,null,0,"+3D6",null,null,null,null,"×",null,null,null,null,null,null,null,null,null,"×",null,null,null,null,null,null,null,null,null,null,null,null,null,null,null,null,null,null,null,null,"アストラルボディ/不利","「火炎」「冷気」「電撃」属性を含む攻撃による被ﾀﾞﾒｰｼﾞ+20。"]
[null,null,{"$f":"IF(ISERROR(VLOOKUP(B78,特技シート!$B$10:$I$69,7,FALSE)),0,VLOOKUP(B78,特技シート!$B$10:$I$69,7,FALSE))","v":0},null,null,0,"+3D6",null,null,null,null,"×",null,null,null,null,null,null,null,null,null,"×",null,null,null,null,null,null,null,null,null,null,null,null,null,null,null,null,null,null,null,null,"ギャンブル狂","Ftを使用して目標値を増加させる際、目標値11以上にすることができない。"]
[null,null,{"$f":"IF(ISERROR(VLOOKUP(B79,特技シート!$B$10:$I$69,7,FALSE)),0,VLOOKUP(B79,特技シート!$B$10:$I$69,7,FALSE))","v":0},null,null,0,"+3D6",null,null,null,null,"×",null,null,null,null,null,null,null,null,null,"×",null,null,null,null,null,null,null,null,null,null,null,null,null,null,null,null,null,null,null,null,"崩れる体","「使用：行動ﾀｰﾝ」の【魔法】の使用時、消費[FP]と等しい[HP]も消費する。"]
[null,null,{"$f":"IF(ISERROR(VLOOKUP(B80,特技シート!$B$10:$I$69,7,FALSE)),0,VLOOKUP(B80,特技シート!$B$10:$I$69,7,FALSE))","v":0},null,null,0,"+3D6",null,null,null,null,"×",null,null,null,null,null,null,null,null,null,null,null,null,null,null,null,null,null,null,null,null,null,null,null,null,null,null,null,null,null,null,"脳みそもっと筋肉","脳みそ筋肉+[回避]不可。【盗賊の心得】【賢人の知恵】【魔導工学のｽｽﾒ】【詩人の交渉術】習得不可。"]
[null,null,{"$f":"IF(ISERROR(VLOOKUP(B81,特技シート!$B$10:$I$69,7,FALSE)),0,VLOOKUP(B81,特技シート!$B$10:$I$69,7,FALSE))","v":0},null,null,0,"+3D6",null,null,null,null,"×"]
[null,null,{"$f":"IF(ISERROR(VLOOKUP(B82,特技シート!$B$10:$I$69,7,FALSE)),0,VLOOKUP(B82,特技シート!$B$10:$I$69,7,FALSE))","v":0},null,null,0,"+3D6",null,null,null,null,"×"]
[null,null,{"$f":"IF(ISERROR(VLOOKUP(B83,特技シート!$B$10:$I$69,7,FALSE)),0,VLOOKUP(B83,特技シート!$B$10:$I$69,7,FALSE))","v":0},null,null,0,"+3D6",null,null,null,null,"×"]
[null,null,{"$f":"IF(ISERROR(VLOOKUP(B84,特技シート!$B$10:$I$69,7,FALSE)),0,VLOOKUP(B84,特技シート!$B$10:$I$69,7,FALSE))","v":0},null,null,0,"+3D6",null,null,null,null,"×"]

{"sheet":"特技シート","index":1,"n_rows":135,"n_cols":61,"rows_kept":135,"cut":false,"hidden":false,"merged":[[127,19,127,24],[128,19,128,24],[129,19,129,24],[130,19,130,24],[131,19,131,24],[132,19,132,24],[133,19,133,24],[134,19,134,24],[118,19,118,24],[119,19,119,24],[120,19,120,24],[121,19,121,24],[122,19,122,24],[123,19,123,24],[124,19,124,24],[125,19,125,24],[126,19,126,24],[109,19,109,24],[110,19,110,24],[111,19,111,24],[112,19,112,24],[113,19,113,24],[114,19,114,24],[115,19,115,24],[116,19,116,24],[117,19,117,24],[100,19,100,24],[101,19,101,24],[102,19,102,24],[103,19,103,24],[104,19,104,24],[105,19,105,24],[106,19,106,24],[107,19,107,24],[108,19,108,24],[91,19,91,24],[92,19,92,24],[93,19,93,24],[94,19,94,24],[95,19,95,24],[96,19,96,24],[97,19,97,24],[98,19,98,24],[99,19,99,24],[82,19,82,24],[83,19,83,24],[84,19,84,24],[85,19,85,24],[86,19,86,24],[87,19,87,24],[88,19,88,24],[89,19,89,24],[90,19,90,24],[134,1,134,2],[134,3,134,13],[134,14,134,15],[134,16,134,18],[74,19,74,24],[74,25,74,30],[74,31,74,32],[74,33,74,34],[75,19,75,24],[75,25,75,30],[75,31,75,32],[75,33,75,34],[76,19,76,24],[76,25,76,30],[76,31,76,32],[76,33,76,34],[77,19,77,24],[77,25,77,30],[77,31,77,32],[77,33,77,34],[78,19,78,24],[79,19,79,24],[80,19,80,24],[81,19,81,24],[131,1,131,2],[131,3,131,13],[131,14,131,15],[131,16,131,18],[132,1,132,2],[132,3,132,13],[132,14,132,15],[132,16,132,18],[133,1,133,2],[133,3,133,13],[133,14,133,15],[133,16,133,18],[128,1,128,2],[128,3,128,13],[128,14,128,15],[128,16,128,18],[129,1,129,2],[129,3,129,13],[129,14,129,15],[129,16,129,18],[130,1,130,2],[130,3,130,13],[130,14,130,15],[130,16,130,18],[125,1,125,2],[125,3,125,13],[125,14,125,15],[125,16,125,18],[126,1,126,2],[126,3,126,13],[126,14,126,15],[126,16,126,18],[127,1,127,2],[127,3,127,13],[127,14,127,15],[127,16,127,18],[122,1,122,2],[122,3,122,13],[122,14,122,15],[122,16,122,18],[123,1,123,2],[123,3,123,13],[123,14,123,15],[123,16,123,18],[124,1,124,2],[124,3,124,13],[124,14,124,15],[124,16,124,18],[119,1,119,2],[119,3,119,13],[119,14,119,15],[119,16,119,18],[120,1,120,2],[120,3,120,13],[120,14,120,15],[120,16,120,18],[121,1,121,2],[121,3,121,13],[121,14,121,15],[121,16,121,18],[116,1,116,2],[116,3,116,13],[116,14,116,15],[116,16,116,18],[117,1,117,2],[117,3,117,13],[117,14,117,15],[117,16,117,18],[118,1,118,2],[118,3,118,13],[118,14,118,15],[118,16,118,18],[113,1,113,2],[113,3,113,13],[113,14,113,15],[113,16,113,18],[114,1,114,2],[114,3,114,13],[114,14,114,15],[114,16,114,18],[115,1,115,2],[115,3,115,13],[115,14,115,15],[115,16,115,18],[110,1,110,2],[110,3,110,13],[110,14,110,15],[110,16,110,18],[111,1,111,2],[111,3,111,13],[111,14,111,15],[111,16,111,18],[112,1,112,2],[112,3,112,13],[112,14,112,15],[112,16,112,18],[107,1,107,2],[107,3,107,13],[107,14,107,15],[107,16,107,18],[108,1,108,2],[108,3,108,13],[108,14,108,15],[108,16,108,18],[109,1,109,2],[109,3,109,13],[109,14,109,15],[109,16,109,18],[104,1,104,2],[104,3,104,13],[104,14,104,15],[104,16,104,18],[105,1,105,2],[105,3,105,13],[105,14,105,15],[105,16,105,18],[106,1,106,2],[106,3,106,13],[106,14,106,15],[106,16,106,18],[101,1,101,2],[101,3,101,13],[101,14,101,15],[101,16,101,18],[102,1,102,2],[102,3,102,13],[102,14,102,15],[102,16,102,18],[103,1,103,2],[103,3,103,13],[103,14,103,15],[103,16,103,18],[98,1,98,2],[98,3,98,13],[98,14,98,15],[98,16,98,18],[99,1,99,2],[99,3,99,13],[99,14,99,15],[99,16,99,18],[100,1,100,2],[100,3,100,13],[100,14,100,15],[100,16,100,18],[95,1,95,2],[95,3,95,13],[95,14,95,15],[95,16,95,18],[96,1,96,2],[96,3,96,13],[96,14,96,15],[96,16,96,18],[97,1,97,2],[97,3,97,13],[97,14,97,15],[97,16,97,18],[92,1,92,2],[92,3,92,13],[92,14,92,15],[92,16,92,18],[93,1,93,2],[93,3,93,13],[93,14,93,15],[93,16,93,18],[94,1,94,2],[94,3,94,13],[94,14,94,15],[94,16,94,18],[89,1,89,2],[89,3,89,13],[89,14,89,15],[89,16,89,18],[90,1,90,2],[90,3,90,13],[90,14,90,15],[90,16,90,18],[91,1,91,2],[91,3,91,13],[91,14,91,15],[91,16,91,18],[86,1,86,2],[86,3,86,13],[86,14,86,15],[86,16,86,18],[87,1,87,2],[87,3,87,13],[87,14,87,15],[87,16,87,18],[88,1,88,2],[88,3,88,13],[88,14,88,15],[88,16,88,18],[83,1,83,2],[83,3,83,13],[83,14,83,15],[83,16,83,18],[84,1,84,2],[84,3,84,13],[84,14,84,15],[84,16,84,18],[85,1,85,2],[85,3,85,13],[85,14,85,15],[85,16,85,18],[67,43,68,43],[67,45,68,45],[80,1,80,2],[80,3,80,13],[80,14,80,15],[80,16,80,18],[81,1,81,2],[81,3,81,13],[81,14,81,15],[81,16,81,18],[82,1,82,2],[82,3,82,13],[82,14,82,15],[82,16,82,18],[77,1,77,2],[77,3,77,13],[77,14,77,15],[77,16,77,18],[78,1,78,2],[78,3,78,13],[78,14,78,15],[78,16,78,18],[79,1,79,2],[79,3,79,13],[79,14,79,15],[79,16,79,18],[72,36,72,42],[67,58,68,58],[59,58,60,58],[74,1,74,2],[74,3,74,13],[74,14,74,15],[74,16,74,18],[75,1,75,2],[75,3,75,13],[75,14,75,15],[75,16,75,18],[76,1,76,2],[76,3,76,13],[76,14,76,15],[76,16,76,18],[27,35,28,35],[53,59,54,59],[55,59,56,59],[57,59,58,59],[59,59,60,59],[61,59,62,59],[63,59,64,59],[65,59,66,59],[67,59,68,59],[51,59,52,59],[65,58,66,58],[67,36,68,36],[67,37,68,37],[67,38,68,38],[67,39,68,39],[67,40,68,40],[67,41,68,41],[67,42,68,42],[7,59,8,59],[71,59,72,59],[9,59,10,59],[11,59,12,59],[13,59,14,59],[15,59,16,59],[17,59,18,59],[19,59,20,59],[21,59,22,59],[23,59,24,59],[25,59,26,59],[27,59,28,59],[29,59,30,59],[31,59,32,59],[33,59,34,59],[35,59,36,59],[37,59,38,59],[39,59,40,59],[41,59,42,59],[43,59,44,59],[45,59,46,59],[47,59,48,59],[49,59,50,59],[67,46,68,46],[67,47,68,47],[67,48,68,48],[67,49,68,49],[67,53,68,53],[67,54,68,54],[63,58,64,58],[65,36,66,36],[65,37,66,37],[65,38,66,38],[65,39,66,39],[65,40,66,40],[65,41,66,41],[63,46,64,46],[63,47,64,47],[63,48,64,48],[63,49,64,49],[63,53,64,53],[63,54,64,54],[63,36,64,36],[63,37,64,37],[63,38,64,38],[63,39,64,39],[63,40,64,40],[63,41,64,41],[65,49,66,49],[65,53,66,53],[65,54,66,54],[65,55,66,55],[67,55,68,55],[67,56,68,56],[67,57,68,57],[72,53,72,58],[69,55,70,55],[69,56,70,56],[69,57,70,57],[69,58,70,58],[69,46,70,46],[69,47,70,47],[69,48,70,48],[69,49,70,49],[69,53,70,53],[69,54,70,54],[72,43,72,52],[69,60,70,60],[69,36,70,36],[69,37,70,37],[69,38,70,38],[69,39,70,39],[69,40,70,40],[69,41,70,41],[69,42,70,42],[69,43,70,43],[69,45,70,45],[69,59,70,59],[65,48,66,48],[63,55,64,55],[63,56,64,56],[63,57,64,57],[63,42,64,42],[63,43,64,43],[63,45,64,45],[57,47,58,47],[57,48,58,48],[59,55,60,55],[59,56,60,56],[59,57,60,57],[57,42,58,42],[57,43,58,43],[57,45,58,45],[57,46,58,46],[65,56,66,56],[65,57,66,57],[65,42,66,42],[65,43,66,43],[65,45,66,45],[65,46,66,46],[65,47,66,47],[57,50,58,50],[61,57,62,57],[61,42,62,42],[61,43,62,43],[61,45,62,45],[61,46,62,46],[61,47,62,47],[61,36,62,36],[61,37,62,37],[61,38,62,38],[61,39,62,39],[61,40,62,40],[61,41,62,41],[59,46,60,46],[59,47,60,47],[59,48,60,48],[59,49,60,49],[59,53,60,53],[59,54,60,54],[61,58,62,58],[61,49,62,49],[61,53,62,53],[61,54,62,54],[61,55,62,55],[61,56,62,56],[59,36,60,36],[59,37,60,37],[59,38,60,38],[59,39,60,39],[59,40,60,40],[59,41,60,41],[59,42,60,42],[59,43,60,43],[59,45,60,45],[61,48,62,48],[55,58,56,58],[57,36,58,36],[57,37,58,37],[57,38,58,38],[57,39,58,39],[57,40,58,40],[57,41,58,41],[55,46,56,46],[55,47,56,47],[55,48,56,48],[55,49,56,49],[55,53,56,53],[55,54,56,54],[57,58,58,58],[57,49,58,49],[57,53,58,53],[57,54,58,54],[57,55,58,55],[57,56,58,56],[57,57,58,57],[55,36,56,36],[55,37,56,37],[55,38,56,38],[55,39,56,39],[55,40,56,40],[55,41,56,41],[53,56,54,56],[53,57,54,57],[53,42,54,42],[53,43,54,43],[53,45,54,45],[53,46,54,46],[53,47,54,47],[53,48,54,48],[55,55,56,55],[55,56,56,56],[55,57,56,57],[53,44,54,44],[53,50,54,50],[53,51,54,51],[53,52,54,52],[55,50,56,50],[55,51,56,51],[55,52,56,52],[55,42,56,42],[55,43,56,43],[55,45,56,45],[55,44,56,44],[49,46,50,46],[49,47,50,47],[49,48,50,48],[51,55,52,55],[51,56,52,56],[51,57,52,57],[51,58,52,58],[53,36,54,36],[53,37,54,37],[53,38,54,38],[53,39,54,39],[53,40,54,40],[53,41,54,41],[51,46,52,46],[51,47,52,47],[51,48,52,48],[51,49,52,49],[51,53,52,53],[51,54,52,54],[53,58,54,58],[53,49,54,49],[53,53,54,53],[53,54,54,54],[53,55,54,55],[51,36,52,36],[51,37,52,37],[51,38,52,38],[51,39,52,39],[51,40,52,40],[51,41,52,41],[51,42,52,42],[51,43,52,43],[51,45,52,45],[47,57,48,57],[47,58,48,58],[49,36,50,36],[49,37,50,37],[49,38,50,38],[49,39,50,39],[49,40,50,40],[49,41,50,41],[47,46,48,46],[47,47,48,47],[47,48,48,48],[47,49,48,49],[47,53,48,53],[47,54,48,54],[49,58,50,58],[49,49,50,49],[49,53,50,53],[49,54,50,54],[49,55,50,55],[49,56,50,56],[49,57,50,57],[49,42,50,42],[49,43,50,43],[49,45,50,45],[49,44,50,44],[51,44,52,44],[47,51,48,51],[47,52,48,52],[49,50,50,50],[49,51,50,51],[49,52,50,52],[47,36,48,36],[47,37,48,37],[47,38,48,38],[47,39,48,39],[47,40,48,40],[47,41,48,41],[47,42,48,42],[47,43,48,43],[47,45,48,45],[45,53,46,53],[45,54,46,54],[45,55,46,55],[45,56,46,56],[45,57,46,57],[45,42,46,42],[45,43,46,43],[45,45,46,45],[45,46,46,46],[45,47,46,47],[45,48,46,48],[47,55,48,55],[47,56,48,56],[45,36,46,36],[45,37,46,37],[45,38,46,38],[45,39,46,39],[45,40,46,40],[45,41,46,41],[47,44,48,44],[47,50,48,50],[43,46,44,46],[43,47,44,47],[43,48,44,48],[43,36,44,36],[43,37,44,37],[43,38,44,38],[43,39,44,39],[43,40,44,40],[43,41,44,41],[43,42,44,42],[45,44,46,44],[41,47,42,47],[41,48,42,48],[43,55,44,55],[43,56,44,56],[43,57,44,57],[43,58,44,58],[43,49,44,49],[43,53,44,53],[43,54,44,54],[43,43,44,43],[43,45,44,45],[45,58,46,58],[45,49,46,49],[43,50,44,50],[43,51,44,51],[43,52,44,52],[45,50,46,50],[45,51,46,51],[45,52,46,52],[39,58,40,58],[41,36,42,36],[41,37,42,37],[41,38,42,38],[41,39,42,39],[41,40,42,40],[41,41,42,41],[39,46,40,46],[39,47,40,47],[39,48,40,48],[39,49,40,49],[39,53,40,53],[39,54,40,54],[41,58,42,58],[41,49,42,49],[41,53,42,53],[41,54,42,54],[41,55,42,55],[41,56,42,56],[41,57,42,57],[41,42,42,42],[41,43,42,43],[41,45,42,45],[41,46,42,46],[41,50,42,50],[41,51,42,51],[41,52,42,52],[37,56,38,56],[37,57,38,57],[37,42,38,42],[37,43,38,43],[37,45,38,45],[37,46,38,46],[39,36,40,36],[39,37,40,37],[39,38,40,38],[39,39,40,39],[39,40,40,40],[39,41,40,41],[39,42,40,42],[39,43,40,43],[39,45,40,45],[37,47,38,47],[37,48,38,48],[39,55,40,55],[39,56,40,56],[39,57,40,57],[39,44,40,44],[37,44,38,44],[39,50,40,50],[39,51,40,51],[39,52,40,52],[33,46,34,46],[33,47,34,47],[33,48,34,48],[35,55,36,55],[35,56,36,56],[35,57,36,57],[35,58,36,58],[37,36,38,36],[37,37,38,37],[37,38,38,38],[37,39,38,39],[37,40,38,40],[37,41,38,41],[35,46,36,46],[35,47,36,47],[35,48,36,48],[35,49,36,49],[35,53,36,53],[35,54,36,54],[37,58,38,58],[37,49,38,49],[37,53,38,53],[37,54,38,54],[37,55,38,55],[35,36,36,36],[35,37,36,37],[35,38,36,38],[35,39,36,39],[35,40,36,40],[35,41,36,41],[35,42,36,42],[35,43,36,43],[27,56,28,56],[27,57,28,57],[27,58,28,58],[25,58,26,58],[35,45,36,45],[29,48,30,48],[31,55,32,55],[31,56,32,56],[31,57,32,57],[31,58,32,58],[33,36,34,36],[33,37,34,37],[33,38,34,38],[33,39,34,39],[33,40,34,40],[33,41,34,41],[31,46,32,46],[31,47,32,47],[31,48,32,48],[31,49,32,49],[31,53,32,53],[31,54,32,54],[33,58,34,58],[33,49,34,49],[33,53,34,53],[33,54,34,54],[33,55,34,55],[33,56,34,56],[33,57,34,57],[33,45,34,45],[33,42,34,42],[33,43,34,43],[29,58,30,58],[31,36,32,36],[31,37,32,37],[31,38,32,38],[31,39,32,39],[31,40,32,40],[31,41,32,41],[31,42,32,42],[31,43,32,43],[31,45,32,45],[29,49,30,49],[29,53,30,53],[29,54,30,54],[29,55,30,55],[29,56,30,56],[29,57,30,57],[29,38,30,38],[29,39,30,39],[29,40,30,40],[31,50,32,50],[31,51,32,51],[31,52,32,52],[27,36,28,36],[27,37,28,37],[27,38,28,38],[27,39,28,39],[27,40,28,40],[27,41,28,41],[27,42,28,42],[27,43,28,43],[27,45,28,45],[25,49,26,49],[25,53,26,53],[25,54,26,54],[25,55,26,55],[25,56,26,56],[25,57,26,57],[27,48,28,48],[23,36,24,36],[23,37,24,37],[23,38,24,38],[23,39,24,39],[23,40,24,40],[23,41,24,41],[23,42,24,42],[27,49,28,49],[25,36,26,36],[25,37,26,37],[25,38,26,38],[25,39,26,39],[25,48,26,48],[27,53,28,53],[27,54,28,54],[27,55,28,55],[23,57,24,57],[23,58,24,58],[19,47,20,47],[19,48,20,48],[19,49,20,49],[19,53,20,53],[19,54,20,54],[19,55,20,55],[19,56,20,56],[19,57,20,57],[19,58,20,58],[23,49,24,49],[23,53,24,53],[23,54,24,54],[23,55,24,55],[23,56,24,56],[23,48,24,48],[21,56,22,56],[21,57,22,57],[21,58,22,58],[21,49,22,49],[21,53,22,53],[21,54,22,54],[21,55,22,55],[19,50,20,50],[21,50,22,50],[21,51,22,51],[21,52,22,52],[23,50,24,50],[23,51,24,51],[23,52,24,52],[13,53,14,53],[13,54,14,54],[13,55,14,55],[13,56,14,56],[13,57,14,57],[13,58,14,58],[13,49,14,49],[13,50,14,50],[13,51,14,51],[13,52,14,52],[21,47,22,47],[21,48,22,48],[21,46,22,46],[21,39,22,39],[21,40,22,40],[21,41,22,41],[21,42,22,42],[17,58,18,58],[15,41,16,41],[15,42,16,42],[15,43,16,43],[15,45,16,45],[15,55,16,55],[15,56,16,56],[15,57,16,57],[15,58,16,58],[17,41,18,41],[15,53,16,53],[15,54,16,54],[17,55,18,55],[17,56,18,56],[17,57,18,57],[9,58,10,58],[11,36,12,36],[11,37,12,37],[11,38,12,38],[11,39,12,39],[11,40,12,40],[9,36,10,36],[9,37,10,37],[9,38,10,38],[9,39,10,39],[9,40,10,40],[9,41,10,41],[11,41,12,41],[11,42,12,42],[11,43,12,43],[11,45,12,45],[9,42,10,42],[9,43,10,43],[9,45,10,45],[9,46,10,46],[11,55,12,55],[11,51,12,51],[11,52,12,52],[11,56,12,56],[11,57,12,57],[11,58,12,58],[11,46,12,46],[11,47,12,47],[11,48,12,48],[11,49,12,49],[11,53,12,53],[11,54,12,54],[65,22,66,33],[67,1,68,6],[67,7,68,8],[67,9,68,13],[67,14,68,17],[67,18,68,19],[67,20,68,21],[67,22,68,33],[65,1,66,6],[65,7,66,8],[65,9,66,13],[65,14,66,17],[65,18,66,19],[65,20,66,21],[61,22,62,33],[63,1,64,6],[63,7,64,8],[63,9,64,13],[63,14,64,17],[63,18,64,19],[63,20,64,21],[63,22,64,33],[61,1,62,6],[61,7,62,8],[61,9,62,13],[61,14,62,17],[61,18,62,19],[61,20,62,21],[57,22,58,33],[59,1,60,6],[59,7,60,8],[59,9,60,13],[59,14,60,17],[59,18,60,19],[59,20,60,21],[59,22,60,33],[57,1,58,6],[57,7,58,8],[57,9,58,13],[57,14,58,17],[57,18,58,19],[57,20,58,21],[53,22,54,33],[55,1,56,6],[55,7,56,8],[55,9,56,13],[55,14,56,17],[55,18,56,19],[55,20,56,21],[55,22,56,33],[53,1,54,6],[53,7,54,8],[53,9,54,13],[53,14,54,17],[53,18,54,19],[53,20,54,21],[49,22,50,33],[51,1,52,6],[51,7,52,8],[51,9,52,13],[51,14,52,17],[51,18,52,19],[51,20,52,21],[51,22,52,33],[49,1,50,6],[49,7,50,8],[49,9,50,13],[49,14,50,17],[49,18,50,19],[49,20,50,21],[45,22,46,33],[47,1,48,6],[47,7,48,8],[47,9,48,13],[47,14,48,17],[47,18,48,19],[47,20,48,21],[47,22,48,33],[45,1,46,6],[45,7,46,8],[45,9,46,13],[45,14,46,17],[45,18,46,19],[45,20,46,21],[41,22,42,33],[43,1,44,6],[43,7,44,8]],"merged_total":1301,"flags":["merged_cut"]}
[null,null,null,null,null,null,null,null,null,null,null,null,null,null,null,null,null,null,null,null,null,null,null,null,null,null,null,null,null,null,null,null,null,null,null,null,"特技シートに入力した特技データの一部がメインキャラクターシートの特技欄に自動入力されます。"]
[null,null,null,null,null,null,null,null,null,null,null,null,null,null,null,null,null,null,null,null,null,null,null,null,null,null,null,null,null,null,null,null,null,null,null,null,"各種自動計算は特技名が【】でくくられていない事が前提となっております"]
[null,null,null,null,null,null,null,null,null,null,null,null,null,null,null,null,null,"キャラクター名",null,null,null,null,{"$f":"IF(キャラメイク!B2=\"\",\"\",キャラメイク!B2)","v":"所長"},null,null,null,null,null,null,null,null,null,null,null,null,null,"限界SLv",null,{"$f":"IF(キャラメイク!B5=\"ドラコニアン\",INT(AM5/7)+1,INT(AM5/5)+1)","v":2}]
[null,null,null,null,null,null,null,null,null,null,null,null,null,null,null,null,null,null,null,null,null,null,null,null,null,null,null,null,null,null,null,null,null,null,null,null,"SLv合計",null,{"$f":"SUM(H10:I69)","v":8},null,"ボーナス特技",null,null,null,null,null,null,null,null,null,null,null,"FP軽減"]
[null,null,null,null,null,null,null,null,null,null,null,null,null,null,null,null,null,"プレイヤー名",null,null,null,null,{"$f":"IF(キャラメイク!B3=\"\",\"\",キャラメイク!B3)","v":""},null,null,null,null,null,null,null,null,null,null,null,null,null,"CL",null,{"$f":"キャラメイク!D8","v":8},null,{"$f":"IF(キャラメイク!B5=\"\",\"\",VLOOKUP(キャラメイク!B5,キャラメイク!AD3:AO45,10,FALSE))","v":"武器修練：銃"},null,null,{"$f":"IF(キャラメイク!B5=\"\",\"\",VLOOKUP(キャラメイク!B5,キャラメイク!AD3:AO45,11,FALSE))","v":"シューター"}]
[null,null,null,null,null,null,null,null,null,null,null,null,null,null,null,null,null,null,null,null,null,null,null,null,null,null,null,null,null,null,null,null,null,null,null,null,"インスピレーション",null,{"$f":"IF(ISERROR(VLOOKUP(\"インスピレーション\",B10:I69,7,FALSE)),0,VLOOKUP(\"インスピレーション\",B10:I69,7,FALSE))","v":0},null,{"$f":"IF(キャラメイク!B5=\"\",\"\",VLOOKUP(キャラメイク!B5,キャラメイク!AD3:AO45,12,FALSE))","v":"-"},null,null,null,null,null,null,"特技一覧を参照してどどんとふ用カウンターリモコンのデータを作成、保存します。"]
[null,null,null,null,null,null,null,null,null,null,null,null,null,null,null,null,null,null,null,null,null,null,null,null,null,null,null,null,null,null,null,null,null,null,null,null,"特技補正自動計算用",null,null,null,null,null,null,null,null,null,null,"使用タイミング「常時」となっている特技は出力されません。"]
[null,null,null,null,null,null,null,null,null,null,null,null,null,null,null,null,null,null,null,null,null,null,null,null,null,null,null,null,null,null,null,null,null,null,null,null,"副能力値",null,null,null,null,null,null,"戦闘値",null,null,null,null,null,null,null,null,null,"防護点",null,null,null,null,null,"Ft"]
[null,"名称",null,null,null,null,null,"SLv",null,"使用タイミング",null,null,null,null,"判定",null,null,null,"射程",null,"FP",null,"効果",null,null,null,null,null,null,null,null,null,null,null,null,null,"HP","FP","命中","回避","抵抗","移動","先制","攻撃","命中","属性","射程","ﾄﾞｯｼﾞ","ﾊﾟﾘｲ","ｼｰﾙﾄﾞ","抵抗","移動","先制","打撃","斬撃","刺突","火炎","冷気","電撃"]
[null,"アルテミス照準Sys",null,null,null,null,null,1,null,"常時",null,null,null,null,null,null,null,null,null,null,null,null,"射撃と魔法の命中＋３",null,null,null,null,null,null,null,null,null,null,null,null,null,null,null,null,null,null,null,null,null,3]
[]
[null,"バトルドレス",null,null,null,null,null,1,null,"常時",null,null,null,null,null,null,null,null,null,null,null,null,"「電撃」以外のあらゆる防護点＋３",null,null,null,null,null,null,null,null,null,null,null,null,null,null,null,null,null,null,null,null,null,null,null,null,null,null,null,null,null,null,3,3,3,3,3]
[]
[null,"スタミナ",null,null,null,null,null,1,null,"常時",null,null,null,null,null,null,null,null,null,null,null,null,"ＦＰの最大値＋４",null,null,null,null,null,null,null,null,null,null,null,null,null,null,4]
[]
[null,"プロテクトビット",null,null,null,null,null,2,null,"被ダメージ後",null,null,null,null,"なし",null,null,null,10,null,4,null,"３Ｄ＋２０のダメージ軽減　ＣＴ：次ターン"]
[]
[null,"命中支援ビット",null,null,null,null,null,1,null,"支援",null,null,null,null,"なし",null,null,null,10,null,3,null,"次の使用者のターンまで\n対象の命中に＋４のボーナス"]
[]
[null,"アルテミスレーザー",null,null,null,null,null,2,null,"行動",null,null,null,null,"命中（銃）",null,null,null,20,null,3,null,"命中２０　３Ｄ＋３５（打刺）\n「ためる」状態で使用時は回避判定を行わせない"]
[]
[]
[]
[]
[]
[]
[]
[null,null,null,null,null,null,null,null,null,null,null,null,null,null,null,null,null,null,null,null,null,null,null,null,null,null,null,null,null,null,null,null,null,null,null,"←ここまで\nｷｬﾗｼ自動入力"]
[]
[]
[]
[]
[]
[]
[]
[]
[]
[]
[]
[]
[]
[]
[]
[]
[]
[]
[]
[]
[]
[]
[]
[]
[]
[]
[]
[]
[]
[]
[]
[]
[]
[]
[]
[]
[]
[]
[]
[]
[]
[null,null,null,null,null,null,null,null,null,null,null,null,null,null,null,null,null,null,null,null,null,null,null,null,null,null,null,null,null,null,null,null,null,null,null,null,{"$f":"SUM(AK10:AK69)","v":0},{"$f":"SUM(AL10:AL69)","v":4},0,0,0,0,0,0,{"$f":"SUM(AS10:AS69)","v":3},null,{"$f":"SUM(AU10:AU69)","v":0},0,0,0,{"$f":"SUM(AY10:AY69)","v":0},0,0,3,3,3,3,3,0,{"$f":"SUM(BH10:BH69)","v":0},"合計"]
[null,null,null,null,null,null,null,null,null,null,null,null,null,null,null,null,null,null,null,null,null,null,null,null,"© 2012-2015 ProjectFW"]
[null,null,null,null,null,null,null,null,null,null,null,null,null,null,null,null,null,null,null,null,null,null,null,null,null,null,null,null,null,null,null,null,null,null,null,null,"HP","FP","命中","回避","抵抗","移動","先制","攻撃","命中","属性","射程","ﾄﾞｯｼﾞ","ﾊﾟﾘｲ","ｼｰﾙﾄﾞ","抵抗","移動","先制","打撃","斬撃","刺突","火炎","冷気","電撃","Ft"]
[null,null,null,null,null,null,null,null,null,null,null,null,null,null,null,null,null,null,null,null,null,null,null,null,null,null,null,null,null,null,null,null,null,null,null,null,"副能力値",null,null,null,null,null,null,"戦闘値",null,null,null,null,null,null,null,null,null,"防護点"]
[null,"特技取得シミュレーター"]
[null,"CL",null,"取得特技",null,null,null,null,null,null,null,null,null,null,"SLv",null,"限界SLv",null,null,"上昇クラス",null,null,null,null,null,"クラス",null,null,null,null,null,"合計",null,"CL"]
[null,1,null,null,null,null,null,null,null,null,null,null,null,null,{"$f":"COUNTIF($D$76:D76,D76)","v":0},null,{"$f":"INT((B76+5)/5)+COUNTIF($AO$5:$AT$6,D76)","v":1},null,null,null,null,null,null,null,null,{"$f":"IF(キャラメイク!B5=\"\",\"\",キャラメイク!B5)","v":"アルテミス"},null,null,null,null,null,{"$f":"IF(Z76=\"\",\"\",COUNTIF($T$76:$Y$135,Z76))","v":0},null,{"$f":"IF(キャラメイク!D5=\"\",\"\",キャラメイク!D5)","v":8}]
[null,2,null,null,null,null,null,null,null,null,null,null,null,null,{"$f":"COUNTIF($D$76:D77,D77)","v":0},null,{"$f":"INT((B77+5)/5)+COUNTIF($AO$5:$AT$6,D77)","v":1},null,null,null,null,null,null,null,null,{"$f":"IF(キャラメイク!B6=\"\",\"\",キャラメイク!B6)","v":""},null,null,null,null,null,{"$f":"IF(Z77=\"\",\"\",COUNTIF($T$76:$Y$135,Z77))","v":""},null,{"$f":"IF(キャラメイク!D6=\"\",\"\",キャラメイク!D6)","v":""}]
[null,3,null,null,null,null,null,null,null,null,null,null,null,null,{"$f":"COUNTIF($D$76:D78,D78)","v":0},null,1,null,null,null,null,null,null,null,null,{"$f":"IF(キャラメイク!B7=\"\",\"\",キャラメイク!B7)","v":""},null,null,null,null,null,"",null,{"$f":"IF(キャラメイク!D7=\"\",\"\",キャラメイク!D7)","v":""}]
[null,4,null,null,null,null,null,null,null,null,null,null,null,null,{"$f":"COUNTIF($D$76:D79,D79)","v":0},null,1]
[null,5,null,null,null,null,null,null,null,null,null,null,null,null,{"$f":"COUNTIF($D$76:D80,D80)","v":0},null,2]
[null,6,null,null,null,null,null,null,null,null,null,null,null,null,{"$f":"COUNTIF($D$76:D81,D81)","v":0},null,2]
[null,7,null,null,null,null,null,null,null,null,null,null,null,null,{"$f":"COUNTIF($D$76:D82,D82)","v":0},null,2]
[null,8,null,null,null,null,null,null,null,null,null,null,null,null,{"$f":"COUNTIF($D$76:D83,D83)","v":0},null,2]
[null,9,null,null,null,null,null,null,null,null,null,null,null,null,{"$f":"COUNTIF($D$76:D84,D84)","v":0},null,2]
[null,10,null,null,null,null,null,null,null,null,null,null,null,null,{"$f":"COUNTIF($D$76:D85,D85)","v":0},null,3]
[null,11,null,null,null,null,null,null,null,null,null,null,null,null,{"$f":"COUNTIF($D$76:D86,D86)","v":0},null,3]
[null,12,null,null,null,null,null,null,null,null,null,null,null,null,{"$f":"COUNTIF($D$76:D87,D87)","v":0},null,3]
[null,13,null,null,null,null,null,null,null,null,null,null,null,null,{"$f":"COUNTIF($D$76:D88,D88)","v":0},null,3]
[null,14,null,null,null,null,null,null,null,null,null,null,null,null,{"$f":"COUNTIF($D$76:D89,D89)","v":0},null,3]
[null,15,null,null,null,null,null,null,null,null,null,null,null,null,{"$f":"COUNTIF($D$76:D90,D90)","v":0},null,4,null,null,null,null,null,null,null,null,"マスタークラス習得可"]
[null,16,null,null,null,null,null,null,null,null,null,null,null,null,{"$f":"COUNTIF($D$76:D91,D91)","v":0},null,4]
[null,17,null,null,null,null,null,null,null,null,null,null,null,null,{"$f":"COUNTIF($D$76:D92,D92)","v":0},null,4]
[null,18,null,null,null,null,null,null,null,null,null,null,null,null,{"$f":"COUNTIF($D$76:D93,D93)","v":0},null,4]
[null,19,null,null,null,null,null,null,null,null,null,null,null,null,{"$f":"COUNTIF($D$76:D94,D94)","v":0},null,4]
[null,20,null,null,null,null,null,null,null,null,null,null,null,null,{"$f":"COUNTIF($D$76:D95,D95)","v":0},null,5]
[null,21,null,null,null,null,null,null,null,null,null,null,null,null,{"$f":"COUNTIF($D$76:D96,D96)","v":0},null,5]
[null,22,null,null,null,null,null,null,null,null,null,null,null,null,{"$f":"COUNTIF($D$76:D97,D97)","v":0},null,5]
[null,23,null,null,null,null,null,null,null,null,null,null,null,null,{"$f":"COUNTIF($D$76:D98,D98)","v":0},null,5]
[null,24,null,null,null,null,null,null,null,null,null,null,null,null,{"$f":"COUNTIF($D$76:D99,D99)","v":0},null,5]
[null,25,null,null,null,null,null,null,null,null,null,null,null,null,{"$f":"COUNTIF($D$76:D100,D100)","v":0},null,6]
[null,26,null,null,null,null,null,null,null,null,null,null,null,null,{"$f":"COUNTIF($D$76:D101,D101)","v":0},null,6]
[null,27,null,null,null,null,null,null,null,null,null,null,null,null,{"$f":"COUNTIF($D$76:D102,D102)","v":0},null,6]
[null,28,null,null,null,null,null,null,null,null,null,null,null,null,{"$f":"COUNTIF($D$76:D103,D103)","v":0},null,6]
[null,29,null,null,null,null,null,null,null,null,null,null,null,null,{"$f":"COUNTIF($D$76:D104,D104)","v":0},null,6]
[null,30,null,null,null,null,null,null,null,null,null,null,null,null,{"$f":"COUNTIF($D$76:D105,D105)","v":0},null,7]
[null,31,null,null,null,null,null,null,null,null,null,null,null,null,{"$f":"COUNTIF($D$76:D106,D106)","v":0},null,7]
[null,32,null,null,null,null,null,null,null,null,null,null,null,null,{"$f":"COUNTIF($D$76:D107,D107)","v":0},null,7]
[null,33,null,null,null,null,null,null,null,null,null,null,null,null,{"$f":"COUNTIF($D$76:D108,D108)","v":0},null,7]
[null,34,null,null,null,null,null,null,null,null,null,null,null,null,{"$f":"COUNTIF($D$76:D109,D109)","v":0},null,7]
[null,35,null,null,null,null,null,null,null,null,null,null,null,null,{"$f":"COUNTIF($D$76:D110,D110)","v":0},null,8]
[null,36,null,null,null,null,null,null,null,null,null,null,null,null,{"$f":"COUNTIF($D$76:D111,D111)","v":0},null,8]
[null,37,null,null,null,null,null,null,null,null,null,null,null,null,{"$f":"COUNTIF($D$76:D112,D112)","v":0},null,8]
[null,38,null,null,null,null,null,null,null,null,null,null,null,null,{"$f":"COUNTIF($D$76:D113,D113)","v":0},null,8]
[null,39,null,null,null,null,null,null,null,null,null,null,null,null,{"$f":"COUNTIF($D$76:D114,D114)","v":0},null,8]
[null,40,null,null,null,null,null,null,null,null,null,null,null,null,{"$f":"COUNTIF($D$76:D115,D115)","v":0},null,9]
[null,41,null,null,null,null,null,null,null,null,null,null,null,null,{"$f":"COUNTIF($D$76:D116,D116)","v":0},null,9]
[null,42,null,null,null,null,null,null,null,null,null,null,null,null,{"$f":"COUNTIF($D$76:D117,D117)","v":0},null,9]
[null,43,null,null,null,null,null,null,null,null,null,null,null,null,{"$f":"COUNTIF($D$76:D118,D118)","v":0},null,9]
[null,44,null,null,null,null,null,null,null,null,null,null,null,null,{"$f":"COUNTIF($D$76:D119,D119)","v":0},null,9]
[null,45,null,null,null,null,null,null,null,null,null,null,null,null,{"$f":"COUNTIF($D$76:D120,D120)","v":0},null,10]
[null,46,null,null,null,null,null,null,null,null,null,null,null,null,{"$f":"COUNTIF($D$76:D121,D121)","v":0},null,10]
[null,47,null,null,null,null,null,null,null,null,null,null,null,null,{"$f":"COUNTIF($D$76:D122,D122)","v":0},null,10]
[null,48,null,null,null,null,null,null,null,null,null,null,null,null,{"$f":"COUNTIF($D$76:D123,D123)","v":0},null,10]
[null,49,null,null,null,null,null,null,null,null,null,null,null,null,{"$f":"COUNTIF($D$76:D124,D124)","v":0},null,10]
[null,50,null,null,null,null,null,null,null,null,null,null,null,null,{"$f":"COUNTIF($D$76:D125,D125)","v":0},null,11]
[null,51,null,null,null,null,null,null,null,null,null,null,null,null,{"$f":"COUNTIF($D$76:D126,D126)","v":0},null,11]
[null,52,null,null,null,null,null,null,null,null,null,null,null,null,{"$f":"COUNTIF($D$76:D127,D127)","v":0},null,11]
[null,53,null,null,null,null,null,null,null,null,null,null,null,null,{"$f":"COUNTIF($D$76:D128,D128)","v":0},null,11]
[null,54,null,null,null,null,null,null,null,null,null,null,null,null,{"$f":"COUNTIF($D$76:D129,D129)","v":0},null,11]
[null,55,null,null,null,null,null,null,null,null,null,null,null,null,{"$f":"COUNTIF($D$76:D130,D130)","v":0},null,12]
[null,56,null,null,null,null,null,null,null,null,null,null,null,null,{"$f":"COUNTIF($D$76:D131,D131)","v":0},null,12]
[null,57,null,null,null,null,null,null,null,null,null,null,null,null,{"$f":"COUNTIF($D$76:D132,D132)","v":0},null,12]
[null,58,null,null,null,null,null,null,null,null,null,null,null,null,{"$f":"COUNTIF($D$76:D133,D133)","v":0},null,12]
[null,59,null,null,null,null,null,null,null,null,null,null,null,null,{"$f":"COUNTIF($D$76:D134,D134)","v":0},null,12]
[null,60,null,null,null,null,null,null,null,null,null,null,null,null,{"$f":"COUNTIF($D$76:D135,D135)","v":0},null,13]

{"sheet":"キャラクターシート","index":2,"n_rows":71,"n_cols":76,"rows_kept":71,"cut":false,"hidden":false,"merged":[[20,2,21,4],[20,11,21,13],[16,12,17,12],[16,13,17,16],[12,10,13,11],[14,10,15,11],[14,12,15,12],[14,13,15,16],[12,12,13,12],[12,13,13,16],[68,36,69,38],[68,39,69,47],[65,36,66,42],[66,18,67,23],[66,24,67,33],[68,49,69,53],[68,54,69,57],[56,54,56,60],[41,55,42,57],[43,55,44,57],[45,58,54,60],[48,22,49,33],[50,22,51,33],[59,36,60,42],[63,24,63,33],[64,24,65,33],[52,22,53,33],[54,22,55,33],[56,22,57,33],[59,43,60,53],[56,20,57,21],[45,36,54,40],[41,41,42,44],[45,41,54,44],[41,67,42,70],[57,54,58,60],[59,54,60,60],[61,61,62,70],[45,51,54,54],[58,22,59,33],[60,22,61,33],[56,61,56,70],[57,61,58,70],[59,61,60,70],[56,36,56,42],[57,36,58,42],[41,51,42,54],[43,51,44,54],[41,58,42,60],[43,58,44,60],[41,48,42,50],[42,22,43,33],[45,64,54,66],[41,45,42,47],[56,43,56,53],[45,45,54,47],[41,39,42,40],[43,39,44,40],[41,64,42,66],[43,64,44,66],[35,51,36,54],[35,55,36,57],[37,55,38,57],[43,61,44,63],[39,51,40,54],[39,55,40,57],[39,58,40,60],[37,51,38,54],[37,58,38,60],[35,58,36,60],[39,48,40,50],[33,48,34,50],[39,45,40,47],[35,39,36,40],[37,39,38,40],[39,39,40,40],[35,64,36,66],[37,64,38,66],[39,64,40,66],[33,61,34,63],[33,58,34,60],[35,61,36,63],[37,61,38,63],[37,45,38,47],[37,48,38,50],[35,41,36,44],[35,45,36,47],[35,48,36,50],[33,55,34,57],[25,36,26,38],[31,36,32,38],[31,41,32,44],[31,20,31,22],[34,26,36,29],[34,30,36,33],[46,18,47,19],[50,1,51,6],[50,7,51,8],[48,1,49,6],[48,7,49,8],[48,9,49,13],[48,14,49,17],[48,18,49,19],[48,20,49,21],[41,18,41,19],[41,9,41,13],[42,7,43,8],[42,9,43,13],[42,14,43,17],[42,18,43,19],[42,20,43,21],[37,24,39,25],[39,41,40,44],[37,30,39,33],[32,20,33,22],[44,22,45,33],[46,22,47,33],[46,9,47,13],[44,14,45,17],[44,18,45,19],[44,9,45,13],[38,20,39,22],[36,11,37,13],[36,14,37,16],[36,17,37,19],[36,20,37,22],[41,20,41,21],[38,14,39,16],[38,17,39,19],[34,11,35,13],[34,14,35,16],[34,17,35,19],[34,20,35,22],[37,26,39,29],[32,8,33,10],[32,11,33,13],[32,14,33,16],[43,48,44,50],[45,48,54,50],[41,22,41,33],[34,8,35,10],[60,1,61,6],[60,7,61,8],[60,9,61,13],[60,14,61,17],[60,18,61,19],[60,20,61,21],[37,41,38,44],[46,20,47,21],[44,1,45,6],[44,7,45,8],[58,1,59,6],[58,7,59,8],[58,9,59,13],[58,14,59,17],[58,18,59,19],[58,20,59,21],[52,7,53,8],[52,9,53,13],[52,14,53,17],[46,14,47,17],[56,14,57,17],[56,18,57,19],[57,43,58,53],[45,55,54,57],[44,20,45,21],[65,61,66,70],[61,36,62,42],[63,36,64,42],[61,43,62,53],[63,43,64,53],[65,43,66,53],[61,54,62,60],[63,54,64,60],[65,54,66,60],[63,61,64,70],[50,14,51,17],[50,18,51,19],[50,20,51,21],[52,18,53,19],[52,20,53,21],[45,61,54,63],[33,36,44,38],[43,41,44,44],[43,45,44,47],[29,58,30,60],[21,58,22,60],[31,45,32,47],[31,48,32,50],[31,58,32,60],[27,55,28,57],[29,55,30,57],[21,48,22,50],[54,1,55,6],[54,7,55,8],[54,9,55,13],[54,14,55,17],[54,18,55,19],[54,20,55,21],[46,1,47,6],[46,7,47,8],[41,1,41,6],[41,7,41,8],[42,1,43,6],[41,14,41,17],[25,48,26,50],[29,48,30,50],[27,39,28,40],[29,39,30,40],[21,55,22,57],[23,55,24,57],[25,55,26,57],[33,41,34,44],[33,45,34,47],[30,30,30,33],[31,24,33,25],[34,24,36,25],[31,26,33,29],[31,30,33,33],[23,48,24,50],[33,39,34,40],[31,39,32,40],[27,36,28,38],[29,36,30,38],[27,41,28,44],[27,45,28,47],[27,48,28,50],[29,41,30,44],[29,45,30,47],[22,23,22,26],[21,36,22,38],[25,39,26,40],[25,41,26,44],[64,1,65,6],[66,1,67,6],[68,1,69,6],[63,1,63,6],[63,18,63,23],[64,18,65,23],[63,7,63,16],[64,7,65,16],[66,7,67,16],[68,7,69,16],[56,1,57,6],[56,7,57,8],[56,9,57,13],[34,1,35,1],[36,1,37,1],[34,2,35,4],[34,5,35,7],[38,1,39,1],[38,2,39,4],[38,5,39,7],[50,9,51,13],[38,8,39,10],[38,11,39,13],[36,2,37,4],[36,5,37,7],[36,8,37,10],[52,1,53,6],[32,17,33,19],[19,5,19,7],[19,8,19,10],[19,11,19,13],[19,14,19,16],[20,5,21,7],[20,8,21,10],[31,17,31,19],[23,1,28,20],[1,18,20,33],[30,24,30,25],[30,26,30,29],[32,2,33,4],[2,17,5,17],[29,2,29,7],[23,28,24,33],[25,28,26,33],[27,28,28,33],[23,22,24,27],[25,22,26,27],[27,22,28,27],[16,1,17,2],[16,3,17,8],[16,10,17,11],[2,36,10,38],[2,51,10,54],[2,55,10,57],[2,61,10,63],[15,39,16,40],[11,36,12,38],[31,1,33,1],[31,2,31,4],[31,5,31,7],[31,8,31,10],[31,11,31,13],[31,14,31,16],[14,1,15,2],[14,3,15,8],[7,1,7,5],[9,1,9,5],[7,6,8,16],[9,6,10,16],[12,1,13,2],[12,3,13,8],[20,14,21,16],[19,1,21,1],[19,2,19,4],[32,5,33,7],[17,61,18,63],[19,55,20,57],[19,61,20,63],[19,48,20,50],[19,64,20,66],[11,45,12,47],[17,45,18,47],[1,48,1,50],[1,51,1,54],[1,55,1,57],[13,51,14,54],[15,51,16,54],[17,51,18,54],[19,51,20,54],[1,45,1,47],[19,58,20,60],[17,48,18,50],[17,55,18,57],[17,58,18,60],[15,61,16,63],[2,39,10,40],[11,39,12,40],[13,39,14,40],[13,48,14,50],[15,45,16,47],[15,48,16,50],[13,36,14,38],[1,64,1,66],[2,41,10,44],[2,45,10,47],[2,48,10,50],[1,61,1,63],[11,48,12,50],[1,41,1,44],[11,61,12,63],[11,51,12,54],[11,55,12,57],[13,55,14,57],[15,55,16,57],[13,41,14,44],[13,45,14,47],[15,41,16,44],[2,64,10,66],[13,61,14,63],[11,41,12,44],[19,41,20,44],[21,41,22,44],[21,45,22,47],[21,39,22,40],[23,39,24,40],[17,36,18,38],[19,36,20,38],[19,45,20,47],[19,39,20,40],[17,41,18,44],[23,41,24,44],[23,45,24,47],[17,39,18,40],[23,36,24,38],[15,36,16,38],[25,45,26,47],[25,64,26,66],[27,64,28,66],[29,64,30,66],[33,64,34,66],[21,51,22,54],[23,51,24,54],[25,51,26,54],[27,51,28,54],[31,64,32,66],[31,51,32,54],[31,55,32,57],[31,61,32,63],[29,51,30,54],[33,51,34,54],[25,61,26,63],[27,61,28,63],[21,61,22,63],[23,61,24,63],[29,61,30,63],[21,64,22,66],[23,64,24,66],[23,58,24,60],[25,58,26,60],[27,58,28,60],[1,67,10,70],[1,36,1,40],[1,58,1,60],[2,58,10,60],[11,58,12,60],[13,58,14,60],[15,58,16,60],[45,67,54,70],[19,67,20,68],[19,69,20,70],[43,67,44,70],[41,61,42,63],[25,67,26,70],[27,67,28,70],[29,67,30,70],[31,67,32,70],[33,67,34,70],[35,67,36,70],[37,67,38,70],[39,67,40,70],[39,61,40,63],[21,67,22,70],[23,67,24,70],[11,69,12,70],[13,69,14,70],[15,67,16,68],[15,69,16,70],[17,67,18,68],[17,69,18,70],[11,64,12,66],[13,64,14,66],[15,64,16,66],[17,64,18,66],[11,67,12,68],[13,67,14,68]]}
[]
[null,null,null,null,null,null,null,null,null,null,null,null,null,null,null,null,null,null,"",null,null,null,null,null,null,null,null,null,null,null,null,null,null,null,null,null,"装備",null,null,null,null,"武器",null,null,null,{"$f":"キャラメイク!F18","v":"盾"},null,null,"鎧",null,null,"装飾品1",null,null,null,"装飾品2",null,null,"ペット",null,null,"特技",null,null,"その他",null,null,"合計"]
[null,null,null,null,null,null,null,null,null,null,null,null,null,null,null,null,null,"イラスト",null,null,null,null,null,null,null,null,null,null,null,null,null,null,null,null,null,null,"名称",null,null,"副能力",null,{"$f":"IF(キャラメイク!$G$17=\"\",\"\",キャラメイク!$G$17)","v":"アルテミスショット"},null,null,null,{"$f":"IF(キャラメイク!$G$18=\"\",\"\",キャラメイク!$G$18)","v":""},null,null,{"$f":"IF(キャラメイク!$G$19=\"\",\"\",キャラメイク!$G$19)","v":"ヘビーレザーアーマー"},null,null,{"$f":"IF(キャラメイク!$G$20=\"\",\"\",キャラメイク!$G$20)","v":""},null,null,null,{"$f":"IF(キャラメイク!$G$21=\"\",\"\",キャラメイク!$G$21)","v":""},null,null,{"$f":"IF(キャラメイク!$G$22=\"\",\"\",キャラメイク!$G$22)","v":""},null,null,{"$f":"IF(キャラメイク!$G$23=\"\",\"\",キャラメイク!$G$23)","v":""},null,null,{"$f":"IF(キャラメイク!$G$24=\"\",\"\",キャラメイク!$G$24)","v":""}]
[]
[]
[null,null,null,null,null,null,null,null,null,null,null,null,null,null,null,null,null,null,null,null,null,null,null,null,null,null,null,null,null,null,null,null,null,null,null,null,null,null,null,null,null,null,null,null,null,null,null,null,null,null,null,null,null,null,null,null,null,null,null,null,null,null,null,null,null,null,null,null,null,null,null,null,null,null,null,"※画質はあんまりよくありません。"]
[null,null,null,null,null,null,null,null,null,null,null,null,null,null,null,null,null,null,null,null,null,null,null,null,null,null,null,null,null,null,null,null,null,null,null,null,null,null,null,null,null,null,null,null,null,null,null,null,null,null,null,null,null,null,null,null,null,null,null,null,null,null,null,null,null,null,null,null,null,null,null,null,null,null,null,"※上書き保存時に警告ダイアログが出ないので注意してください。"]
[null,"キャラクター名",null,null,null,null,{"$f":"IF(キャラメイク!B2=\"\",\"\",キャラメイク!B2)","v":"所長"}]
[]
[null,"プレイヤー名",null,null,null,null,{"$f":"IF(キャラメイク!B3=\"\",\"\",キャラメイク!B3)","v":""}]
[]
[null,null,null,null,null,null,null,null,null,null,null,null,null,null,null,null,null,null,null,null,null,null,null,null,null,null,null,null,null,null,null,null,null,null,null,null,"必体",null,null,{"$f":"IF(キャラメイク!$J$16=\"\",\"\",キャラメイク!$J$16)","v":10},null,{"$f":"IF(キャラメイク!$J$17=\"\",\"\",キャラメイク!$J$17)","v":""},null,null,null,{"$f":"IF(キャラメイク!$J$18=\"\",\"\",キャラメイク!$J$18)","v":""},null,null,{"$f":"IF(キャラメイク!$J$19=\"\",\"\",キャラメイク!$J$19)","v":10},null,null,{"$f":"IF(キャラメイク!$J$20=\"\",\"\",キャラメイク!$J$20)","v":""},null,null,null,{"$f":"IF(キャラメイク!$J$21=\"\",\"\",キャラメイク!$J$21)","v":""},null,null,{"$f":"IF(キャラメイク!$J$22=\"\",\"\",キャラメイク!$J$22)","v":""},null,null,{"$f":"IF(キャラメイク!$J$23=\"\",\"\",キャラメイク!$J$23)","v":""},null,null,{"$f":"IF(キャラメイク!$J$24=\"\",\"\",キャラメイク!$J$24)","v":""},null,null,"武器",null,"盾"]
[null,"メイン\nクラス",null,{"$f":"IF(キャラメイク!B5=\"\",\"\",キャラメイク!B5)","v":"アルテミス"},null,null,null,null,null,null,{"$f":"キャラメイク!D5","v":8},null,"CL",{"$f":"キャラメイク!D8","v":8}]
[null,null,null,null,null,null,null,null,null,"Lv",null,null,null,null,null,null,null,null,null,null,null,null,null,null,null,null,null,null,null,null,null,null,null,null,null,null,"攻撃",null,null,{"$f":"IF(キャラメイク!$K$16=\"\",\"\",キャラメイク!$K$16)","v":10},null,{"$f":"IF(キャラメイク!$K$17=\"\",\"\",キャラメイク!$K$17)","v":5},null,null,null,{"$f":"IF(キャラメイク!$K$18=\"\",\"\",キャラメイク!$K$18)","v":""},null,null,{"$f":"IF(キャラメイク!$K$19=\"\",\"\",キャラメイク!$K$19)","v":""},null,null,{"$f":"IF(キャラメイク!$K$20=\"\",\"\",キャラメイク!$K$20)","v":""},null,null,null,{"$f":"IF(キャラメイク!$K$21=\"\",\"\",キャラメイク!$K$21)","v":""},null,null,{"$f":"IF(キャラメイク!$K$22=\"\",\"\",キャラメイク!$K$22)","v":""},null,null,{"$f":"IF(キャラメイク!$K$23=\"\",\"\",キャラメイク!$K$23)","v":0},null,null,{"$f":"IF(キャラメイク!$K$24=\"\",\"\",キャラメイク!$K$24)","v":""},null,null,{"$f":"IF(キャラメイク!$K$25=\"\",\"\",キャラメイク!$K$25)","v":15},null,{"$f":"IF(キャラメイク!$K$26=\"\",\"\",キャラメイク!$K$26)","v":"-"},null,null,null,null,null,"※B4サイズ1ページ"]
[null,"サブ\nクラス",null,{"$f":"IF(キャラメイク!B6=\"\",\"\",キャラメイク!B6)","v":""},null,null,null,null,null,null,{"$f":"IF(D15=\"\",\"\",キャラメイク!D6)","v":""},null,"種族",{"$f":"キャラメイク!B10","v":"亜人"}]
[null,null,null,null,null,null,null,null,null,"Lv",null,null,null,null,null,null,null,null,null,null,null,null,null,null,null,null,null,null,null,null,null,null,null,null,null,null,"属性",null,null,null,null,{"$f":"IF(キャラメイク!$L$17=\"\",\"\",キャラメイク!$L$17)","v":"打刺"},null,null,null,{"$f":"IF(キャラメイク!$L$18=\"\",\"\",キャラメイク!$L$18)","v":""},null,null,{"$f":"IF(キャラメイク!$L$19=\"\",\"\",キャラメイク!$L$19)","v":""},null,null,{"$f":"IF(キャラメイク!$L$20=\"\",\"\",キャラメイク!$L$20)","v":""},null,null,null,{"$f":"IF(キャラメイク!$L$21=\"\",\"\",キャラメイク!$L$21)","v":""},null,null,{"$f":"IF(キャラメイク!$L$22=\"\",\"\",キャラメイク!$L$22)","v":""},null,null,{"$f":"IF(キャラメイク!$L$23=\"\",\"\",キャラメイク!$L$23)","v":""},null,null,{"$f":"IF(キャラメイク!$L$24=\"\",\"\",キャラメイク!$L$24)","v":""},null,null,{"$f":"IF(キャラメイク!$L$25=\"\",\"\",キャラメイク!$L$25)","v":"打刺"},null,{"$f":"IF(キャラメイク!$L$26=\"\",\"\",キャラメイク!$L$26)","v":""},null,null,null,null,null,"ロゴは仮決定版です"]
[null,"マスター\nクラス",null,{"$f":"IF(キャラメイク!B7=\"\",\"\",キャラメイク!B7)","v":""},null,null,null,null,null,null,{"$f":"IF(D17=\"\",\"\",キャラメイク!D7)","v":""},null,"性別",{"$f":"IF(キャラメイク!B11=\"\",\"\",キャラメイク!B11)","v":"♀（？）"}]
[null,null,null,null,null,null,null,null,null,"Lv",null,null,null,null,null,null,null,null,null,null,null,null,null,null,null,null,null,null,null,null,null,null,null,null,null,null,"射程",null,null,null,null,{"$f":"IF(キャラメイク!$M$17=\"\",\"\",キャラメイク!$M$17)","v":20},null,null,null,{"$f":"IF(キャラメイク!$M$18=\"\",\"\",キャラメイク!$M$18)","v":""},null,null,{"$f":"IF(キャラメイク!$M$19=\"\",\"\",キャラメイク!$M$19)","v":""},null,null,{"$f":"IF(キャラメイク!$M$20=\"\",\"\",キャラメイク!$M$20)","v":""},null,null,null,{"$f":"IF(キャラメイク!$M$21=\"\",\"\",キャラメイク!$M$21)","v":""},null,null,{"$f":"IF(キャラメイク!$M$22=\"\",\"\",キャラメイク!$M$22)","v":""},null,null,{"$f":"IF(キャラメイク!$M$23=\"\",\"\",キャラメイク!$M$23)","v":0},null,null,{"$f":"IF(キャラメイク!$M$24=\"\",\"\",キャラメイク!$M$24)","v":""},null,null,{"$f":"IF(キャラメイク!$M$25=\"\",\"\",キャラメイク!$M$25)","v":20},null,{"$f":"IF(キャラメイク!$M$26=\"\",\"\",キャラメイク!$M$26)","v":"-"}]
[]
[null,"主能力","体力",null,null,"敏捷",null,null,"感覚",null,null,"知力",null,null,"意志",null,null,null,null,null,null,null,null,null,null,null,null,null,null,null,null,null,null,null,null,null,"命中",null,null,{"$f":"IF(キャラメイク!$N$16=\"\",\"\",キャラメイク!$N$16)","v":15},null,{"$f":"IF(キャラメイク!$N$17=\"\",\"\",キャラメイク!$N$17)","v":2},null,null,null,{"$f":"IF(キャラメイク!$N$18=\"\",\"\",キャラメイク!$N$18)","v":""},null,null,{"$f":"IF(キャラメイク!$N$19=\"\",\"\",キャラメイク!$N$19)","v":""},null,null,{"$f":"IF(キャラメイク!$N$20=\"\",\"\",キャラメイク!$N$20)","v":""},null,null,null,{"$f":"IF(キャラメイク!$N$21=\"\",\"\",キャラメイク!$N$21)","v":""},null,null,{"$f":"IF(キャラメイク!$N$22=\"\",\"\",キャラメイク!$N$22)","v":""},null,null,{"$f":"IF(キャラメイク!$N$23=\"\",\"\",キャラメイク!$N$23)","v":3},null,null,{"$f":"IF(キャラメイク!$N$24=\"\",\"\",キャラメイク!$N$24)","v":""},null,null,{"$f":"IF(キャラメイク!$N$25=\"\",\"\",キャラメイク!$N$25)","v":20},null,{"$f":"IF(キャラメイク!$N$26=\"\",\"\",キャラメイク!$N$26)","v":"-"}]
[null,null,{"$f":"キャラメイク!G6","v":10},null,null,{"$f":"キャラメイク!H6","v":15},null,null,{"$f":"キャラメイク!I6","v":15},null,null,{"$f":"キャラメイク!J6","v":10},null,null,{"$f":"キャラメイク!K6","v":10}]
[null,null,null,null,null,null,null,null,null,null,null,null,null,null,null,null,null,null,null,null,null,null,null,null,null,null,null,null,null,null,null,null,null,null,null,null,"ドッジ",null,null,{"$f":"IF(キャラメイク!$O$16=\"\",\"\",キャラメイク!$O$16)","v":15},null,{"$f":"IF(キャラメイク!$O$17=\"\",\"\",キャラメイク!$O$17)","v":""},null,null,null,{"$f":"IF(キャラメイク!$O$18=\"\",\"\",キャラメイク!$O$18)","v":""},null,null,{"$f":"IF(キャラメイク!$O$19=\"\",\"\",キャラメイク!$O$19)","v":""},null,null,{"$f":"IF(キャラメイク!$O$20=\"\",\"\",キャラメイク!$O$20)","v":""},null,null,null,{"$f":"IF(キャラメイク!$O$21=\"\",\"\",キャラメイク!$O$21)","v":""},null,null,{"$f":"IF(キャラメイク!$O$22=\"\",\"\",キャラメイク!$O$22)","v":""},null,null,{"$f":"IF(キャラメイク!$O$23=\"\",\"\",キャラメイク!$O$23)","v":0},null,null,{"$f":"IF(キャラメイク!$O$24=\"\",\"\",キャラメイク!$O$24)","v":""},null,null,{"$f":"IF(キャラメイク!$O$25=\"\",\"\",キャラメイク!$O$25)","v":15}]
[null,null,null,null,null,null,null,null,null,null,null,null,null,null,null,null,null,null,null,null,null,null,null,"大事なもの"]
[null,"忘れられたダンジョン「遊覧船発着場」の所長を務めるアルテミス。\n長い間眠っていたため外の世界には興味津々。\n\n・イラスト\n「ジュエルセイバーFREE」様　URL：http://www.jewel-s.jp/",null,null,null,null,null,null,null,null,null,null,null,null,null,null,null,null,null,null,null,null,{"$f":"IF(キャラメイク!A24=\"\",\"\",キャラメイク!A24)","v":"管理カード"},null,null,null,null,null,{"$f":"IF(キャラメイク!B24=\"\",\"\",キャラメイク!B24)","v":"冒険かばん"},null,null,null,null,null,null,null,"パリイ",null,null,{"$f":"IF(キャラメイク!$P$16=\"\",\"\",キャラメイク!$P$16)","v":15},null,{"$f":"IF(キャラメイク!$P$17=\"\",\"\",キャラメイク!$P$17)","v":-2},null,null,null,{"$f":"IF(キャラメイク!$P$18=\"\",\"\",キャラメイク!$P$18)","v":""},null,null,{"$f":"IF(キャラメイク!$P$19=\"\",\"\",キャラメイク!$P$19)","v":""},null,null,{"$f":"IF(キャラメイク!$P$20=\"\",\"\",キャラメイク!$P$20)","v":""},null,null,null,{"$f":"IF(キャラメイク!$P$21=\"\",\"\",キャラメイク!$P$21)","v":""},null,null,{"$f":"IF(キャラメイク!$P$22=\"\",\"\",キャラメイク!$P$22)","v":""},null,null,{"$f":"IF(キャラメイク!$P$23=\"\",\"\",キャラメイク!$P$23)","v":0},null,null,{"$f":"IF(キャラメイク!$P$24=\"\",\"\",キャラメイク!$P$24)","v":""},null,null,{"$f":"IF(キャラメイク!$P$25=\"\",\"\",キャラメイク!$P$25)","v":13}]
[]
[null,null,null,null,null,null,null,null,null,null,null,null,null,null,null,null,null,null,null,null,null,null,{"$f":"IF(キャラメイク!A25=\"\",\"\",キャラメイク!A25)","v":""},null,null,null,null,null,{"$f":"IF(キャラメイク!B25=\"\",\"\",キャラメイク!B25)","v":""},null,null,null,null,null,null,null,"シールド",null,null,{"$f":"IF(キャラメイク!$Q$16=\"\",\"\",キャラメイク!$Q$16)","v":15},null,{"$f":"IF(キャラメイク!$Q$17=\"\",\"\",キャラメイク!$Q$17)","v":""},null,null,null,{"$f":"IF(キャラメイク!$Q$18=\"\",\"\",キャラメイク!$Q$18)","v":""},null,null,{"$f":"IF(キャラメイク!$Q$19=\"\",\"\",キャラメイク!$Q$19)","v":""},null,null,{"$f":"IF(キャラメイク!$Q$20=\"\",\"\",キャラメイク!$Q$20)","v":""},null,null,null,{"$f":"IF(キャラメイク!$Q$21=\"\",\"\",キャラメイク!$Q$21)","v":""},null,null,{"$f":"IF(キャラメイク!$Q$22=\"\",\"\",キャラメイク!$Q$22)","v":""},null,null,{"$f":"IF(キャラメイク!$Q$23=\"\",\"\",キャラメイク!$Q$23)","v":0},null,null,{"$f":"IF(キャラメイク!$Q$24=\"\",\"\",キャラメイク!$Q$24)","v":""},null,null,{"$f":"IF(キャラメイク!$Q$25=\"\",\"\",キャラメイク!$Q$25)","v":"-"}]
[]
[null,null,null,null,null,null,null,null,null,null,null,null,null,null,null,null,null,null,null,null,null,null,{"$f":"IF(キャラメイク!A26=\"\",\"\",キャラメイク!A26)","v":""},null,null,null,null,null,{"$f":"IF(キャラメイク!B26=\"\",\"\",キャラメイク!B26)","v":""},null,null,null,null,null,null,null,"抵抗",null,null,{"$f":"IF(キャラメイク!$R$16=\"\",\"\",キャラメイク!$R$16)","v":10},null,{"$f":"IF(キャラメイク!$R$17=\"\",\"\",キャラメイク!$R$17)","v":""},null,null,null,{"$f":"IF(キャラメイク!$R$18=\"\",\"\",キャラメイク!$R$18)","v":""},null,null,{"$f":"IF(キャラメイク!$R$19=\"\",\"\",キャラメイク!$R$19)","v":""},null,null,{"$f":"IF(キャラメイク!$R$20=\"\",\"\",キャラメイク!$R$20)","v":""},null,null,null,{"$f":"IF(キャラメイク!$R$21=\"\",\"\",キャラメイク!$R$21)","v":""},null,null,{"$f":"IF(キャラメイク!$R$22=\"\",\"\",キャラメイク!$R$22)","v":""},null,null,{"$f":"IF(キャラメイク!$R$23=\"\",\"\",キャラメイク!$R$23)","v":0},null,null,{"$f":"IF(キャラメイク!$R$24=\"\",\"\",キャラメイク!$R$24)","v":""},null,null,{"$f":"IF(キャラメイク!$R$25=\"\",\"\",キャラメイク!$R$25)","v":10}]
[]
[null,null,"パーソナルデータ",null,null,null,null,null,null,null,null,null,null,null,null,null,null,null,null,null,null,null,null,null,null,null,null,null,null,null,null,null,null,null,null,null,"移動",null,null,{"$f":"IF(キャラメイク!$S$16=\"\",\"\",キャラメイク!$S$16)","v":10},null,{"$f":"IF(キャラメイク!$S$17=\"\",\"\",キャラメイク!$S$17)","v":""},null,null,null,{"$f":"IF(キャラメイク!$S$18=\"\",\"\",キャラメイク!$S$18)","v":""},null,null,{"$f":"IF(キャラメイク!$S$19=\"\",\"\",キャラメイク!$S$19)","v":""},null,null,{"$f":"IF(キャラメイク!$S$20=\"\",\"\",キャラメイク!$S$20)","v":""},null,null,null,{"$f":"IF(キャラメイク!$S$21=\"\",\"\",キャラメイク!$S$21)","v":""},null,null,{"$f":"IF(キャラメイク!$S$22=\"\",\"\",キャラメイク!$S$22)","v":""},null,null,{"$f":"IF(キャラメイク!$S$23=\"\",\"\",キャラメイク!$S$23)","v":0},null,null,{"$f":"IF(キャラメイク!$S$24=\"\",\"\",キャラメイク!$S$24)","v":""},null,null,{"$f":"IF(キャラメイク!$S$25=\"\",\"\",キャラメイク!$S$25)","v":10}]
[null,null,null,null,null,null,null,null,null,null,null,null,null,null,null,null,null,null,null,null,null,null,null,null,null,null,"最大",null,null,null,"現在"]
[null,"副能力","HP",null,null,"FP",null,null,"命中",null,null,"回避",null,null,"抵抗",null,null,"移動",null,null,"先制",null,null,null,"HP",null,{"$f":"C39","v":56},null,null,null,null,null,null,null,null,null,"先制",null,null,{"$f":"IF(キャラメイク!$T$16=\"\",\"\",キャラメイク!$T$16)","v":15},null,{"$f":"IF(キャラメイク!$T$17=\"\",\"\",キャラメイク!$T$17)","v":""},null,null,null,{"$f":"IF(キャラメイク!$T$18=\"\",\"\",キャラメイク!$T$18)","v":""},null,null,{"$f":"IF(キャラメイク!$T$19=\"\",\"\",キャラメイク!$T$19)","v":""},null,null,{"$f":"IF(キャラメイク!$T$20=\"\",\"\",キャラメイク!$T$20)","v":""},null,null,null,{"$f":"IF(キャラメイク!$T$21=\"\",\"\",キャラメイク!$T$21)","v":""},null,null,{"$f":"IF(キャラメイク!$T$22=\"\",\"\",キャラメイク!$T$22)","v":""},null,null,{"$f":"IF(キャラメイク!$T$23=\"\",\"\",キャラメイク!$T$23)","v":0},null,null,{"$f":"IF(キャラメイク!$T$24=\"\",\"\",キャラメイク!$T$24)","v":""},null,null,{"$f":"IF(キャラメイク!$T$25=\"\",\"\",キャラメイク!$T$25)","v":15}]
[null,null,{"$f":"キャラメイク!G10","v":56},null,null,{"$f":"キャラメイク!H10","v":18},null,null,{"$f":"キャラメイク!I10","v":15},null,null,{"$f":"キャラメイク!J10","v":15},null,null,{"$f":"キャラメイク!K10","v":10},null,null,{"$f":"キャラメイク!L10","v":10},null,null,{"$f":"キャラメイク!M10","v":15}]
[null,null,null,null,null,null,null,null,null,null,null,null,null,null,null,null,null,null,null,null,null,null,null,null,null,null,null,null,null,null,null,null,null,null,null,null,"防護点",null,null,"打撃",null,{"$f":"IF(キャラメイク!$U$17=\"\",\"\",キャラメイク!$U$17)","v":""},null,null,null,{"$f":"IF(キャラメイク!$U$18=\"\",\"\",キャラメイク!$U$18)","v":""},null,null,{"$f":"IF(キャラメイク!$U$19=\"\",\"\",キャラメイク!$U$19)","v":8},null,null,{"$f":"IF(キャラメイク!$U$20=\"\",\"\",キャラメイク!$U$20)","v":""},null,null,null,{"$f":"IF(キャラメイク!$U$21=\"\",\"\",キャラメイク!$U$21)","v":""},null,null,{"$f":"IF(キャラメイク!$U$22=\"\",\"\",キャラメイク!$U$22)","v":""},null,null,{"$f":"IF(キャラメイク!$U$23=\"\",\"\",キャラメイク!$U$23)","v":3},null,null,{"$f":"IF(キャラメイク!$U$24=\"\",\"\",キャラメイク!$U$24)","v":2},null,null,{"$f":"IF(キャラメイク!$U$25=\"\",\"\",キャラメイク!$U$25)","v":13}]
[null,"特技",{"$f":"キャラメイク!G11","v":0},null,null,{"$f":"キャラメイク!H11","v":4},null,null,{"$f":"キャラメイク!I11","v":0},null,null,{"$f":"キャラメイク!J11","v":0},null,null,{"$f":"キャラメイク!K11","v":0},null,null,{"$f":"キャラメイク!L11","v":0},null,null,{"$f":"キャラメイク!M11","v":0},null,null,null,"FP",null,{"$f":"F39","v":22}]
[null,null,null,null,null,null,null,null,null,null,null,null,null,null,null,null,null,null,null,null,null,null,null,null,null,null,null,null,null,null,null,null,null,null,null,null,null,null,null,"斬撃",null,{"$f":"IF(キャラメイク!$V$17=\"\",\"\",キャラメイク!$V$17)","v":""},null,null,null,{"$f":"IF(キャラメイク!$V$18=\"\",\"\",キャラメイク!$V$18)","v":""},null,null,{"$f":"IF(キャラメイク!$V$19=\"\",\"\",キャラメイク!$V$19)","v":6},null,null,{"$f":"IF(キャラメイク!$V$20=\"\",\"\",キャラメイク!$V$20)","v":""},null,null,null,{"$f":"IF(キャラメイク!$V$21=\"\",\"\",キャラメイク!$V$21)","v":""},null,null,{"$f":"IF(キャラメイク!$V$22=\"\",\"\",キャラメイク!$V$22)","v":""},null,null,{"$f":"IF(キャラメイク!$V$23=\"\",\"\",キャラメイク!$V$23)","v":3},null,null,{"$f":"IF(キャラメイク!$V$24=\"\",\"\",キャラメイク!$V$24)","v":2},null,null,{"$f":"IF(キャラメイク!$V$25=\"\",\"\",キャラメイク!$V$25)","v":11}]
[null,"他",{"$f":"キャラメイク!G12","v":0},null,null,{"$f":"キャラメイク!H12","v":0},null,null,{"$f":"キャラメイク!I12","v":0},null,null,{"$f":"キャラメイク!J12","v":0},null,null,{"$f":"キャラメイク!K12","v":0},null,null,{"$f":"キャラメイク!L12","v":0},null,null,{"$f":"キャラメイク!M12","v":0}]
[null,null,null,null,null,null,null,null,null,null,null,null,null,null,null,null,null,null,null,null,null,null,null,null,"Ft",null,{"$f":"キャラメイク!AA25","v":2},null,null,null,null,null,null,null,null,null,null,null,null,"刺突",null,{"$f":"IF(キャラメイク!$W$17=\"\",\"\",キャラメイク!$W$17)","v":""},null,null,null,{"$f":"IF(キャラメイク!$W$18=\"\",\"\",キャラメイク!$W$18)","v":""},null,null,{"$f":"IF(キャラメイク!$W$19=\"\",\"\",キャラメイク!$W$19)","v":4},null,null,{"$f":"IF(キャラメイク!$W$20=\"\",\"\",キャラメイク!$W$20)","v":""},null,null,null,{"$f":"IF(キャラメイク!$W$21=\"\",\"\",キャラメイク!$W$21)","v":""},null,null,{"$f":"IF(キャラメイク!$W$22=\"\",\"\",キャラメイク!$W$22)","v":""},null,null,{"$f":"IF(キャラメイク!$W$23=\"\",\"\",キャラメイク!$W$23)","v":3},null,null,{"$f":"IF(キャラメイク!$W$24=\"\",\"\",キャラメイク!$W$24)","v":2},null,null,{"$f":"IF(キャラメイク!$W$25=\"\",\"\",キャラメイク!$W$25)","v":9}]
[null,"合計",{"$f":"キャラメイク!G13","v":56},null,null,{"$f":"キャラメイク!H13","v":22},null,null,{"$f":"キャラメイク!I13","v":15},null,null,{"$f":"キャラメイク!J13","v":15},null,null,{"$f":"キャラメイク!K13","v":10},null,null,{"$f":"キャラメイク!L13","v":10},null,null,{"$f":"キャラメイク!M13","v":15}]
[null,null,null,null,null,null,null,null,null,null,null,null,null,null,null,null,null,null,null,null,null,null,null,null,null,null,null,null,null,null,null,null,null,null,null,null,null,null,null,"火炎",null,{"$f":"IF(キャラメイク!$X$17=\"\",\"\",キャラメイク!$X$17)","v":""},null,null,null,{"$f":"IF(キャラメイク!$X$18=\"\",\"\",キャラメイク!$X$18)","v":""},null,null,{"$f":"IF(キャラメイク!$X$19=\"\",\"\",キャラメイク!$X$19)","v":6},null,null,{"$f":"IF(キャラメイク!$X$20=\"\",\"\",キャラメイク!$X$20)","v":""},null,null,null,{"$f":"IF(キャラメイク!$X$21=\"\",\"\",キャラメイク!$X$21)","v":""},null,null,{"$f":"IF(キャラメイク!$X$22=\"\",\"\",キャラメイク!$X$22)","v":""},null,null,{"$f":"IF(キャラメイク!$X$23=\"\",\"\",キャラメイク!$X$23)","v":3},null,null,{"$f":"IF(キャラメイク!$X$24=\"\",\"\",キャラメイク!$X$24)","v":2},null,null,{"$f":"IF(キャラメイク!$X$25=\"\",\"\",キャラメイク!$X$25)","v":11}]
[]
[null,"特技",null,null,null,null,null,"SLv",null,"使用タイミング",null,null,null,null,"判定",null,null,null,"射程",null,"FP",null,"効果",null,null,null,null,null,null,null,null,null,null,null,null,null,null,null,null,"冷気",null,{"$f":"IF(キャラメイク!$Y$17=\"\",\"\",キャラメイク!$Y$17)","v":""},null,null,null,{"$f":"IF(キャラメイク!$Y$18=\"\",\"\",キャラメイク!$Y$18)","v":""},null,null,{"$f":"IF(キャラメイク!$Y$19=\"\",\"\",キャラメイク!$Y$19)","v":6},null,null,{"$f":"IF(キャラメイク!$Y$20=\"\",\"\",キャラメイク!$Y$20)","v":""},null,null,null,{"$f":"IF(キャラメイク!$Y$21=\"\",\"\",キャラメイク!$Y$21)","v":""},null,null,{"$f":"IF(キャラメイク!$Y$22=\"\",\"\",キャラメイク!$Y$22)","v":""},null,null,{"$f":"IF(キャラメイク!$Y$23=\"\",\"\",キャラメイク!$Y$23)","v":3},null,null,{"$f":"IF(キャラメイク!$Y$24=\"\",\"\",キャラメイク!$Y$24)","v":2},null,null,{"$f":"IF(キャラメイク!$Y$25=\"\",\"\",キャラメイク!$Y$25)","v":11}]
[null,{"$f":"IF(特技シート!B10=\"\",\"\",特技シート!B10)","v":"アルテミス照準Sys"},null,null,null,null,null,{"$f":"IF(特技シート!H10=\"\",\"\",特技シート!H10)","v":1},null,{"$f":"IF(特技シート!J10=\"\",\"\",特技シート!J10)","v":"常時"},null,null,null,null,{"$f":"IF(特技シート!O10=\"\",\"\",特技シート!O10)","v":""},null,null,null,{"$f":"IF(特技シート!S10=\"\",\"\",特技シート!S10)","v":""},null,{"$f":"IF(特技シート!U10=\"\",\"\",特技シート!U10)","v":""},null,{"$f":"IF(特技シート!W10=\"\",\"\",特技シート!W10)","v":"射撃と魔法の命中＋３"}]
[null,null,null,null,null,null,null,null,null,null,null,null,null,null,null,null,null,null,null,null,null,null,null,null,null,null,null,null,null,null,null,null,null,null,null,null,null,null,null,"電撃",null,{"$f":"IF(キャラメイク!$Z$17=\"\",\"\",キャラメイク!$Z$17)","v":""},null,null,null,{"$f":"IF(キャラメイク!$Z$18=\"\",\"\",キャラメイク!$Z$18)","v":""},null,null,{"$f":"IF(キャラメイク!$Z$19=\"\",\"\",キャラメイク!$Z$19)","v":6},null,null,{"$f":"IF(キャラメイク!$Z$20=\"\",\"\",キャラメイク!$Z$20)","v":""},null,null,null,{"$f":"IF(キャラメイク!$Z$21=\"\",\"\",キャラメイク!$Z$21)","v":""},null,null,{"$f":"IF(キャラメイク!$Z$22=\"\",\"\",キャラメイク!$Z$22)","v":""},null,null,{"$f":"IF(キャラメイク!$Z$23=\"\",\"\",キャラメイク!$Z$23)","v":0},null,null,{"$f":"IF(キャラメイク!$Z$24=\"\",\"\",キャラメイク!$Z$24)","v":2},null,null,{"$f":"IF(キャラメイク!$Z$25=\"\",\"\",キャラメイク!$Z$25)","v":8}]
[null,{"$f":"IF(特技シート!B12=\"\",\"\",特技シート!B12)","v":"バトルドレス"},null,null,null,null,null,{"$f":"IF(特技シート!H12=\"\",\"\",特技シート!H12)","v":1},null,{"$f":"IF(特技シート!J12=\"\",\"\",特技シート!J12)","v":"常時"},null,null,null,null,{"$f":"IF(特技シート!O12=\"\",\"\",特技シート!O12)","v":""},null,null,null,{"$f":"IF(特技シート!S12=\"\",\"\",特技シート!S12)","v":""},null,{"$f":"IF(特技シート!U12=\"\",\"\",特技シート!U12)","v":""},null,{"$f":"IF(特技シート!W12=\"\",\"\",特技シート!W12)","v":"「電撃」以外のあらゆる防護点＋３"}]
[null,null,null,null,null,null,null,null,null,null,null,null,null,null,null,null,null,null,null,null,null,null,null,null,null,null,null,null,null,null,null,null,null,null,null,null,"備考",null,null,null,null,{"$f":"IF(キャラメイク!$AB$17=\"\",\"\",キャラメイク!$AB$17)","v":""},null,null,null,{"$f":"IF(キャラメイク!$AB$18=\"\",\"\",キャラメイク!$AB$18)","v":""},null,null,{"$f":"IF(キャラメイク!$AB$19=\"\",\"\",キャラメイク!$AB$19)","v":""},null,null,{"$f":"IF(キャラメイク!$AB$20=\"\",\"\",キャラメイク!$AB$20)","v":""},null,null,null,{"$f":"IF(キャラメイク!$AB$21=\"\",\"\",キャラメイク!$AB$21)","v":""},null,null,{"$f":"IF(キャラメイク!$AB$22=\"\",\"\",キャラメイク!$AB$22)","v":""},null,null,{"$f":"IF(キャラメイク!$AB$23=\"\",\"\",キャラメイク!$AB$23)","v":""},null,null,{"$f":"IF(キャラメイク!$AB$24=\"\",\"\",キャラメイク!$AB$24)","v":""}]
[null,{"$f":"IF(特技シート!B14=\"\",\"\",特技シート!B14)","v":"スタミナ"},null,null,null,null,null,{"$f":"IF(特技シート!H14=\"\",\"\",特技シート!H14)","v":1},null,{"$f":"IF(特技シート!J14=\"\",\"\",特技シート!J14)","v":"常時"},null,null,null,null,{"$f":"IF(特技シート!O14=\"\",\"\",特技シート!O14)","v":""},null,null,null,{"$f":"IF(特技シート!S14=\"\",\"\",特技シート!S14)","v":""},null,{"$f":"IF(特技シート!U14=\"\",\"\",特技シート!U14)","v":""},null,{"$f":"IF(特技シート!W14=\"\",\"\",特技シート!W14)","v":"ＦＰの最大値＋４"}]
[]
[null,{"$f":"IF(特技シート!B16=\"\",\"\",特技シート!B16)","v":"プロテクトビット"},null,null,null,null,null,{"$f":"IF(特技シート!H16=\"\",\"\",特技シート!H16)","v":2},null,{"$f":"IF(特技シート!J16=\"\",\"\",特技シート!J16)","v":"被ダメージ後"},null,null,null,null,{"$f":"IF(特技シート!O16=\"\",\"\",特技シート!O16)","v":"なし"},null,null,null,{"$f":"IF(特技シート!S16=\"\",\"\",特技シート!S16)","v":10},null,{"$f":"IF(特技シート!U16=\"\",\"\",特技シート!U16)","v":4},null,{"$f":"IF(特技シート!W16=\"\",\"\",特技シート!W16)","v":"３Ｄ＋２０のダメージ軽減　ＣＴ：次ターン"}]
[]
[null,{"$f":"IF(特技シート!B18=\"\",\"\",特技シート!B18)","v":"命中支援ビット"},null,null,null,null,null,{"$f":"IF(特技シート!H18=\"\",\"\",特技シート!H18)","v":1},null,{"$f":"IF(特技シート!J18=\"\",\"\",特技シート!J18)","v":"支援"},null,null,null,null,{"$f":"IF(特技シート!O18=\"\",\"\",特技シート!O18)","v":"なし"},null,null,null,{"$f":"IF(特技シート!S18=\"\",\"\",特技シート!S18)","v":10},null,{"$f":"IF(特技シート!U18=\"\",\"\",特技シート!U18)","v":3},null,{"$f":"IF(特技シート!W18=\"\",\"\",特技シート!W18)","v":"次の使用者のターンまで\n対象の命中に＋４のボーナス"}]
[]
[null,{"$f":"IF(特技シート!B20=\"\",\"\",特技シート!B20)","v":"アルテミスレーザー"},null,null,null,null,null,{"$f":"IF(特技シート!H20=\"\",\"\",特技シート!H20)","v":2},null,{"$f":"IF(特技シート!J20=\"\",\"\",特技シート!J20)","v":"行動"},null,null,null,null,{"$f":"IF(特技シート!O20=\"\",\"\",特技シート!O20)","v":"命中（銃）"},null,null,null,{"$f":"IF(特技シート!S20=\"\",\"\",特技シート!S20)","v":20},null,{"$f":"IF(特技シート!U20=\"\",\"\",特技シート!U20)","v":3},null,{"$f":"IF(特技シート!W20=\"\",\"\",特技シート!W20)","v":"命中２０　３Ｄ＋３５（打刺）\n「ためる」状態で使用時は回避判定を行わせない"}]
[]
[null,{"$f":"IF(特技シート!B22=\"\",\"\",特技シート!B22)","v":""},null,null,null,null,null,{"$f":"IF(特技シート!H22=\"\",\"\",特技シート!H22)","v":""},null,{"$f":"IF(特技シート!J22=\"\",\"\",特技シート!J22)","v":""},null,null,null,null,{"$f":"IF(特技シート!O22=\"\",\"\",特技シート!O22)","v":""},null,null,null,{"$f":"IF(特技シート!S22=\"\",\"\",特技シート!S22)","v":""},null,{"$f":"IF(特技シート!U22=\"\",\"\",特技シート!U22)","v":""},null,{"$f":"IF(特技シート!W22=\"\",\"\",特技シート!W22)","v":""}]
[]
[null,{"$f":"IF(特技シート!B24=\"\",\"\",特技シート!B24)","v":""},null,null,null,null,null,{"$f":"IF(特技シート!H24=\"\",\"\",特技シート!H24)","v":""},null,{"$f":"IF(特技シート!J24=\"\",\"\",特技シート!J24)","v":""},null,null,null,null,{"$f":"IF(特技シート!O24=\"\",\"\",特技シート!O24)","v":""},null,null,null,{"$f":"IF(特技シート!S24=\"\",\"\",特技シート!S24)","v":""},null,{"$f":"IF(特技シート!U24=\"\",\"\",特技シート!U24)","v":""},null,{"$f":"IF(特技シート!W24=\"\",\"\",特技シート!W24)","v":""},null,null,null,null,null,null,null,null,null,null,null,null,null,"所持品",null,null,null,null,null,null,"効果",null,null,null,null,null,null,null,null,null,null,"所持品",null,null,null,null,null,null,"効果"]
[null,null,null,null,null,null,null,null,null,null,null,null,null,null,null,null,null,null,null,null,null,null,null,null,null,null,null,null,null,null,null,null,null,null,null,null,{"$f":"IF(キャラメイク!A40=\"\",\"\",キャラメイク!A40)","v":""},null,null,null,null,null,null,{"$f":"IF(キャラメイク!B40=\"\",\"\",キャラメイク!B40)","v":""},null,null,null,null,null,null,null,null,null,null,{"$f":"IF(キャラメイク!A45=\"\",\"\",キャラメイク!A45)","v":""},null,null,null,null,null,null,{"$f":"IF(キャラメイク!B45=\"\",\"\",キャラメイク!B45)","v":""}]
[null,{"$f":"IF(特技シート!B26=\"\",\"\",特技シート!B26)","v":""},null,null,null,null,null,{"$f":"IF(特技シート!H26=\"\",\"\",特技シート!H26)","v":""},null,{"$f":"IF(特技シート!J26=\"\",\"\",特技シート!J26)","v":""},null,null,null,null,{"$f":"IF(特技シート!O26=\"\",\"\",特技シート!O26)","v":""},null,null,null,{"$f":"IF(特技シート!S26=\"\",\"\",特技シート!S26)","v":""},null,{"$f":"IF(特技シート!U26=\"\",\"\",特技シート!U26)","v":""},null,{"$f":"IF(特技シート!W26=\"\",\"\",特技シート!W26)","v":""}]
[null,null,null,null,null,null,null,null,null,null,null,null,null,null,null,null,null,null,null,null,null,null,null,null,null,null,null,null,null,null,null,null,null,null,null,null,{"$f":"IF(キャラメイク!A41=\"\",\"\",キャラメイク!A41)","v":""},null,null,null,null,null,null,{"$f":"IF(キャラメイク!B41=\"\",\"\",キャラメイク!B41)","v":""},null,null,null,null,null,null,null,null,null,null,{"$f":"IF(キャラメイク!A46=\"\",\"\",キャラメイク!A46)","v":""},null,null,null,null,null,null,{"$f":"IF(キャラメイク!B46=\"\",\"\",キャラメイク!B46)","v":""}]
[null,{"$f":"IF(特技シート!B28=\"\",\"\",特技シート!B28)","v":""},null,null,null,null,null,{"$f":"IF(特技シート!H28=\"\",\"\",特技シート!H28)","v":""},null,{"$f":"IF(特技シート!J28=\"\",\"\",特技シート!J28)","v":""},null,null,null,null,{"$f":"IF(特技シート!O28=\"\",\"\",特技シート!O28)","v":""},null,null,null,{"$f":"IF(特技シート!S28=\"\",\"\",特技シート!S28)","v":""},null,{"$f":"IF(特技シート!U28=\"\",\"\",特技シート!U28)","v":""},null,{"$f":"IF(特技シート!W28=\"\",\"\",特技シート!W28)","v":""}]
[null,null,null,null,null,null,null,null,null,null,null,null,null,null,null,null,null,null,null,null,null,null,null,null,null,null,null,null,null,null,null,null,null,null,null,null,{"$f":"IF(キャラメイク!A42=\"\",\"\",キャラメイク!A42)","v":""},null,null,null,null,null,null,{"$f":"IF(キャラメイク!B42=\"\",\"\",キャラメイク!B42)","v":""},null,null,null,null,null,null,null,null,null,null,{"$f":"IF(キャラメイク!A47=\"\",\"\",キャラメイク!A47)","v":""},null,null,null,null,null,null,{"$f":"IF(キャラメイク!B47=\"\",\"\",キャラメイク!B47)","v":""}]
[]
[null,"有利な特異点",null,null,null,null,null,"効果",null,null,null,null,null,null,null,null,null,null,"不利な特異点",null,null,null,null,null,"効果",null,null,null,null,null,null,null,null,null,null,null,{"$f":"IF(キャラメイク!A43=\"\",\"\",キャラメイク!A43)","v":""},null,null,null,null,null,null,{"$f":"IF(キャラメイク!B43=\"\",\"\",キャラメイク!B43)","v":""},null,null,null,null,null,null,null,null,null,null,{"$f":"IF(キャラメイク!A48=\"\",\"\",キャラメイク!A48)","v":""},null,null,null,null,null,null,{"$f":"IF(キャラメイク!B48=\"\",\"\",キャラメイク!B48)","v":""}]
[null,{"$f":"IF(IF(キャラメイク!$B$29=\"-\",キャラメイク!B30,キャラメイク!B29)=\"\",\"\",IF(キャラメイク!$B$29=\"-\",キャラメイク!B30,キャラメイク!B29))","v":"飛行移動"},null,null,null,null,null,{"$f":"IF(IF(キャラメイク!$B$29=\"-\",キャラメイク!C30,キャラメイク!C29)=\"\",\"\",IF(キャラメイク!$B$29=\"-\",キャラメイク!C30,キャラメイク!C29))","v":"「移動妨害」を受けず、「ﾀｰﾝ開始時」に「☆転倒」自動復帰。屋内、水中では効果なし。"},null,null,null,null,null,null,null,null,null,null,{"$f":"IF(IF(キャラメイク!$B$33=\"-\",キャラメイク!B34,キャラメイク!B33)=\"\",\"\",IF(キャラメイク!$B$33=\"-\",キャラメイク!B34,キャラメイク!B33))","v":"バッテリー切れ"},null,null,null,null,null,{"$f":"IF(IF(キャラメイク!$B$33=\"-\",キャラメイク!C34,キャラメイク!C33)=\"\",\"\",IF(キャラメイク!$B$33=\"-\",キャラメイク!C34,キャラメイク!C33))","v":"「★気絶」するとｼﾅﾘｵ終了まであらゆる判定と[移動]-3。"}]
[null,null,null,null,null,null,null,null,null,null,null,null,null,null,null,null,null,null,null,null,null,null,null,null,null,null,null,null,null,null,null,null,null,null,null,null,{"$f":"IF(キャラメイク!A44=\"\",\"\",キャラメイク!A44)","v":""},null,null,null,null,null,null,{"$f":"IF(キャラメイク!B44=\"\",\"\",キャラメイク!B44)","v":""},null,null,null,null,null,null,null,null,null,null,{"$f":"IF(キャラメイク!A49=\"\",\"\",キャラメイク!A49)","v":""},null,null,null,null,null,null,{"$f":"IF(キャラメイク!B49=\"\",\"\",キャラメイク!B49)","v":""}]
[null,{"$f":"IF(IF(キャラメイク!$B$29=\"-\",キャラメイク!B31,キャラメイク!B30)=\"\",\"\",IF(キャラメイク!$B$29=\"-\",キャラメイク!B31,キャラメイク!B30))","v":"天体時計"},null,null,null,null,null,{"$f":"IF(IF(キャラメイク!$B$29=\"-\",キャラメイク!C31,キャラメイク!C30)=\"\",\"\",IF(キャラメイク!$B$29=\"-\",キャラメイク!C31,キャラメイク!C30))","v":"屋外で正確な時間と方角を知り、道に迷わない。"},null,null,null,null,null,null,null,null,null,null,{"$f":"IF(IF(キャラメイク!$B$33=\"-\",キャラメイク!B35,キャラメイク!B34)=\"\",\"\",IF(キャラメイク!$B$33=\"-\",キャラメイク!B35,キャラメイク!B34))","v":"好奇心は猫を殺す"},null,null,null,null,null,{"$f":"IF(IF(キャラメイク!$B$33=\"-\",キャラメイク!C35,キャラメイク!C34)=\"\",\"\",IF(キャラメイク!$B$33=\"-\",キャラメイク!C35,キャラメイク!C34))","v":"気になるものがあると好奇心自制不可。([意志]判定可)"}]
[]
[null,{"$f":"IF(IF(キャラメイク!$B$29=\"-\",キャラメイク!B32,キャラメイク!B31)=\"\",\"\",IF(キャラメイク!$B$29=\"-\",キャラメイク!B32,キャラメイク!B31))","v":"肉の鎧"},null,null,null,null,null,{"$f":"IF(IF(キャラメイク!$B$29=\"-\",キャラメイク!C32,キャラメイク!C31)=\"\",\"\",IF(キャラメイク!$B$29=\"-\",キャラメイク!C32,キャラメイク!C31))","v":"全ての防護点+2。重複可。"},null,null,null,null,null,null,null,null,null,null,null,null,null,null,null,null,null,null,null,null,null,null,null,null,null,null,null,null,"GP",null,null,{"$f":"キャラメイク!B13","v":13100},null,null,null,null,null,null,null,null,null,"ｱﾀｯﾁﾒﾝﾄ割引券",null,null,null,null,{"$f":"キャラメイク!B14","v":0}]
[]
[null,null,null,null,null,null,null,null,null,null,null,null,null,null,null,null,null,null,null,null,null,null,null,null,null,null,null,null,null,null,null,null,null,null,null,null,null,null,null,null,null,null,null,null,null,null,null,null,null,null,null,null,null,null,null,null,null,null,null,null,null,null,null,"© 2012-2015 ProjectFW"]

{"sheet":"アタッチメント管理","index":3,"n_rows":30,"n_cols":16,"rows_kept":30,"cut":false,"hidden":false,"merged":[]}
["装備","名称","GA1","GA2","GA3","GA4","GA総額",null,"武器アタッチメント","GP",null,"盾アタッチメント","GP",null,"鎧アタッチメント","GP"]
["武器1",{"$f":"IF(キャラメイク!G17=\"\",\"\",キャラメイク!G17)","v":"アルテミスショット"},null,null,null,null,{"$f":"IF(B2=\"\",\"\",SUM(IF(C2=\"\",0,VLOOKUP(C2,$I$2:$J$30,2,FALSE)),IF(D2=\"\",0,VLOOKUP(D2,$I$2:$J$30,2,FALSE)),IF(E2=\"\",0,VLOOKUP(E2,$I$2:$J$30,2,FALSE)),IF(F2=\"\",0,VLOOKUP(F2,$I$2:$J$30,2,FALSE))))","v":0},null,"攻撃力+1",3000,null,"重量変化±1",5000,null,"防護点強化+1",3000]
["武器2",{"$f":"IF(OR(キャラメイク!G18=\"\",キャラメイク!F18=\"盾\"),\"\",キャラメイク!G18)","v":""},null,null,null,null,{"$f":"IF(B3=\"\",\"\",SUM(IF(C3=\"\",0,VLOOKUP(C3,$I$2:$J$30,2,FALSE)),IF(D3=\"\",0,VLOOKUP(D3,$I$2:$J$30,2,FALSE)),IF(E3=\"\",0,VLOOKUP(E3,$I$2:$J$30,2,FALSE)),IF(F3=\"\",0,VLOOKUP(F3,$I$2:$J$30,2,FALSE))))","v":""},null,"攻撃力+2",9000,null,"重量変化±2",15000,null,"防護点強化+2",9000]
["盾",{"$f":"IF(OR(キャラメイク!G18=\"\",キャラメイク!F18=\"武器2\"),\"\",キャラメイク!G18)","v":""},null,null,null,null,{"$f":"IF(B4=\"\",\"\",SUM(IF(C4=\"\",0,VLOOKUP(C4,$L$2:$M$10,2,FALSE)),IF(D4=\"\",0,VLOOKUP(D4,$L$2:$M$10,2,FALSE)),IF(E4=\"\",0,VLOOKUP(E4,$L$2:$M$10,2,FALSE))))","v":""},null,"攻撃力+3",18000,null,"重量変化±3",30000,null,"防護点強化+3",18000]
["鎧",{"$f":"IF(キャラメイク!G19=\"\",\"\",キャラメイク!G19)","v":"ヘビーレザーアーマー"},null,null,null,null,{"$f":"IF(B5=\"\",\"\",SUM(IF(C5=\"\",0,VLOOKUP(C5,$O$2:$P$25,2,FALSE)),IF(D5=\"\",0,VLOOKUP(D5,$O$2:$P$25,2,FALSE)),IF(E5=\"\",0,VLOOKUP(E5,$O$2:$P$25,2,FALSE))))","v":0},null,"攻撃力+4",30000,null,"回避アップ+1",5000,null,"防護点強化+4",30000]
[null,null,null,null,null,null,null,null,"攻撃力+5",45000,null,"回避アップ+2",15000,null,"防護点強化+5",45000]
[null,null,null,null,null,null,null,null,"魔力ブースト+1",3000,null,"回避アップ+3",30000,null,"抵抗強化+1",5000]
[null,null,null,null,null,null,null,null,"魔力ブースト+2",9000,null,"シールド回数アップ",50000,null,"抵抗強化+2",15000]
[null,null,null,null,null,null,null,null,"魔力ブースト+3",18000,null,"踊る武器",50000,null,"抵抗強化+3",30000]
[null,null,null,null,null,null,null,null,"魔力ブースト+4",30000,null,"戻る武器",50000,null,"機動力強化+1",5000]
[null,null,null,null,null,null,null,null,"魔力ブースト+5",45000,null,null,null,null,"機動力強化+2",15000]
[null,null,null,null,null,null,null,null,"重量変化±1",5000,null,null,null,null,"機動力強化+3",30000]
[null,null,null,null,null,null,null,null,"重量変化±2",15000,null,null,null,null,"重量変化±1",5000]
[null,null,null,null,null,null,null,null,"重量変化±3",30000,null,null,null,null,"重量変化±2",15000]
[null,null,null,null,null,null,null,null,"属性追加(打斬刺)",20000,null,null,null,null,"重量変化±3",30000]
[null,null,null,null,null,null,null,null,"属性追加(火冷電)",40000,null,null,null,null,"HP増加+4",5000]
[null,null,null,null,null,null,null,null,"射程アップ+1(+5)",10000,null,null,null,null,"HP増加+8",15000]
[null,null,null,null,null,null,null,null,"射程アップ+2(+10)",30000,null,null,null,null,"HP増加+12",30000]
[null,null,null,null,null,null,null,null,"命中アップ+1",5000,null,null,null,null,"HP増加+16",50000]
[null,null,null,null,null,null,null,null,"命中アップ+2",15000,null,null,null,null,"HP増加+20",75000]
[null,null,null,null,null,null,null,null,"命中アップ+3",30000,null,null,null,null,"FP増加+2",5000]
[null,null,null,null,null,null,null,null,"魔法命中アップ+1",5000,null,null,null,null,"FP増加+4",15000]
[null,null,null,null,null,null,null,null,"魔法命中アップ+2",15000,null,null,null,null,"FP増加+6",30000]
[null,null,null,null,null,null,null,null,"魔法命中アップ+3",30000,null,null,null,null,"FP増加+8",50000]
[null,null,null,null,null,null,null,null,"回避アップ+1",5000,null,null,null,null,"FP増加+10",75000]
[null,null,null,null,null,null,null,null,"回避アップ+2",15000]
[null,null,null,null,null,null,null,null,"回避アップ+3",30000]
[null,null,null,null,null,null,null,null,"パリイ回数アップ",50000]
[null,null,null,null,null,null,null,null,"踊る武器",50000]
[null,null,null,null,null,null,null,null,"戻る武器",50000]

{"sheet":"物理攻撃系奥義","index":4,"n_rows":55,"n_cols":11,"rows_kept":55,"cut":false,"hidden":false,"merged":[]}
["物理攻撃系奥義"]
["奥義名","SLv",null,"奥義発動判定","Lv","奥義ポイント","備考",null,"奥義発動判定","奥義ポイント"]
[{"$f":"IF(ISERROR(VLOOKUP(\"奥義*\",特技シート!B10:G69,1,FALSE)),\"\",VLOOKUP(\"奥義*\",特技シート!B10:G69,1,FALSE))","v":""},{"$f":"IF(ISERROR(VLOOKUP(\"奥義*\",特技シート!B10:I69,7,FALSE)),0,VLOOKUP(\"奥義*\",特技シート!B10:I69,7,FALSE))","v":0},null,null,"-",{"$f":"IF($D3=\"\",0,VLOOKUP($D3,$I$3:$J$6,2,FALSE))","v":0},null,null,"[命中]判定(武器1種指定)",0]
[null,null,null,"近接/射撃攻撃","Lv","奥義ポイント","備考",null,"[命中]判定（武器なんでも)",1]
["使用可能奥義ポイント",{"$f":"IF(B3=0,0,B3*5+15)","v":0},null,null,null,{"$f":"IF($D5=\"\",0,VLOOKUP($D5,I9:K12,2,FALSE)+($E5-1)*VLOOKUP($D5,I9:K12,3,FALSE))","v":0},null,null,"[指定主能力]判定",2]
["合計使用奥義ポイント",{"$f":"SUM(F3:F34)","v":0},null,"奥義致傷力","Lv","奥義ポイント","備考",null,"なし",10]
["合計獲得奥義ポイント",{"$f":"SUM(F36:F42)","v":0},null,null,null,{"$f":"IF($D7=\"\",0,VLOOKUP($D7,I15:K16,2,FALSE)+($E7-1)*VLOOKUP($D7,I15:K16,3,FALSE))","v":0}]
["総合計",{"$f":"SUM(B6:B7)","v":0},null,"攻撃属性","Lv","奥義ポイント","備考",null,"近接/射撃攻撃","奥義ポイント","Lv係数"]
["残り奥義ポイント",{"$f":"B5-B8","v":0},null,null,null,{"$f":"IF($D9=\"\",0,VLOOKUP($D9,I19:K20,2,FALSE)+($E9-1)*VLOOKUP($D9,I19:K20,3,FALSE))","v":0},null,null,"武器に依存",0,0]
[null,null,null,"その他カスタマイズ","Lv","奥義ポイント","備考",null,"近接攻撃",0,0]
[null,null,null,{"$f":"I23","v":"命中アップ"},null,{"$f":"IF($E11=0,0,VLOOKUP($D11,$I$23:$K$46,2,FALSE)+($E11-1)*VLOOKUP($D11,$I$23:$K$46,3,FALSE))","v":0},null,null,"射撃攻撃",3,1]
[null,null,null,{"$f":"I24","v":"攻撃時に[移動]ヘクス移動可能"},null,0,null,null,"近接/射撃攻撃選択可",5,1]
[null,null,null,"移動妨害を受けない",null,0]
[null,null,null,"防護点無視",null,0,null,null,"奥義致傷力","奥義ポイント","Lv係数"]
[null,null,null,"パリイ不可",null,0,null,null,"武器に依存",0,1]
[null,null,null,"シールド不可",null,0,null,null,"奥義ポイント消費",0,1]
[null,null,null,"回避不可",null,0]
[null,null,null,"クリティカル値増加",null,0,null,null,"攻撃属性","奥義ポイント","Lv係数"]
[null,null,null,"必ずクリティカル",null,0,null,null,"武器に依存",0,1]
[null,null,null,"多段攻撃",null,0,null,null,"指定属性",0,1]
[null,null,null,"円形範囲攻撃",null,0]
[null,null,null,"扇型範囲攻撃",null,0,null,null,"その他カスタマイズ","奥義ポイント","Lv係数"]
[null,null,null,"FP消費軽減",null,0,null,null,"命中アップ",1,1]
[null,null,null,"人間特攻",null,0,null,null,"攻撃時に[移動]ヘクス移動可能",2,0]
[null,null,null,"ギア特攻",null,0,null,null,"移動妨害を受けない",2,0]
[null,null,null,"アンデッド特攻",null,0,null,null,"防護点無視",6,0]
[null,null,null,"魔獣特攻",null,0,null,null,"パリイ不可",2,0]
[null,null,null,"霊獣特攻",null,0,null,null,"シールド不可",2,0]
[null,null,null,"獣人特攻",null,0,null,null,"回避不可",10,0]
[null,null,null,{"$f":"I42","v":"岩石特攻"},null,0,null,null,"クリティカル値増加",1,1]
[null,null,null,{"$f":"I43","v":"命中時転倒"},null,0,null,null,"必ずクリティカル",15,0]
[null,null,null,{"$f":"I44","v":"命中時睡眠"},null,0,null,null,"多段攻撃",15,15]
[null,null,null,{"$f":"I45","v":"命中時麻痺"},null,0,null,null,"円形範囲攻撃",10,2]
[null,null,null,{"$f":"I46","v":"FPダメージ追加"},null,0,null,null,"扇型範囲攻撃",15,0]
[null,null,null,"不利なカスタマイズ","Lv","奥義ポイント","備考",null,"FP消費軽減",1,1]
[null,null,null,{"$f":"I49","v":"全力攻撃"},null,{"$f":"IF($E36=0,0,VLOOKUP($D36,$I$49:$K$55,2,FALSE)+($E36-1)*VLOOKUP($D36,$I$49:$K$55,3,FALSE))","v":0},null,null,"人間特攻",1,1]
[null,null,null,"要ためる",null,0,null,null,"ギア特攻",1,1]
[null,null,null,"人間には無効",null,0,null,null,"アンデッド特攻",1,1]
[null,null,null,"ギアには無効",null,0,null,null,"魔獣特攻",1,1]
[null,null,null,"アンデッドには無効",null,0,null,null,"霊獣特攻",1,1]
[null,null,null,"FP消費増加",null,0,null,null,"獣人特攻",1,1]
[null,null,null,"HPを消費",null,0,null,null,"岩石特攻",1,1]
[null,null,null,null,null,null,null,null,"命中時転倒",8,0]
[null,null,null,null,null,null,null,null,"命中時睡眠",5,3]
[null,null,null,null,null,null,null,null,"命中時麻痺",10,4]
[null,null,null,null,null,null,null,null,"FPダメージ追加",4,0]
[]
[null,null,null,null,null,null,null,null,"不利なカスタマイズ","奥義ポイント","Lv係数"]
[null,null,null,null,null,null,null,null,"全力攻撃",-5,0]
[null,null,null,null,null,null,null,null,"要ためる",-5,0]
[null,null,null,null,null,null,null,null,"人間には無効",-2,0]
[null,null,null,null,null,null,null,null,"ギアには無効",-2,0]
[null,null,null,null,null,null,null,null,"アンデッドには無効",-2,0]
[null,null,null,null,null,null,null,null,"FP消費増加",-1,-1]
[null,null,null,null,null,null,null,null,"HPを消費",-1,-1]

{"sheet":"魔法攻撃系奥義","index":5,"n_rows":36,"n_cols":11,"rows_kept":36,"cut":false,"hidden":false,"merged":[[1,4,1,6]]}
["魔法攻撃系奥義"]
["奥義名","SLv",null,"奥義指定魔法",null,null,null,null,"その他カスタマイズ","奥義ポイント","Lv係数"]
[{"$f":"IF(ISERROR(VLOOKUP(\"奥義*\",特技シート!B10:G69,1,FALSE)),\"\",VLOOKUP(\"奥義*\",特技シート!B10:G69,1,FALSE))","v":""},{"$f":"IF(ISERROR(VLOOKUP(\"奥義*\",特技シート!B10:I69,7,FALSE)),0,VLOOKUP(\"奥義*\",特技シート!B10:I69,7,FALSE))","v":0},null,null,null,null,null,null,"命中アップ",1,1]
[null,null,null,"その他カスタマイズ","Lv","奥義ポイント","備考",null,"致傷力アップ",1,1]
["使用可能奥義ポイント",{"$f":"IF(B3=0,0,B3*5+15)","v":0},null,{"$f":"I3","v":"命中アップ"},null,{"$f":"IF($E5=0,0,VLOOKUP($D5,$I$3:$K$14,2,FALSE)+($E5-1)*VLOOKUP($D5,$I$3:$K$14,3,FALSE))","v":0},null,null,"攻撃属性追加",1,1]
["合計使用奥義ポイント",{"$f":"SUM(F5:F29)","v":0},null,"致傷力アップ",null,0,null,null,"射程増加",1,1]
["合計獲得奥義ポイント",{"$f":"SUM(F31:F36)","v":0},null,"攻撃属性追加",null,0,null,null,"防護点無視",6,0]
["総合計",{"$f":"SUM(B6:B7)","v":0},null,"射程増加",null,0,null,null,"パリイ不可",2,0]
["残り奥義ポイント",{"$f":"B5-B8","v":0},null,"防護点無視",null,0,null,null,"シールド不可",2,0]
[null,null,null,"パリイ不可",null,0,null,null,"回避不可",10,0]
[null,null,null,"シールド不可",null,0,null,null,"クリティカル値増加",1,1]
[null,null,null,{"$f":"I10","v":"回避不可"},null,0,null,null,"必ずクリティカル",12,0]
[null,null,null,"クリティカル値増加",null,0,null,null,"多段攻撃",15,15]
[null,null,null,"必ずクリティカル",null,0,null,null,"円形範囲攻撃",10,2]
[null,null,null,"多段攻撃",null,0,null,null,"扇型範囲攻撃",15,0]
[null,null,null,"円形範囲攻撃",null,0,null,null,"FP消費軽減",1,1]
[null,null,null,"扇型範囲攻撃",null,0,null,null,"人間特攻",1,1]
[null,null,null,"FP消費軽減",null,0,null,null,"ギア特攻",1,1]
[null,null,null,"人間特攻",null,0,null,null,"アンデッド特攻",1,1]
[null,null,null,"ギア特攻",null,0,null,null,"魔獣特攻"]
[null,null,null,"アンデッド特攻",null,0,null,null,"霊獣特攻"]
[null,null,null,{"$f":"I20","v":"魔獣特攻"},null,0,null,null,"獣人特攻",1,1]
[null,null,null,"霊獣特攻",null,0,null,null,"岩石特攻",1,1]
[null,null,null,{"$f":"I22","v":"獣人特攻"},null,{"$f":"IF($E24=0,0,VLOOKUP($D24,$I$3:$K$14,2,FALSE)+($E24-1)*VLOOKUP($D24,$I$3:$K$14,3,FALSE))","v":0},null,null,"命中時転倒",8,0]
[null,null,null,"岩石特攻",null,0,null,null,"命中時睡眠",5,3]
[null,null,null,"命中時転倒",null,0,null,null,"命中時麻痺",10,4]
[null,null,null,"命中時睡眠",null,0,null,null,"FPダメージ追加",4,0]
[null,null,null,"命中時麻痺",null,0]
[null,null,null,"FPダメージ追加",null,0,null,null,"不利なカスタマイズ","奥義ポイント","Lv係数"]
[null,null,null,"不利なカスタマイズ","Lv","奥義ポイント","備考",null,"要ためる",-5,0]
[null,null,null,{"$f":"I30","v":"要ためる"},null,{"$f":"IF($E31=0,0,VLOOKUP($D31,$I$30:$K$35,2,FALSE)+($E31-1)*VLOOKUP($D31,$I$30:$K$35,3,FALSE))","v":0},null,null,"人間には無効",-2,0]
[null,null,null,"人間には無効",null,0,null,null,"ギアには無効",-2,0]
[null,null,null,"ギアには無効",null,0,null,null,"アンデッドには無効",-2,0]
[null,null,null,"アンデッドには無効",null,0,null,null,"FP消費増加",-1,-1]
[null,null,null,"FP消費増加",null,0,null,null,"HPを消費",-1,-1]
[null,null,null,"HPを消費",null,0]

{"sheet":"回復・補助系奥義","index":6,"n_rows":22,"n_cols":11,"rows_kept":22,"cut":false,"hidden":false,"merged":[[1,4,1,6]]}
["回復・補助系奥義"]
["奥義名","SLv",null,"奥義指定特技",null,null,null,null,"その他カスタマイズ","奥義ポイント","Lv係数"]
[{"$f":"IF(ISERROR(VLOOKUP(\"奥義*\",特技シート!B10:G69,1,FALSE)),\"\",VLOOKUP(\"奥義*\",特技シート!B10:G69,1,FALSE))","v":""},{"$f":"IF(ISERROR(VLOOKUP(\"奥義*\",特技シート!B10:I69,7,FALSE)),0,VLOOKUP(\"奥義*\",特技シート!B10:I69,7,FALSE))","v":0},null,null,null,null,null,null,"回復量アップ",1,1]
[null,null,null,"その他カスタマイズ","Lv","奥義ポイント","備考",null,"効果量アップ(致傷力・防護点)",3,3]
["使用可能奥義ポイント",{"$f":"IF(B3=0,0,B3*5+15)","v":0},null,{"$f":"I3","v":"回復量アップ"},null,{"$f":"IF($E5=0,0,VLOOKUP($D5,$I$3:$K$14,2,FALSE)+($E5-1)*VLOOKUP($D5,$I$3:$K$14,3,FALSE))","v":0},null,null,"効果量アップ(副能力)",5,5]
["合計使用奥義ポイント",{"$f":"SUM(F5:F15)","v":0},null,"効果量アップ(致傷力・防護点)",null,0,null,null,"抵抗ペナルティ",5,5]
["合計獲得奥義ポイント",{"$f":"SUM(F17:F22)","v":0},null,"効果量アップ(副能力)",null,0,null,null,"バッドステータス回復",10,0]
["総合計",{"$f":"SUM(B6:B7)","v":0},null,"抵抗ペナルティ",null,0,null,null,"射程増加",1,1]
["残り奥義ポイント",{"$f":"B5-B8","v":0},null,"バッドステータス回復",null,0,null,null,"持続時間増加",15,0]
[null,null,null,"射程増加",null,0,null,null,"円形範囲",15,3]
[null,null,null,"持続時間増加",null,0,null,null,"奥義範囲",20,0]
[null,null,null,"円形範囲",null,0,null,null,"戦場全域",30,0]
[null,null,null,"奥義範囲",null,0,null,null,"FP消費軽減",1,1]
[null,null,null,"戦場全域",null,0]
[null,null,null,"FP消費軽減",null,0,null,null,"不利なカスタマイズ","奥義ポイント","Lv係数"]
[null,null,null,"不利なカスタマイズ","Lv","奥義ポイント","備考",null,"要ためる",-5,0]
[null,null,null,{"$f":"I16","v":"要ためる"},null,{"$f":"IF($E17=0,0,VLOOKUP($D17,$I$16:$K$21,2,FALSE)+($E17-1)*VLOOKUP($D17,$I$16:$K$21,3,FALSE))","v":0},null,null,"人間には無効",-2,0]
[null,null,null,"人間には無効",null,0,null,null,"ギアには無効",-2,0]
[null,null,null,"ギアには無効",null,0,null,null,"アンデッドには無効",-2,0]
[null,null,null,"アンデッドには無効",null,0,null,null,"FP消費増加",-1,-1]
[null,null,null,"FP消費増加",null,0,null,null,"HPを消費",-1,-1]
[null,null,null,"HPを消費",null,0]

{"sheet":"ブランクキャラクターシート","index":7,"n_rows":71,"n_cols":76,"rows_kept":71,"cut":false,"hidden":false,"merged":[[1,67,10,70],[2,17,5,17],[2,36,10,38],[2,39,10,40],[2,41,10,44],[2,45,10,47],[1,18,20,33],[1,36,1,40],[1,41,1,44],[1,45,1,47],[1,48,1,50],[1,51,1,54],[2,48,10,50],[2,51,10,54],[11,36,12,38],[11,39,12,40],[2,55,10,57],[2,58,10,60],[2,61,10,63],[2,64,10,66],[11,67,12,68],[11,69,12,70],[13,64,14,66],[13,67,14,68],[7,1,7,5],[7,6,8,16],[9,1,9,5],[9,6,10,16],[1,55,1,57],[1,58,1,60],[1,61,1,63],[1,64,1,66],[11,61,12,63],[11,64,12,66],[12,1,13,2],[12,3,13,8],[12,10,13,11],[12,12,13,12],[12,13,13,16],[13,36,14,38],[11,41,12,44],[11,45,12,47],[11,48,12,50],[11,51,12,54],[11,55,12,57],[11,58,12,60],[13,58,14,60],[13,61,14,63],[13,69,14,70],[14,1,15,2],[14,3,15,8],[14,10,15,11],[14,12,15,12],[14,13,15,16],[13,39,14,40],[13,41,14,44],[13,45,14,47],[13,48,14,50],[13,51,14,54],[13,55,14,57],[15,61,16,63],[15,64,16,66],[15,67,16,68],[15,69,16,70],[15,36,16,38],[15,39,16,40],[15,41,16,44],[15,45,16,47],[15,48,16,50],[15,51,16,54],[17,58,18,60],[17,61,18,63],[17,64,18,66],[17,67,18,68],[17,69,18,70],[19,1,21,1],[19,2,19,4],[19,5,19,7],[19,8,19,10],[19,11,19,13],[17,39,18,40],[17,41,18,44],[17,45,18,47],[17,48,18,50],[17,51,18,54],[17,55,18,57],[16,1,17,2],[16,3,17,8],[16,10,17,11],[16,12,17,12],[16,13,17,16],[17,36,18,38],[15,55,16,57],[15,58,16,60],[19,69,20,70],[20,2,21,4],[20,5,21,7],[20,8,21,10],[20,11,21,13],[20,14,21,16],[21,36,22,38],[21,39,22,40],[21,41,22,44],[21,45,22,47],[19,51,20,54],[19,55,20,57],[19,58,20,60],[19,61,20,63],[19,64,20,66],[19,67,20,68],[19,14,19,16],[19,36,20,38],[19,39,20,40],[19,41,20,44],[19,45,20,47],[19,48,20,50],[23,67,24,70],[21,67,22,70],[22,23,22,26],[23,1,28,20],[23,22,24,27],[23,28,24,33],[23,36,24,38],[23,39,24,40],[23,41,24,44],[23,45,24,47],[23,48,24,50],[21,48,22,50],[21,51,22,54],[21,55,22,57],[21,58,22,60],[21,61,22,63],[21,64,22,66],[25,36,26,38],[25,39,26,40],[25,41,26,44],[25,45,26,47],[23,51,24,54],[23,55,24,57],[23,58,24,60],[23,61,24,63],[23,64,24,66],[29,2,29,7],[29,36,30,38],[29,39,30,40],[29,41,30,44],[29,45,30,47],[29,48,30,50],[25,67,26,70],[27,22,28,27],[27,28,28,33],[27,36,28,38],[27,39,28,40],[27,41,28,44],[27,45,28,47],[27,48,28,50],[27,51,28,54],[27,55,28,57],[25,48,26,50],[25,51,26,54],[25,55,26,57],[25,58,26,60],[25,61,26,63],[25,64,26,66],[25,22,26,27],[25,28,26,33],[29,51,30,54],[29,55,30,57],[29,58,30,60],[29,61,30,63],[29,64,30,66],[29,67,30,70],[27,58,28,60],[27,61,28,63],[27,64,28,66],[27,67,28,70],[30,24,30,25],[30,26,30,29],[30,30,30,33],[31,1,33,1],[31,2,31,4],[31,5,31,7],[31,8,31,10],[31,11,31,13],[31,14,31,16],[31,17,31,19],[31,61,32,63],[31,64,32,66],[31,67,32,70],[32,2,33,4],[32,5,33,7],[32,8,33,10],[32,11,33,13],[32,14,33,16],[32,17,33,19],[32,20,33,22],[31,41,32,44],[31,45,32,47],[31,48,32,50],[31,51,32,54],[31,55,32,57],[31,58,32,60],[31,20,31,22],[31,24,33,25],[31,26,33,29],[31,30,33,33],[31,36,32,38],[31,39,32,40],[33,36,44,38],[33,39,34,40],[35,61,36,63],[35,64,36,66],[35,67,36,70],[34,26,36,29],[34,30,36,33],[35,39,36,40],[35,41,36,44],[35,45,36,47],[35,48,36,50],[33,61,34,63],[33,64,34,66],[33,67,34,70],[33,41,34,44],[33,45,34,47],[33,48,34,50],[33,51,34,54],[33,55,34,57],[33,58,34,60],[36,1,37,1],[36,2,37,4],[36,5,37,7],[36,8,37,10],[36,11,37,13],[36,14,37,16],[35,51,36,54],[35,55,36,57],[35,58,36,60],[34,1,35,1],[34,2,35,4],[34,5,35,7],[34,8,35,10],[34,11,35,13],[34,14,35,16],[34,17,35,19],[34,20,35,22],[34,24,36,25],[37,61,38,63],[37,64,38,66],[37,67,38,70],[38,1,39,1],[38,2,39,4],[38,5,39,7],[38,8,39,10],[38,11,39,13],[38,14,39,16],[38,17,39,19],[37,41,38,44],[37,45,38,47],[37,48,38,50],[37,51,38,54],[37,55,38,57],[37,58,38,60],[36,17,37,19],[36,20,37,22],[37,24,39,25],[37,26,39,29],[37,30,39,33],[37,39,38,40],[38,20,39,22],[39,39,40,40],[39,64,40,66],[39,67,40,70],[41,1,41,6],[41,7,41,8],[41,9,41,13],[41,14,41,17],[41,18,41,19],[41,20,41,21],[41,22,41,33],[39,41,40,44],[39,45,40,47],[39,48,40,50],[39,51,40,54],[39,55,40,57],[39,58,40,60],[42,18,43,19],[42,20,43,21],[41,39,42,40],[41,41,42,44],[41,45,42,47],[41,48,42,50],[41,51,42,54],[41,55,42,57],[39,61,40,63],[43,55,44,57],[43,58,44,60],[43,61,44,63],[43,64,44,66],[43,67,44,70],[44,1,45,6],[44,7,45,8],[44,9,45,13],[44,14,45,17],[44,18,45,19],[42,22,43,33],[43,39,44,40],[43,41,44,44],[43,45,44,47],[43,48,44,50],[43,51,44,54],[41,58,42,60],[41,61,42,63],[41,64,42,66],[41,67,42,70],[42,1,43,6],[42,7,43,8],[42,9,43,13],[42,14,43,17],[44,20,45,21],[44,22,45,33],[45,36,54,40],[46,9,47,13],[46,14,47,17],[46,18,47,19],[46,20,47,21],[52,1,53,6],[52,7,53,8],[52,9,53,13],[52,14,53,17],[52,18,53,19],[50,1,51,6],[50,7,51,8],[50,9,51,13],[50,14,51,17],[50,18,51,19],[50,20,51,21],[48,1,49,6],[48,7,49,8],[48,9,49,13],[48,14,49,17],[48,18,49,19],[46,1,47,6],[46,7,47,8],[52,20,53,21],[48,20,49,21],[56,1,57,6],[56,7,57,8],[56,9,57,13],[56,14,57,17],[56,18,57,19],[56,20,57,21],[54,1,55,6],[54,7,55,8],[54,9,55,13],[54,14,55,17],[54,18,55,19],[54,20,55,21],[56,61,56,70],[57,36,58,42],[57,43,58,53],[57,54,58,60],[57,61,58,70],[54,22,55,33],[45,51,54,54],[45,55,54,57],[45,58,54,60],[45,61,54,63],[45,64,54,66],[45,67,54,70],[56,22,57,33],[56,36,56,42],[56,43,56,53],[45,41,54,44],[45,45,54,47],[45,48,54,50],[46,22,47,33],[48,22,49,33],[50,22,51,33],[52,22,53,33],[56,54,56,60],[60,1,61,6],[60,7,61,8],[60,9,61,13],[60,14,61,17],[60,18,61,19],[58,1,59,6],[58,7,59,8],[58,9,59,13],[58,14,59,17],[58,18,59,19],[60,20,61,21],[60,22,61,33],[61,36,62,42],[61,43,62,53],[61,54,62,60],[61,61,62,70],[58,22,59,33],[59,36,60,42],[59,43,60,53],[59,54,60,60],[59,61,60,70],[58,20,59,21],[63,54,64,60],[63,61,64,70],[64,1,65,6],[64,7,65,16],[64,18,65,23],[64,24,65,33],[65,36,66,42],[65,43,66,53],[65,54,66,60],[65,61,66,70],[63,1,63,6],[63,7,63,16],[63,18,63,23],[63,24,63,33],[63,36,64,42],[63,43,64,53],[68,36,69,38],[68,39,69,47],[68,49,69,53],[68,54,69,57],[66,1,67,6],[66,7,67,16],[66,18,67,23],[66,24,67,33],[68,1,69,6],[68,7,69,16]]}
[]
[null,null,null,null,null,null,null,null,null,null,null,null,null,null,null,null,null,null,"",null,null,null,null,null,null,null,null,null,null,null,null,null,null,null,null,null,"装備",null,null,null,null,"武器",null,null,null,{"$f":"キャラメイク!F18","v":"盾"},null,null,"鎧",null,null,"装飾品1",null,null,null,"装飾品2",null,null,"ペット",null,null,"特技",null,null,"その他",null,null,"合計"]
[null,null,null,null,null,null,null,null,null,null,null,null,null,null,null,null,null,"イラスト",null,null,null,null,null,null,null,null,null,null,null,null,null,null,null,null,null,null,"名称",null,null,"副能力"]
[]
[]
[null,null,null,null,null,null,null,null,null,null,null,null,null,null,null,null,null,null,null,null,null,null,null,null,null,null,null,null,null,null,null,null,null,null,null,null,null,null,null,null,null,null,null,null,null,null,null,null,null,null,null,null,null,null,null,null,null,null,null,null,null,null,null,null,null,null,null,null,null,null,null,null,null,null,null,"※画質はあんまりよくありません。"]
[null,null,null,null,null,null,null,null,null,null,null,null,null,null,null,null,null,null,null,null,null,null,null,null,null,null,null,null,null,null,null,null,null,null,null,null,null,null,null,null,null,null,null,null,null,null,null,null,null,null,null,null,null,null,null,null,null,null,null,null,null,null,null,null,null,null,null,null,null,null,null,null,null,null,null,"※上書き保存時に警告ダイアログが出ないので注意してください。"]
[null,"キャラクター名",null,null,null,null,{"$f":"IF(キャラメイク!B2=\"\",\"\",キャラメイク!B2)","v":"所長"}]
[]
[null,"プレイヤー名",null,null,null,null,{"$f":"IF(キャラメイク!B3=\"\",\"\",キャラメイク!B3)","v":""}]
[]
[null,null,null,null,null,null,null,null,null,null,null,null,null,null,null,null,null,null,null,null,null,null,null,null,null,null,null,null,null,null,null,null,null,null,null,null,"必体"]
[null,"メイン\nクラス",null,null,null,null,null,null,null,null,null,null,"CL"]
[null,null,null,null,null,null,null,null,null,"Lv",null,null,null,null,null,null,null,null,null,null,null,null,null,null,null,null,null,null,null,null,null,null,null,null,null,null,"攻撃",null,null,null,null,null,null,null,null,null,null,null,null,null,null,null,null,null,null,null,null,null,null,null,null,null,null,null,null,null,null,null,null,null,null,null,null,null,null,"※B4サイズ1ページ"]
[null,"サブ\nクラス",null,null,null,null,null,null,null,null,null,null,"種族"]
[null,null,null,null,null,null,null,null,null,"Lv",null,null,null,null,null,null,null,null,null,null,null,null,null,null,null,null,null,null,null,null,null,null,null,null,null,null,"属性",null,null,null,null,null,null,null,null,null,null,null,null,null,null,null,null,null,null,null,null,null,null,null,null,null,null,null,null,null,null,null,null,null,null,null,null,null,null,"ロゴは仮決定版です"]
[null,"マスター\nクラス",null,null,null,null,null,null,null,null,null,null,"性別"]
[null,null,null,null,null,null,null,null,null,"Lv",null,null,null,null,null,null,null,null,null,null,null,null,null,null,null,null,null,null,null,null,null,null,null,null,null,null,"射程"]
[]
[null,"主能力","体力",null,null,"敏捷",null,null,"感覚",null,null,"知力",null,null,"意志",null,null,null,null,null,null,null,null,null,null,null,null,null,null,null,null,null,null,null,null,null,"命中"]
[]
[null,null,null,null,null,null,null,null,null,null,null,null,null,null,null,null,null,null,null,null,null,null,null,null,null,null,null,null,null,null,null,null,null,null,null,null,"ドッジ"]
[null,null,null,null,null,null,null,null,null,null,null,null,null,null,null,null,null,null,null,null,null,null,null,"大事なもの"]
[null,null,null,null,null,null,null,null,null,null,null,null,null,null,null,null,null,null,null,null,null,null,null,null,null,null,null,null,null,null,null,null,null,null,null,null,"パリイ"]
[]
[null,null,null,null,null,null,null,null,null,null,null,null,null,null,null,null,null,null,null,null,null,null,null,null,null,null,null,null,null,null,null,null,null,null,null,null,"シールド"]
[]
[null,null,null,null,null,null,null,null,null,null,null,null,null,null,null,null,null,null,null,null,null,null,null,null,null,null,null,null,null,null,null,null,null,null,null,null,"抵抗"]
[]
[null,null,"パーソナルデータ",null,null,null,null,null,null,null,null,null,null,null,null,null,null,null,null,null,null,null,null,null,null,null,null,null,null,null,null,null,null,null,null,null,"移動"]
[null,null,null,null,null,null,null,null,null,null,null,null,null,null,null,null,null,null,null,null,null,null,null,null,null,null,"最大",null,null,null,"現在"]
[null,"副能力","HP",null,null,"FP",null,null,"命中",null,null,"回避",null,null,"抵抗",null,null,"移動",null,null,"先制",null,null,null,"HP",null,null,null,null,null,null,null,null,null,null,null,"先制"]
[]
[null,null,null,null,null,null,null,null,null,null,null,null,null,null,null,null,null,null,null,null,null,null,null,null,null,null,null,null,null,null,null,null,null,null,null,null,"防護点",null,null,"打撃"]
[null,"特技",null,null,null,null,null,null,null,null,null,null,null,null,null,null,null,null,null,null,null,null,null,null,"FP"]
[null,null,null,null,null,null,null,null,null,null,null,null,null,null,null,null,null,null,null,null,null,null,null,null,null,null,null,null,null,null,null,null,null,null,null,null,null,null,null,"斬撃"]
[null,"他"]
[null,null,null,null,null,null,null,null,null,null,null,null,null,null,null,null,null,null,null,null,null,null,null,null,"Ft",null,null,null,null,null,null,null,null,null,null,null,null,null,null,"刺突"]
[null,"合計"]
[null,null,null,null,null,null,null,null,null,null,null,null,null,null,null,null,null,null,null,null,null,null,null,null,null,null,null,null,null,null,null,null,null,null,null,null,null,null,null,"火炎"]
[]
[null,"特技",null,null,null,null,null,"SLv",null,"使用タイミング",null,null,null,null,"判定",null,null,null,"射程",null,"FP",null,"効果",null,null,null,null,null,null,null,null,null,null,null,null,null,null,null,null,"冷気"]
[]
[null,null,null,null,null,null,null,null,null,null,null,null,null,null,null,null,null,null,null,null,null,null,null,null,null,null,null,null,null,null,null,null,null,null,null,null,null,null,null,"電撃"]
[]
[null,null,null,null,null,null,null,null,null,null,null,null,null,null,null,null,null,null,null,null,null,null,null,null,null,null,null,null,null,null,null,null,null,null,null,null,"備考"]
[]
[]
[]
[]
[]
[]
[]
[]
[]
[]
[null,null,null,null,null,null,null,null,null,null,null,null,null,null,null,null,null,null,null,null,null,null,null,null,null,null,null,null,null,null,null,null,null,null,null,null,"所持品",null,null,null,null,null,null,"効果",null,null,null,null,null,null,null,null,null,null,"所持品",null,null,null,null,null,null,"効果"]
[]
[]
[]
[]
[]
[]
[null,"有利な特異点",null,null,null,null,null,"効果",null,null,null,null,null,null,null,null,null,null,"不利な特異点",null,null,null,null,null,"効果"]
[]
[]
[]
[]
[null,null,null,null,null,null,null,null,null,null,null,null,null,null,null,null,null,null,null,null,null,null,null,null,null,null,null,null,null,null,null,null,null,null,null,null,"GP",null,null,null,null,null,null,null,null,null,null,null,null,"ｱﾀｯﾁﾒﾝﾄ割引券"]
[]
[null,null,null,null,null,null,null,null,null,null,null,null,null,null,null,null,null,null,null,null,null,null,null,null,null,null,null,null,null,null,null,null,null,null,null,null,null,null,null,null,null,null,null,null,null,null,null,null,null,null,null,null,null,null,null,null,null,null,null,null,null,null,null,"© 2012-2015 ProjectFW"]

{"sheet":"ブランク特技シート","index":8,"n_rows":71,"n_cols":25,"rows_kept":71,"cut":false,"hidden":false,"merged":[[2,17,2,21],[2,22,3,32],[2,36,2,37],[3,36,3,37],[3,40,3,45],[4,17,4,21],[4,22,5,32],[4,36,4,37],[4,40,4,42],[4,43,4,45],[7,56,8,56],[8,1,8,6],[8,7,8,8],[8,9,8,13],[8,14,8,17],[8,18,8,19],[8,20,8,21],[8,22,8,33],[5,36,5,37],[5,40,5,42],[5,43,5,45],[7,36,7,42],[7,43,7,49],[7,50,7,55],[9,37,10,37],[9,38,10,38],[9,39,10,39],[9,40,10,40],[9,1,10,6],[9,7,10,8],[9,9,10,13],[9,14,10,17],[9,18,10,19],[9,20,10,21],[9,53,10,53],[9,54,10,54],[9,55,10,55],[9,56,10,56],[11,1,12,6],[11,7,12,8],[11,9,12,13],[11,14,12,17],[11,18,12,19],[11,20,12,21],[9,47,10,47],[9,48,10,48],[9,49,10,49],[9,50,10,50],[9,51,10,51],[9,52,10,52],[9,41,10,41],[9,42,10,42],[9,43,10,43],[9,44,10,44],[9,45,10,45],[9,46,10,46],[9,22,10,33],[9,36,10,36],[11,54,12,54],[11,55,12,55],[11,56,12,56],[13,1,14,6],[13,7,14,8],[13,9,14,13],[13,14,14,17],[13,18,14,19],[13,20,14,21],[11,47,12,47],[11,48,12,48],[11,49,12,49],[11,50,12,50],[11,51,12,51],[11,52,12,52],[11,41,12,41],[11,42,12,42],[11,43,12,43],[11,44,12,44],[11,45,12,45],[11,46,12,46],[11,22,12,33],[11,36,12,36],[11,37,12,37],[13,45,14,45],[13,46,14,46],[13,22,14,33],[13,36,14,36],[13,37,14,37],[13,38,14,38],[13,39,14,39],[13,40,14,40],[11,53,12,53],[11,38,12,38],[11,39,12,39],[11,40,12,40],[15,37,16,37],[15,38,16,38],[15,39,16,39],[15,40,16,40],[13,53,14,53],[13,54,14,54],[13,55,14,55],[13,56,14,56],[15,1,16,6],[15,7,16,8],[15,9,16,13],[15,14,16,17],[15,18,16,19],[15,20,16,21],[13,47,14,47],[13,48,14,48],[13,49,14,49],[13,50,14,50],[13,51,14,51],[13,52,14,52],[13,41,14,41],[13,42,14,42],[13,43,14,43],[13,44,14,44],[15,53,16,53],[15,54,16,54],[15,55,16,55],[15,56,16,56],[17,1,18,6],[17,7,18,8],[17,9,18,13],[17,14,18,17],[17,18,18,19],[17,20,18,21],[15,47,16,47],[15,48,16,48],[15,49,16,49],[15,50,16,50],[15,51,16,51],[15,52,16,52],[15,41,16,41],[15,42,16,42],[15,43,16,43],[15,44,16,44],[15,45,16,45],[15,46,16,46],[15,22,16,33],[15,36,16,36],[17,54,18,54],[17,55,18,55],[17,56,18,56],[19,1,20,6],[19,7,20,8],[19,9,20,13],[19,14,20,17],[19,18,20,19],[19,20,20,21],[17,47,18,47],[17,48,18,48],[17,49,18,49],[17,50,18,50],[17,51,18,51],[17,52,18,52],[17,41,18,41],[17,42,18,42],[17,43,18,43],[17,44,18,44],[17,45,18,45],[17,46,18,46],[17,22,18,33],[17,36,18,36],[17,37,18,37],[19,45,20,45],[19,46,20,46],[19,22,20,33],[19,36,20,36],[19,37,20,37],[19,38,20,38],[19,39,20,39],[19,40,20,40],[17,53,18,53],[17,38,18,38],[17,39,18,39],[17,40,18,40],[21,37,22,37],[21,38,22,38],[21,39,22,39],[21,40,22,40],[19,53,20,53],[19,54,20,54],[19,55,20,55],[19,56,20,56],[21,1,22,6],[21,7,22,8],[21,9,22,13],[21,14,22,17],[21,18,22,19],[21,20,22,21],[19,47,20,47],[19,48,20,48],[19,49,20,49],[19,50,20,50],[19,51,20,51],[19,52,20,52],[19,41,20,41],[19,42,20,42],[19,43,20,43],[19,44,20,44],[21,53,22,53],[21,54,22,54],[21,55,22,55],[21,56,22,56],[23,1,24,6],[23,7,24,8],[23,9,24,13],[23,14,24,17],[23,18,24,19],[23,20,24,21],[21,47,22,47],[21,48,22,48],[21,49,22,49],[21,50,22,50],[21,51,22,51],[21,52,22,52],[21,41,22,41],[21,42,22,42],[21,43,22,43],[21,44,22,44],[21,45,22,45],[21,46,22,46],[21,22,22,33],[21,36,22,36],[23,54,24,54],[23,55,24,55],[23,56,24,56],[25,1,26,6],[25,7,26,8],[25,9,26,13],[25,14,26,17],[25,18,26,19],[25,20,26,21],[23,47,24,47],[23,48,24,48],[23,49,24,49],[23,50,24,50],[23,51,24,51],[23,52,24,52],[23,41,24,41],[23,42,24,42],[23,43,24,43],[23,44,24,44],[23,45,24,45],[23,46,24,46],[23,22,24,33],[23,36,24,36],[23,37,24,37],[25,45,26,45],[25,46,26,46],[25,22,26,33],[25,36,26,36],[25,37,26,37],[25,38,26,38],[25,39,26,39],[25,40,26,40],[23,53,24,53],[23,38,24,38],[23,39,24,39],[23,40,24,40],[27,36,28,36],[27,37,28,37],[27,38,28,38],[27,39,28,39],[25,53,26,53],[25,54,26,54],[25,55,26,55],[25,56,26,56],[27,1,28,6],[27,7,28,8],[27,9,28,13],[27,14,28,17],[27,18,28,19],[27,20,28,21],[25,47,26,47],[25,48,26,48],[25,49,26,49],[25,50,26,50],[25,51,26,51],[25,52,26,52],[25,41,26,41],[25,42,26,42],[25,43,26,43],[25,44,26,44],[27,52,28,52],[27,53,28,53],[27,54,28,54],[27,55,28,55],[27,56,28,56],[29,1,30,6],[29,7,30,8],[29,9,30,13],[29,14,30,17],[29,18,30,19],[27,46,28,46],[27,47,28,47],[27,48,28,48],[27,49,28,49],[27,50,28,50],[27,51,28,51],[27,40,28,40],[27,41,28,41],[27,42,28,42],[27,43,28,43],[27,44,28,44],[27,45,28,45],[27,22,28,33],[27,35,28,35],[29,20,30,21],[29,22,30,33],[29,36,30,36],[29,37,30,37],[29,38,30,38],[29,39,30,39],[31,36,32,36],[31,37,32,37],[31,38,32,38],[29,46,30,46],[29,47,30,47],[29,48,30,48],[29,49,30,49],[29,40,30,40],[29,41,30,41],[29,42,30,42],[29,43,30,43],[29,44,30,44],[29,45,30,45],[29,52,30,52],[29,53,30,53],[29,54,30,54],[29,55,30,55],[29,56,30,56],[29,50,30,50],[29,51,30,51],[31,52,32,52],[31,53,32,53],[31,54,32,54],[31,55,32,55],[31,56,32,56],[31,50,32,50],[31,51,32,51],[33,1,34,6],[33,7,34,8],[33,9,34,13],[33,14,34,17],[33,18,34,19],[31,46,32,46],[31,47,32,47],[31,48,32,48],[31,49,32,49],[31,40,32,40],[31,41,32,41],[31,42,32,42],[31,43,32,43],[31,44,32,44],[31,45,32,45],[31,20,32,21],[31,22,32,33],[31,39,32,39],[31,1,32,6],[31,7,32,8],[31,9,32,13],[31,14,32,17],[31,18,32,19],[33,20,34,21],[33,22,34,33],[33,36,34,36],[33,37,34,37],[33,38,34,38],[33,39,34,39],[35,36,36,36],[35,37,36,37],[35,38,36,38],[33,46,34,46],[33,47,34,47],[33,48,34,48],[33,49,34,49],[33,40,34,40],[33,41,34,41],[33,42,34,42],[33,43,34,43],[33,44,34,44],[33,45,34,45],[33,52,34,52],[33,53,34,53],[33,54,34,54],[33,55,34,55],[33,56,34,56],[33,50,34,50],[33,51,34,51],[35,52,36,52],[35,53,36,53],[35,54,36,54],[35,55,36,55],[35,56,36,56],[35,50,36,50],[35,51,36,51],[37,1,38,6],[37,7,38,8],[37,9,38,13],[37,14,38,17],[37,18,38,19],[35,46,36,46],[35,47,36,47],[35,48,36,48],[35,49,36,49],[35,40,36,40],[35,41,36,41],[35,42,36,42],[35,43,36,43],[35,44,36,44],[35,45,36,45],[35,20,36,21],[35,22,36,33],[35,39,36,39],[35,1,36,6],[35,7,36,8],[35,9,36,13],[35,14,36,17],[35,18,36,19],[37,20,38,21],[37,22,38,33],[37,36,38,36],[37,37,38,37],[37,38,38,38],[37,39,38,39],[39,36,40,36],[39,37,40,37],[39,38,40,38],[37,46,38,46],[37,47,38,47],[37,48,38,48],[37,49,38,49],[37,40,38,40],[37,41,38,41],[37,42,38,42],[37,43,38,43],[37,44,38,44],[37,45,38,45],[37,52,38,52],[37,53,38,53],[37,54,38,54],[37,55,38,55],[37,56,38,56],[37,50,38,50],[37,51,38,51],[39,52,40,52],[39,53,40,53],[39,54,40,54],[39,55,40,55],[39,56,40,56],[39,50,40,50],[39,51,40,51],[41,1,42,6],[41,7,42,8],[41,9,42,13],[41,14,42,17],[41,18,42,19],[39,46,40,46],[39,47,40,47],[39,48,40,48],[39,49,40,49],[39,40,40,40],[39,41,40,41],[39,42,40,42],[39,43,40,43],[39,44,40,44],[39,45,40,45],[39,20,40,21],[39,22,40,33],[39,39,40,39],[39,1,40,6],[39,7,40,8],[39,9,40,13],[39,14,40,17],[39,18,40,19],[41,20,42,21],[41,22,42,33],[41,36,42,36],[41,37,42,37],[41,38,42,38],[41,39,42,39],[43,36,44,36],[43,37,44,37],[43,38,44,38],[41,46,42,46],[41,47,42,47],[41,48,42,48],[41,49,42,49],[41,40,42,40],[41,41,42,41],[41,42,42,42],[41,43,42,43],[41,44,42,44],[41,45,42,45],[41,52,42,52],[41,53,42,53],[41,54,42,54],[41,55,42,55],[41,56,42,56],[41,50,42,50],[41,51,42,51],[43,52,44,52],[43,53,44,53],[43,54,44,54],[43,55,44,55],[43,56,44,56],[43,50,44,50],[43,51,44,51],[45,1,46,6],[45,7,46,8],[45,9,46,13],[45,14,46,17],[45,18,46,19],[43,46,44,46],[43,47,44,47],[43,48,44,48],[43,49,44,49],[43,40,44,40],[43,41,44,41],[43,42,44,42],[43,43,44,43],[43,44,44,44],[43,45,44,45],[43,20,44,21],[43,22,44,33],[43,39,44,39],[43,1,44,6],[43,7,44,8],[43,9,44,13],[43,14,44,17],[43,18,44,19],[45,20,46,21],[45,22,46,33],[45,36,46,36],[45,37,46,37],[45,38,46,38],[45,39,46,39],[47,36,48,36],[47,37,48,37],[47,38,48,38],[45,46,46,46],[45,47,46,47],[45,48,46,48],[45,49,46,49],[45,40,46,40],[45,41,46,41],[45,42,46,42],[45,43,46,43],[45,44,46,44],[45,45,46,45],[45,52,46,52],[45,53,46,53],[45,54,46,54],[45,55,46,55],[45,56,46,56],[45,50,46,50],[45,51,46,51],[47,52,48,52],[47,53,48,53],[47,54,48,54],[47,55,48,55],[47,56,48,56],[47,50,48,50],[47,51,48,51],[49,1,50,6],[49,7,50,8],[49,9,50,13],[49,14,50,17],[49,18,50,19],[47,46,48,46],[47,47,48,47],[47,48,48,48],[47,49,48,49],[47,40,48,40],[47,41,48,41],[47,42,48,42],[47,43,48,43],[47,44,48,44],[47,45,48,45],[47,20,48,21],[47,22,48,33],[47,39,48,39],[47,1,48,6],[47,7,48,8],[47,9,48,13],[47,14,48,17],[47,18,48,19],[49,20,50,21],[49,22,50,33],[49,36,50,36],[49,37,50,37],[49,38,50,38],[49,39,50,39],[51,36,52,36],[51,37,52,37],[51,38,52,38],[49,46,50,46],[49,47,50,47],[49,48,50,48],[49,49,50,49],[49,40,50,40],[49,41,50,41],[49,42,50,42],[49,43,50,43],[49,44,50,44],[49,45,50,45],[49,52,50,52],[49,53,50,53],[49,54,50,54],[49,55,50,55],[49,56,50,56],[49,50,50,50],[49,51,50,51],[51,52,52,52],[51,53,52,53],[51,54,52,54],[51,55,52,55],[51,56,52,56],[51,50,52,50],[51,51,52,51],[53,1,54,6],[53,7,54,8],[53,9,54,13],[53,14,54,17],[53,18,54,19],[51,46,52,46],[51,47,52,47],[51,48,52,48],[51,49,52,49],[51,40,52,40],[51,41,52,41],[51,42,52,42],[51,43,52,43],[51,44,52,44],[51,45,52,45],[51,20,52,21],[51,22,52,33],[51,39,52,39],[51,1,52,6],[51,7,52,8],[51,9,52,13],[51,14,52,17],[51,18,52,19],[53,20,54,21],[53,22,54,33],[53,36,54,36],[53,37,54,37],[53,38,54,38],[53,39,54,39],[55,36,56,36],[55,37,56,37],[55,38,56,38],[53,46,54,46],[53,47,54,47],[53,48,54,48],[53,49,54,49],[53,40,54,40],[53,41,54,41],[53,42,54,42],[53,43,54,43],[53,44,54,44],[53,45,54,45],[53,52,54,52],[53,53,54,53],[53,54,54,54],[53,55,54,55],[53,56,54,56],[53,50,54,50],[53,51,54,51],[55,52,56,52],[55,53,56,53],[55,54,56,54],[55,55,56,55],[55,56,56,56],[55,50,56,50],[55,51,56,51],[57,1,58,6],[57,7,58,8],[57,9,58,13],[57,14,58,17],[57,18,58,19],[55,46,56,46],[55,47,56,47],[55,48,56,48],[55,49,56,49],[55,40,56,40],[55,41,56,41],[55,42,56,42],[55,43,56,43],[55,44,56,44],[55,45,56,45],[55,20,56,21],[55,22,56,33],[55,39,56,39],[55,1,56,6],[55,7,56,8],[55,9,56,13],[55,14,56,17],[55,18,56,19],[57,20,58,21],[57,22,58,33],[57,36,58,36],[57,37,58,37],[57,38,58,38],[57,39,58,39],[59,36,60,36],[59,37,60,37],[59,38,60,38],[57,46,58,46],[57,47,58,47],[57,48,58,48],[57,49,58,49],[57,40,58,40],[57,41,58,41],[57,42,58,42],[57,43,58,43],[57,44,58,44],[57,45,58,45],[57,52,58,52],[57,53,58,53],[57,54,58,54],[57,55,58,55],[57,56,58,56],[57,50,58,50],[57,51,58,51],[59,52,60,52],[59,53,60,53],[59,54,60,54],[59,55,60,55],[59,56,60,56],[59,50,60,50],[59,51,60,51],[61,1,62,6],[61,7,62,8],[61,9,62,13],[61,14,62,17],[61,18,62,19],[59,46,60,46],[59,47,60,47],[59,48,60,48],[59,49,60,49],[59,40,60,40],[59,41,60,41],[59,42,60,42],[59,43,60,43],[59,44,60,44],[59,45,60,45],[59,20,60,21],[59,22,60,33],[59,39,60,39],[59,1,60,6],[59,7,60,8],[59,9,60,13],[59,14,60,17],[59,18,60,19],[61,20,62,21],[61,22,62,33],[61,36,62,36],[61,37,62,37],[61,38,62,38],[61,39,62,39],[63,36,64,36],[63,37,64,37],[63,38,64,38],[61,46,62,46],[61,47,62,47],[61,48,62,48],[61,49,62,49],[61,40,62,40],[61,41,62,41],[61,42,62,42],[61,43,62,43],[61,44,62,44],[61,45,62,45],[61,52,62,52],[61,53,62,53],[61,54,62,54],[61,55,62,55],[61,56,62,56],[61,50,62,50],[61,51,62,51],[63,52,64,52],[63,53,64,53],[63,54,64,54],[63,55,64,55],[63,56,64,56],[63,50,64,50],[63,51,64,51],[65,1,66,6],[65,7,66,8],[65,9,66,13],[65,14,66,17],[65,18,66,19],[63,46,64,46],[63,47,64,47],[63,48,64,48],[63,49,64,49],[63,40,64,40],[63,41,64,41],[63,42,64,42],[63,43,64,43],[63,44,64,44],[63,45,64,45],[63,20,64,21],[63,22,64,33],[63,39,64,39],[63,1,64,6],[63,7,64,8],[63,9,64,13],[63,14,64,17],[63,18,64,19],[65,55,66,55],[65,56,66,56],[67,1,68,6],[67,7,68,8],[67,9,68,13],[67,14,68,17],[67,18,68,19],[65,46,66,46],[65,47,66,47],[65,48,66,48],[65,49,66,49],[65,50,66,50],[65,51,66,51],[65,40,66,40],[65,41,66,41],[65,42,66,42],[65,43,66,43],[65,44,66,44],[65,45,66,45],[65,20,66,21],[65,22,66,33],[65,36,66,36],[65,37,66,37],[65,38,66,38],[67,20,68,21],[67,22,68,33],[67,36,68,36],[67,37,68,37],[67,38,68,38],[67,39,68,39],[65,52,66,52],[65,53,66,53],[65,54,66,54],[65,39,66,39],[67,52,68,52],[67,53,68,53],[67,54,68,54],[67,55,68,55],[67,56,68,56],[69,36,70,36],[69,37,70,37],[69,38,70,38],[69,39,70,39],[69,40,70,40],[67,46,68,46],[67,47,68,47],[67,48,68,48],[67,49,68,49],[67,50,68,50],[67,51,68,51],[67,40,68,40],[67,41,68,41],[67,42,68,42],[67,43,68,43],[67,44,68,44],[67,45,68,45],[72,36,72,42],[72,43,72,49],[72,50,72,55],[69,53,70,53],[69,54,70,54],[69,55,70,55],[69,56,70,56],[69,57,70,57],[71,56,72,56],[69,47,70,47],[69,48,70,48],[69,49,70,49],[69,50,70,50],[69,51,70,51],[69,52,70,52],[69,41,70,41],[69,42,70,42],[69,43,70,43],[69,44,70,44],[69,45,70,45],[69,46,70,46]]}
[]
[]
[null,null,null,null,null,null,null,null,null,null,null,null,null,null,null,null,null,"キャラクター名"]
[]
[null,null,null,null,null,null,null,null,null,null,null,null,null,null,null,null,null,"プレイヤー名"]
[]
[]
[]
[null,"名称",null,null,null,null,null,"SLv",null,"使用タイミング",null,null,null,null,"判定",null,null,null,"射程",null,"FP",null,"効果"]
[]
[]
[]
[]
[]
[]
[]
[]
[]
[]
[]
[]
[]
[]
[]
[]
[]
[]
[]
[]
[]
[]
[]
[]
[]
[]
[]
[]
[]
[]
[]
[]
[]
[]
[]
[]
[]
[]
[]
[]
[]
[]
[]
[]
[]
[]
[]
[]
[]
[]
[]
[]
[]
[]
[]
[]
[]
[]
[]
[]
[]
[null,null,null,null,null,null,null,null,null,null,null,null,null,null,null,null,null,null,null,null,null,null,null,null,"© 2012-2015 ProjectFW"]